BEGIN:VCALENDAR
VERSION:2.0
PRODID:-//Liveonstage.Guide - ECPv6.15.17.1//NONSGML v1.0//EN
CALSCALE:GREGORIAN
METHOD:PUBLISH
X-WR-CALNAME:Liveonstage.Guide
X-ORIGINAL-URL:https://liveonstage.guide
X-WR-CALDESC:Events for Liveonstage.Guide
REFRESH-INTERVAL;VALUE=DURATION:PT1H
X-Robots-Tag:noindex
X-PUBLISHED-TTL:PT1H
BEGIN:VTIMEZONE
TZID:Europe/London
BEGIN:DAYLIGHT
TZOFFSETFROM:+0000
TZOFFSETTO:+0100
TZNAME:BST
DTSTART:20240331T010000
END:DAYLIGHT
BEGIN:STANDARD
TZOFFSETFROM:+0100
TZOFFSETTO:+0000
TZNAME:GMT
DTSTART:20241027T010000
END:STANDARD
BEGIN:DAYLIGHT
TZOFFSETFROM:+0000
TZOFFSETTO:+0100
TZNAME:BST
DTSTART:20250330T010000
END:DAYLIGHT
BEGIN:STANDARD
TZOFFSETFROM:+0100
TZOFFSETTO:+0000
TZNAME:GMT
DTSTART:20251026T010000
END:STANDARD
BEGIN:DAYLIGHT
TZOFFSETFROM:+0000
TZOFFSETTO:+0100
TZNAME:BST
DTSTART:20260329T010000
END:DAYLIGHT
BEGIN:STANDARD
TZOFFSETFROM:+0100
TZOFFSETTO:+0000
TZNAME:GMT
DTSTART:20261025T010000
END:STANDARD
END:VTIMEZONE
BEGIN:VEVENT
DTSTART;TZID=Europe/London:20251201T200000
DTEND;TZID=Europe/London:20251201T230000
DTSTAMP:20260424T233516
CREATED:20251126T153911Z
LAST-MODIFIED:20251126T154100Z
UID:3029-1764619200-1764630000@liveonstage.guide
SUMMARY:Talent Showcase at Main Line Social Club\, Wortley\, Leeds LS13 4LS
DESCRIPTION:Main Line Social Club is situated on Pudsey Road in Wortley\, down the road from Bramley\, and close to the Leeds Outer Ring Road. They boast a great programme of entertainment on Saturday Night\, and both Sunday Afternoon and Sunday Night. It is a Member’s Club\, and only Member’s Children are allowed entry. \nEntertainment is supplied by Ricky Graham Leisure\, and typically features Duos or Groups on Saturday Nights\, and solo Artists on Sunday Afternoon (from 3pm) and Evenings. \nThe Monthly Leeds CIU Entertainment Section\nMonthly Showcase featuring 4 Quality Acts\nShow to start at 8.20pm * Bingo * Raffle * Everybody Welcome * No Admission Charge * Be Early!\nin conjunction with Ashley Wheelhouse Agency / Ricky Graham Leisure / The Crossland Agency
URL:https://liveonstage.guide/event/3029/
LOCATION:Main Line Social Club\, Pudsey Road\, Wortley\, Leeds\, West Yorkshire\, LS13 4LS
CATEGORIES:Showcase
END:VEVENT
BEGIN:VEVENT
DTSTART;TZID=Europe/London:20251201T213000
DTEND;TZID=Europe/London:20251202T003000
DTSTAMP:20260424T233516
CREATED:20251027T003712Z
LAST-MODIFIED:20251027T003712Z
UID:2457-1764624600-1764635400@liveonstage.guide
SUMMARY:Jam Night at The Blues Bar\, Harrogate HG1 2TJ
DESCRIPTION:The Blues Bar in Harrogate is a “Rollicking night-time Blues Music Hangout and relaxed Daytime Café and Bar with a Funky Décor” according to their web site\, and it’s difficult to improve upon that exact description. \nIt’s a small Café style venue in Harrogate Town Centre\, literally a few seconds walk from the world famous Betty’s Tea Room & Café\, with a small stage\, probably fewer than 30 seats\, but with a fantastic intimate atmosphere\, and with an exceptional program of Live Entertainment every night of the week. \nCheck for occasional variations\, but Martin Rose hosts a Jam Night every Monday and then the Acoustic Sessions every Tuesday\, the fabulous Maurice Grumbleweed presents his relaxed Blues Night every Wednesday\, with more than a touch of the humour that made him and his fellow Grumbleweeds into National Treasures\, and Guest Bands / Artistes on Thursday\, Friday\, Saturday and double or occasionally treble up Bands all day on Sunday. \n[Strongly recommended] \nMonday 1st December is Jam Night hosted by Martin Rose \n(from 9.30pm)
URL:https://liveonstage.guide/event/jam-night-at-the-blues-bar-harrogate-hg1-2tj-5/
LOCATION:Blues Bar\, 4 Montpellier Parade\, Harrogate\, North Yorkshire\, HG1 2TJ
CATEGORIES:Jam Night
END:VEVENT
END:VCALENDAR