BEGIN:VCALENDAR
VERSION:2.0
PRODID:-//Liveonstage.Guide - ECPv6.15.17.1//NONSGML v1.0//EN
CALSCALE:GREGORIAN
METHOD:PUBLISH
X-ORIGINAL-URL:https://liveonstage.guide
X-WR-CALDESC:Events for Liveonstage.Guide
REFRESH-INTERVAL;VALUE=DURATION:PT1H
X-Robots-Tag:noindex
X-PUBLISHED-TTL:PT1H
BEGIN:VTIMEZONE
TZID:Europe/London
BEGIN:DAYLIGHT
TZOFFSETFROM:+0000
TZOFFSETTO:+0100
TZNAME:BST
DTSTART:20240331T010000
END:DAYLIGHT
BEGIN:STANDARD
TZOFFSETFROM:+0100
TZOFFSETTO:+0000
TZNAME:GMT
DTSTART:20241027T010000
END:STANDARD
BEGIN:DAYLIGHT
TZOFFSETFROM:+0000
TZOFFSETTO:+0100
TZNAME:BST
DTSTART:20250330T010000
END:DAYLIGHT
BEGIN:STANDARD
TZOFFSETFROM:+0100
TZOFFSETTO:+0000
TZNAME:GMT
DTSTART:20251026T010000
END:STANDARD
BEGIN:DAYLIGHT
TZOFFSETFROM:+0000
TZOFFSETTO:+0100
TZNAME:BST
DTSTART:20260329T010000
END:DAYLIGHT
BEGIN:STANDARD
TZOFFSETFROM:+0100
TZOFFSETTO:+0000
TZNAME:GMT
DTSTART:20261025T010000
END:STANDARD
END:VTIMEZONE
BEGIN:VEVENT
DTSTART;TZID=Europe/London:20251207T150000
DTEND;TZID=Europe/London:20251207T230000
DTSTAMP:20260422T144436
CREATED:20251126T151030Z
LAST-MODIFIED:20251126T151742Z
UID:3021-1765119600-1765148400@liveonstage.guide
SUMMARY:Afternoon & Evening Shows at Main Line Social Club\, Wortley\, Leeds LS13 4LS
DESCRIPTION:Main Line Social Club is situated on Pudsey Road in Wortley\, down the road from Bramley\, and close to the Leeds Outer Ring Road. They boast a great programme of entertainment on Saturday Night\, and both Sunday Afternoon and Sunday Night. It is a Member’s Club\, and only Member’s Children are allowed entry. \nEntertainment is supplied by Ricky Graham Leisure\, and typically features Duos or Groups on Saturday Nights\, and solo Artists on Sunday Afternoon (from 3pm) and Evenings. \nThe Artists appearing on Sunday 7th December are:\n3pm: Jonny Guest – Top Male Vocalist\n8pm: Lina – Excellent Personality Female Vocalist
URL:https://liveonstage.guide/event/afternoon-evening-shows-at-main-line-social-club-wortley-leeds-ls13-4ls/
LOCATION:Main Line Social Club\, Pudsey Road\, Wortley\, Leeds\, West Yorkshire\, LS13 4LS
CATEGORIES:Afternoon Show,Social Club Entertainment Night - with Bingo!
END:VEVENT
BEGIN:VEVENT
DTSTART;TZID=Europe/London:20251207T180000
DTEND;TZID=Europe/London:20251207T210000
DTSTAMP:20260422T144436
CREATED:20251124T144440Z
LAST-MODIFIED:20251124T144440Z
UID:2924-1765130400-1765141200@liveonstage.guide
SUMMARY:Brandon Symonds at The Blues Bar
DESCRIPTION:https://www.facebook.com/brandon.symonds.142
URL:https://liveonstage.guide/event/brandon-symonds-at-the-blues-bar/
LOCATION:Blues Bar\, 4 Montpellier Parade\, Harrogate\, North Yorkshire\, HG1 2TJ
END:VEVENT
BEGIN:VEVENT
DTSTART;TZID=Europe/London:20251207T180000
DTEND;TZID=Europe/London:20251207T220000
DTSTAMP:20260422T144436
CREATED:20251123T230854Z
LAST-MODIFIED:20251123T230854Z
UID:2884-1765130400-1765144800@liveonstage.guide
SUMMARY:Maurice Grumbleweed at The Junction\, Otley\, Leeds LS21 1AD
DESCRIPTION:The Junction Inn is a traditional Pub in Otley\, West Yorkshire and besides serving up a wide range of fine ales\, they also have weekly Live Music. The roaring fire will keep you warm during the winter months\, whilst Maurice Grumbleweed on a Sunday evening (from 6pm)a nd Live Bands on a Saturday Night offer the best variety of Entertainment in town. The Junction is less thana 2 minute walk from Otley Bus Station\, with a regular Bus service to Leeds and Ilkley. \nMaurice Grumbleweed was a founder member of the nationally famous and Multi Award winning Comedy Band – The Grumbleweeds\, most of whom were from Leeds. They formed in the 1960’s\, and following success on the TV Talent Show ‘Opportunity Knocks’  they toured the UK playing to packed houses through the 1970s. \nSpotted at Batley Variety Club by Radio Producer Mike Craig\, they were commissioned to produce a Radio Programme on BBC Radio 2\, and such was the show’s popularity that it continued throughout the 1980s and into the 1990s. Maurice left the Band in 1998 and spent some time running a Gallery in North Yorkshire\, but the call of Show Business eventually drew him back\, and although his schedule is now a little less hectic\, he’s lost none of his Musical prowess or Comedy timing. He is a firm favourite both at his Wednesday Night residency at The Blues Bar in Harrogate\, and The Junction in Otley (early Sunday Evening) but also with the occasional Cruise Ship Work. when a more than capable replacement show is presented. \nThere will be a Show from Maurice Grumbleweed on Sunday\, 7th December from 6pm.
URL:https://liveonstage.guide/event/maurice-grumbleweed-at-the-junction-otley-leeds-ls21-1ad/
LOCATION:Junction Inn\, 44\, Bondgate\,\, Otley\, West Yorkshire\, LS21 1AD\, United Kingdom
CATEGORIES:Acoustic / Blues / Comedy with Maurice Grumbleweed,Afternoon Show
END:VEVENT
BEGIN:VEVENT
DTSTART;TZID=Europe/London:20251207T200000
DTEND;TZID=Europe/London:20251207T230000
DTSTAMP:20260422T144436
CREATED:20251125T185249Z
LAST-MODIFIED:20251125T185249Z
UID:3010-1765137600-1765148400@liveonstage.guide
SUMMARY:Louise Webster at Moortown Social Club\, Leeds LS
DESCRIPTION:
URL:https://liveonstage.guide/event/louise-webster-at-moortown-social-club-leeds-ls/
LOCATION:West Yorkshire
END:VEVENT
BEGIN:VEVENT
DTSTART;TZID=Europe/London:20251207T200000
DTEND;TZID=Europe/London:20251207T230000
DTSTAMP:20260422T144436
CREATED:20251126T163219Z
LAST-MODIFIED:20251126T163219Z
UID:3047-1765137600-1765148400@liveonstage.guide
SUMMARY:Oliver Kerr at Swarcliffe W. M. C.\, Leeds LS145HE
DESCRIPTION:Swarcliffe is a residential area in Leeds 14 about 4 miles from Leeds City Centre and bordered by Seacroft\, Whinmoor and Thorner. Swarcliffe Working Men’s Club has an extensive programme of Live Entertainment with shows on both Saturday and Sunday Evenings\, as well as Houses of Bingo and Open the Box. This is a Member’s Club and although Affiliated Club Members and Bona Fide Guests are welcome\, children are not allowed entry.\n\n\n\n\nCoach Parties are welcome by arrangement and food can be arranged upon request.\n\n\nThe Club operates a strict Dress Code\, requiring Members and Guests to wear Smart Casual Dress. \nEntertainment is supplied by Ashley Wheelhouse Agency.\nOliver Kerr appears on Sunday 7th December\nbilled as ‘Great young Male Vocalist’
URL:https://liveonstage.guide/event/oliver-kerr-at-swarcliffe-w-m-c-leeds-ls145he/
LOCATION:Swarcliffe W. M. C.\,\, Swarclifffe Avenue\, Leeds\, West Yorkshire\, LS14 5HE
CATEGORIES:Musical Cabaret,Social Club Entertainment Night - with Bingo!
END:VEVENT
BEGIN:VEVENT
DTSTART;TZID=Europe/London:20251207T200000
DTEND;TZID=Europe/London:20251207T230000
DTSTAMP:20260422T144436
CREATED:20251202T184959Z
LAST-MODIFIED:20251202T184959Z
UID:3142-1765137600-1765148400@liveonstage.guide
SUMMARY:Craig Michael at Jubilee Social Club\, Leeds
DESCRIPTION:The Jubilee Social Club is located in Woodhouse\, an area just to the north of Leeds City Centre\, probably best known for the Woodhouse Moor and being close to the University of Leeds. \nThe Club has been a Community Hub for many years\, and provides a great choice of Live Entertainment for it’s Members\, Affiliated CIU Members and Bona Fide Guests alike. Besides presenting Guest Artists every Saturday and Sunday Evenings\, there are sessions of Cash Bingo during the week\, together of course with  a wide choice of very reasonably priced drinks. \nA Function Room is for hire\, by arrangement with the Club. \nThe Artist on Sunday 7th December is Craig Michael (Top Male Vocal Inst Entertainer)\nThe Artist on Sunday 14th December is Tomas Marx (Top Male Vocal Entertainer)\nThe Artist on Sunday 21st December is Oliver Kerr (Great young Male Vocalist)\nThe Artist on Sunday 28th December is Charlie Grace (Great Female personality vocalist)\nJubilee Social Club\, Woodhouse\, Leeds\, 7th December\, Craig Michael\, \nCraig Michael at Jubilee Social Club\, Leeds
URL:https://liveonstage.guide/event/craig-michael-at-jubilee-social-club-leeds/
LOCATION:Jubilee Social Club\, Melville Place\, Woodhouse\,\, Leeds\, West Yorkshire\, LS6 2LZ
END:VEVENT
BEGIN:VEVENT
DTSTART;TZID=Europe/London:20251207T210000
DTEND;TZID=Europe/London:20251207T233000
DTSTAMP:20260422T144436
CREATED:20251124T144616Z
LAST-MODIFIED:20251124T144616Z
UID:2926-1765141200-1765150200@liveonstage.guide
SUMMARY:Ed Balls Band at The Blues Bar
DESCRIPTION:Covers band: Queen\, Meatloaf\, The Beatles\, ABBA\, Fleetwood Mac\, Huey Lewis & The News\, and more \nwww.facebook.com/profile.php?id=100087000492484
URL:https://liveonstage.guide/event/ed-balls-band-at-the-blues-bar/
LOCATION:West Yorkshire
END:VEVENT
END:VCALENDAR