BEGIN:VCALENDAR
VERSION:2.0
PRODID:-//Liveonstage.Guide - ECPv6.15.17.1//NONSGML v1.0//EN
CALSCALE:GREGORIAN
METHOD:PUBLISH
X-WR-CALNAME:Liveonstage.Guide
X-ORIGINAL-URL:https://liveonstage.guide
X-WR-CALDESC:Events for Liveonstage.Guide
REFRESH-INTERVAL;VALUE=DURATION:PT1H
X-Robots-Tag:noindex
X-PUBLISHED-TTL:PT1H
BEGIN:VTIMEZONE
TZID:Europe/London
BEGIN:DAYLIGHT
TZOFFSETFROM:+0000
TZOFFSETTO:+0100
TZNAME:BST
DTSTART:20240331T010000
END:DAYLIGHT
BEGIN:STANDARD
TZOFFSETFROM:+0100
TZOFFSETTO:+0000
TZNAME:GMT
DTSTART:20241027T010000
END:STANDARD
BEGIN:DAYLIGHT
TZOFFSETFROM:+0000
TZOFFSETTO:+0100
TZNAME:BST
DTSTART:20250330T010000
END:DAYLIGHT
BEGIN:STANDARD
TZOFFSETFROM:+0100
TZOFFSETTO:+0000
TZNAME:GMT
DTSTART:20251026T010000
END:STANDARD
BEGIN:DAYLIGHT
TZOFFSETFROM:+0000
TZOFFSETTO:+0100
TZNAME:BST
DTSTART:20260329T010000
END:DAYLIGHT
BEGIN:STANDARD
TZOFFSETFROM:+0100
TZOFFSETTO:+0000
TZNAME:GMT
DTSTART:20261025T010000
END:STANDARD
END:VTIMEZONE
BEGIN:VEVENT
DTSTART;TZID=Europe/London:20251215T193000
DTEND;TZID=Europe/London:20251215T230000
DTSTAMP:20260424T131903
CREATED:20251215T043043Z
LAST-MODIFIED:20251215T043327Z
UID:3296-1765827000-1765839600@liveonstage.guide
SUMMARY:The Loveless at Brudenell Social Club\, Leeds LS6 1NY
DESCRIPTION:The Brudenell is one of the foremost and most popular Live Music Venues in the City of Leeds and is described by the Venue themselves as : ‘A lively and fun loving Venue that embraces Music and Art under a wide and diverse umbrella that has no boundaries.’ \nThe Brudenell has been in the past most famous for hosting secret gigs for bands such as Franz Ferdinand and the Kaiser Chiefs. However\, it has been a centrepiece of the Leeds music scene for a number of years\, and hosts events most nights of the week\, by local promoters\, covering a wide spectrum of genres. It’s location\, near to The University of Leeds means it has a large student following\, which results in high attendance for most shows. \nThe name is said to come from the family of James Thomas Brudenell\, who owned nearby Kirkstall Abbey after it ceased to be a monastery in 1539. He was also Earl of Cardigan\, which would explain why so many roads in the Hyde Park area of Leeds are named Cardigan and Brudenell. \nThe Brudenell Social and Recreational Club has a long and varied history and was originally formed in December 1913\, in the location where it is still stands today. However the Brudenell is not just about music\, and other facilities include a Lounge\, Games Room with Snooker Table\, 5 Pool Tables\, Darts\, Table Football\, two Concert Rooms\, and Sky TV and BT Sport on large screen TV showing all major live sports events in HD. \nLocal Cask and other World Speciality Craft Ales sit alongside well known accessible brands\, all at a fair price. Local groups also meeting there include Photography\, Film and even Origami! \nThe Loveless (featuring Marc Almond) appear on Monday 15th December\nThe Loveless ft Marc Almond make their debut at Leeds Brudenell Social Club on Monday 15th December as part of their annual ‘Loveless Christmas’ tour.\n\nMarc Almond and long-term guitarist/sideman Neal X have recruited Punk icon Iggy Pop’s stupendous rhythm section\, Ben Ellis and Mat Hector\, to form “The Loveless”. Drawing material from Marc’s immense back catalogue the band serve up songs that awoke their delinquent desire to play snaky tunes played in seamy dives\, the band deliver a potent brew of ’70s rock\, ’60s R&B and Garage Rock with nods to T. Rex\, Iggy\, David Bowie and Alice Cooper.  It’s quite simply a thunderous return to the band members primeval rock roots.\n\n‘’Songs for sailors ‘n’ sluts\, wantons ‘n’ night hawks\, sirens ‘n’ sinners\, werewolves ‘n’ kittens\, the misbegotten and the unforgiven’’ – The Loveless\n‘’Britain’s best Garage Rock Band” – Louder Than War
URL:https://liveonstage.guide/event/the-loveless-at-brudenell-social-club-leeds-ls6-1ny/
LOCATION:Brudenell Social Club\, 33 Queens Road\, Burley\, Leeds\, West Yorkshire\, LS6 1NY
CATEGORIES:Live Band on Stage
END:VEVENT
BEGIN:VEVENT
DTSTART;TZID=Europe/London:20251215T213000
DTEND;TZID=Europe/London:20251216T003000
DTSTAMP:20260424T131903
CREATED:20251027T004359Z
LAST-MODIFIED:20251027T004359Z
UID:2461-1765834200-1765845000@liveonstage.guide
SUMMARY:Jam Night at The Blues Bar\, Harrogate HG1 2TJ
DESCRIPTION:The Blues Bar in Harrogate is a “Rollicking night-time Blues Music Hangout and relaxed Daytime Café and Bar with a Funky Décor” according to their web site\, and it’s difficult to improve upon that exact description. \nIt’s a small Café style venue in Harrogate Town Centre\, literally a few seconds walk from the world famous Betty’s Tea Room & Café\, with a small stage\, probably fewer than 30 seats\, but with a fantastic intimate atmosphere\, and with an exceptional program of Live Entertainment every night of the week. \nCheck for occasional variations\, but Martin Rose hosts a Jam Night every Monday and then the Acoustic Sessions every Tuesday\, the fabulous Maurice Grumbleweed presents his relaxed Blues Night every Wednesday\, with more than a touch of the humour that made him and his fellow Grumbleweeds into National Treasures\, and Guest Bands / Artistes on Thursday\, Friday\, Saturday and double or occasionally treble up Bands all day on Sunday. \n[Strongly recommended] \nMonday 15th December is Jam Night hosted by Martin Rose \n(from 9.30pm)
URL:https://liveonstage.guide/event/jam-night-at-the-blues-bar-harrogate-hg1-2tj-7/
LOCATION:Blues Bar\, 4 Montpellier Parade\, Harrogate\, North Yorkshire\, HG1 2TJ
CATEGORIES:Jam Night
END:VEVENT
END:VCALENDAR