BEGIN:VCALENDAR
VERSION:2.0
PRODID:-//Liveonstage.Guide - ECPv6.15.17.1//NONSGML v1.0//EN
CALSCALE:GREGORIAN
METHOD:PUBLISH
X-WR-CALNAME:Liveonstage.Guide
X-ORIGINAL-URL:https://liveonstage.guide
X-WR-CALDESC:Events for Liveonstage.Guide
REFRESH-INTERVAL;VALUE=DURATION:PT1H
X-Robots-Tag:noindex
X-PUBLISHED-TTL:PT1H
BEGIN:VTIMEZONE
TZID:Europe/London
BEGIN:DAYLIGHT
TZOFFSETFROM:+0000
TZOFFSETTO:+0100
TZNAME:BST
DTSTART:20240331T010000
END:DAYLIGHT
BEGIN:STANDARD
TZOFFSETFROM:+0100
TZOFFSETTO:+0000
TZNAME:GMT
DTSTART:20241027T010000
END:STANDARD
BEGIN:DAYLIGHT
TZOFFSETFROM:+0000
TZOFFSETTO:+0100
TZNAME:BST
DTSTART:20250330T010000
END:DAYLIGHT
BEGIN:STANDARD
TZOFFSETFROM:+0100
TZOFFSETTO:+0000
TZNAME:GMT
DTSTART:20251026T010000
END:STANDARD
BEGIN:DAYLIGHT
TZOFFSETFROM:+0000
TZOFFSETTO:+0100
TZNAME:BST
DTSTART:20260329T010000
END:DAYLIGHT
BEGIN:STANDARD
TZOFFSETFROM:+0100
TZOFFSETTO:+0000
TZNAME:GMT
DTSTART:20261025T010000
END:STANDARD
END:VTIMEZONE
BEGIN:VEVENT
DTSTART;TZID=Europe/London:20251226T140000
DTEND;TZID=Europe/London:20251226T163000
DTSTAMP:20260424T113803
CREATED:20251221T074836Z
LAST-MODIFIED:20251222T062427Z
UID:3367-1766757600-1766766600@liveonstage.guide
SUMMARY:Aladdin - The Rock'n' Roll Panto at City Varieties\, Leeds LS1 6LW
DESCRIPTION:Established in 1865\, The Varieties is a living\, breathing homage to the music hall era. You can feel it\, touch it\, smell it. \nIf you stop\, take a breath and listen\, she’ll tell you the story of the stars who have performed on her stage\, from Houdini to Russell Crowe; the Prince who hid in her balcony to secretly court a music hall queen; the baby that was born during pantomime and gifted free admission for life; the schoolchildren who would fire pea-shooters at the striptease acts; the renditions of Down at the Old Bull and Bush to close BBC TV’s The Good Old Days; the funny man from Liverpool with his tickling stick; and the army of volunteers who have welcomed the people of Leeds through her front doors for over 155 years. \nAudiences from far and wide still flock to see the brightest stars from comedy\, music\, variety and pantomime perform on her stage\, indeed Mr Dara O’Briain said she is: “Steeped in history… still regarded as the best venue for stand-up Comedy in the nation.” \nPantomime at City Varieties: Aladdin – The Rock ‘n’ Roll Panto\nPerformances today at 2pm and 7pm\nBuilding on the roaring success of past hits including Jack and the Beanstalk\, Red Riding Hood\, and Dick Whittington\, Leeds’ ‘Grade A panto’ (Yorkshire Times) is back to light up the festive season at the world-famous City Varieties Music Hall. \nThis isn’t your average Christmas pantomime – this is a Rock ‘n’ Roll Pantomime! Aladdin: The Rock ‘n’ Roll Panto by Peter Rowe. \nFrom the Theatre’s Web Page: “Imagine the perfect blend of laugh-out-loud audience participation\, hilariously cheesy jokes\, and a high-energy jukebox bursting with iconic rock anthems and chart-smashing hits. And the best part? Every note is performed live on stage by a showstopping cast of multi-talented actor-musicians. It’s a festive extravaganza like no other!” \nFor further information\, ticket prices and bookings\, please go to: https://leedsheritagetheatres.com
URL:https://liveonstage.guide/event/aladdin-the-rockn-roll-panto-at-city-varieties-leeds-ls1-6lw-4/
LOCATION:City Varieties Music Hall\, Swan Street\,\, Leeds\, West Yorkshire\, LS1 6LW
CATEGORIES:Comedy Show,Pantomime,Theatre Show
END:VEVENT
BEGIN:VEVENT
DTSTART;TZID=Europe/London:20251226T140000
DTEND;TZID=Europe/London:20251226T170000
DTSTAMP:20260424T113803
CREATED:20251208T101440Z
LAST-MODIFIED:20251208T101440Z
UID:3180-1766757600-1766768400@liveonstage.guide
SUMMARY:Louie Stephens at Elland WMC\, Halifax HX5 0HT
DESCRIPTION:You are guaranteed a warm welcome when you visit Elland WMC\nThey have various activities going on throughout the year\, as well as very competitive membership subscription fees\, Tuesday Bingo club\, Slimming World classes\, Crown Green Bowling events and the use of the Bowling Green. \nAdditionally there is a Members Christmas Kids Panto\, Curly’s Christmas quiz\, a Kids Easter Party\, and a Kids Halloween Party. \nFantastic Tribute Act Every Month\n* Two large TV’s in the Members Bar for Major sporting events. Function Room available for Private Hire at reasonable rates. * \n\nLouie Stephens appears on Friday 26th December\n* Boxing Day Afternoon Show *\nbilled as a ‘Superb Pop\, Soul\, Motown & Reggae Vocalist’
URL:https://liveonstage.guide/event/louie-stephens-at-elland-wmc-halifax-hx5-0ht/
LOCATION:Elland WMC\, Roseberry Street\, Elland\, West Yorkshire\, HX5 0HT
CATEGORIES:Afternoon Show,Musical Cabaret,Vocalist singing Live to backing tracks.
END:VEVENT
BEGIN:VEVENT
DTSTART;TZID=Europe/London:20251226T193000
DTEND;TZID=Europe/London:20251226T230000
DTSTAMP:20260424T113803
CREATED:20251209T175531Z
LAST-MODIFIED:20251209T175647Z
UID:3227-1766777400-1766790000@liveonstage.guide
SUMMARY:Oliver Paige at Rowland Road WMC\, Leeds LS11 6ED
DESCRIPTION:Rowland Road is located off the A653 (Dewsbury Road) in Beeston\, Leeds\, quite near to Elland Road\, the home of Leeds United. The Working Men’s Club presents Live Entertainment every Saturday Night as well as Bingo\, Quiz and Karaoke through the week\, as advertised. The Club welcomes Coach Parties by arrangement and also has the Concert Room available for Midweek Hire. \nEntertainment is supplied by Ashley Wheelhouse Agency. \nThe Artist on Friday 26th December (Boxing Day) is\nOliver Paige\nbilled as an ‘Excellent Vocal Entertainer’\n  \nOliver Paige at Rowland Road WMC\, Leeds LS11 6ED
URL:https://liveonstage.guide/event/oliver-paige-at-rowland-road-wmc-leeds-ls11-6ed/
LOCATION:Rowland Road Working Men’s Club\, 38 Rowland Road\, Leeds\, West Yorkshire\, LS11 6ED
CATEGORIES:Musical Cabaret,Social Club Entertainment Night - with Bingo!
END:VEVENT
END:VCALENDAR