BEGIN:VCALENDAR
VERSION:2.0
PRODID:-//Liveonstage.Guide - ECPv6.15.17.1//NONSGML v1.0//EN
CALSCALE:GREGORIAN
METHOD:PUBLISH
X-WR-CALNAME:Liveonstage.Guide
X-ORIGINAL-URL:https://liveonstage.guide
X-WR-CALDESC:Events for Liveonstage.Guide
REFRESH-INTERVAL;VALUE=DURATION:PT1H
X-Robots-Tag:noindex
X-PUBLISHED-TTL:PT1H
BEGIN:VTIMEZONE
TZID:Europe/London
BEGIN:DAYLIGHT
TZOFFSETFROM:+0000
TZOFFSETTO:+0100
TZNAME:BST
DTSTART:20250330T010000
END:DAYLIGHT
BEGIN:STANDARD
TZOFFSETFROM:+0100
TZOFFSETTO:+0000
TZNAME:GMT
DTSTART:20251026T010000
END:STANDARD
BEGIN:DAYLIGHT
TZOFFSETFROM:+0000
TZOFFSETTO:+0100
TZNAME:BST
DTSTART:20260329T010000
END:DAYLIGHT
BEGIN:STANDARD
TZOFFSETFROM:+0100
TZOFFSETTO:+0000
TZNAME:GMT
DTSTART:20261025T010000
END:STANDARD
BEGIN:DAYLIGHT
TZOFFSETFROM:+0000
TZOFFSETTO:+0100
TZNAME:BST
DTSTART:20270328T010000
END:DAYLIGHT
BEGIN:STANDARD
TZOFFSETFROM:+0100
TZOFFSETTO:+0000
TZNAME:GMT
DTSTART:20271031T010000
END:STANDARD
END:VTIMEZONE
BEGIN:VEVENT
DTSTART;TZID=Europe/London:20260110T200000
DTEND;TZID=Europe/London:20260110T230000
DTSTAMP:20260424T163427
CREATED:20260103T025432Z
LAST-MODIFIED:20260103T040211Z
UID:3392-1768075200-1768086000@liveonstage.guide
SUMMARY:Alan Turner at Tinshill & Cookridge Social Club\, Leeds LS16 6PF
DESCRIPTION:Tinshill & Cookridge Club is a friendly Club\,  situated just a short walk away from Horsforth Railway Station\, on the Leeds to York line and there is a regular Bus Service which stops right outside the Club connecting nearby Holt Park with Leeds City centre. \n\n\nThe 200 capacity Concert Room is available for Private Functions. \nSaturday Evening is Cabaret Time\, and the show is usually divided into 3 sets. The first ‘Flyer’ of Bingo is played about 8.30pm followed by the Artist’s 1st and then 2nd spots with ‘Open the Box’ in between. \nCIU affiliated Club members and Bona Fide guests are welcome\, although only Member’s Children \, (who must be aged 5 years or older)\, are admitted to the Concert Room. \nThe Show finishes with the Artists 3rd and final spot\, normally up-tempo and with a nice sized Dance Floor\, there’s plenty of room for the regular dancers to ‘Bust some moves!’ \nEntertainment is provided by the Ashley Wheelhouse Entertainment Agency. \nSaturday 10th January the Guest Artist is Alan Turner\nbilled as a ‘Star Male  Vocal Entertainer’\, as seen on X Factor\n5 star Venue ***** (One of our personal favourites!)\n 
URL:https://liveonstage.guide/event/alan-turner-at-tinshill-cookridge-social-club-leeds-ls16-6pf/
LOCATION:Tinshill & Cookridge Social Club\, Silk Mill Drive\, Tinshill\, Leeds\, West Yorkshire\, LS16 6PF
CATEGORIES:Musical Cabaret,Social Club Entertainment Night - with Bingo!
END:VEVENT
BEGIN:VEVENT
DTSTART;TZID=Europe/London:20260110T200000
DTEND;TZID=Europe/London:20260110T230000
DTSTAMP:20260424T163427
CREATED:20260103T033322Z
LAST-MODIFIED:20260103T033322Z
UID:3403-1768075200-1768086000@liveonstage.guide
SUMMARY:Saffron at Denison Hall Club\, Armley\, Leeds LS12 3LL
DESCRIPTION:Armley is a suburb of Leeds\, situated about 2 miles west of Leeds Centre\, along the A647 towards Bradford. The Denison Hall Club is actually situated on the main street right in the Centre of Armley. Although Denison Hall Club is a Member’s Club\, members of Affiliated CIU Clubs\, and Bona Fide Guests are very welcome. \n\n\n\nTop Live Entertainment is staged at Denison Hall Club  every Saturday Night\, there’s a Quiz Night in the lounge on Tuesday Evening and a Ladies Section Bingo Night each Thursday. \nEntertainment is supplied by Ricky Graham Leisure Entertainment Agency. \nSaffron appears on Saturday 10th January\n– billed as a ‘Top Female Vocalist’
URL:https://liveonstage.guide/event/saffron-at-denison-hall-club-armley-leeds-ls12-3ll/
LOCATION:Denison Hall Club\, Town Street\, Armley\, West Yorkshire\, LS12 3LL
CATEGORIES:Musical Cabaret,Social Club Entertainment Night - with Bingo!,Vocalist singing Live to backing tracks.
END:VEVENT
BEGIN:VEVENT
DTSTART;TZID=Europe/London:20260110T200000
DTEND;TZID=Europe/London:20260110T230000
DTSTAMP:20260424T163427
CREATED:20260103T061026Z
LAST-MODIFIED:20260103T092538Z
UID:3444-1768075200-1768086000@liveonstage.guide
SUMMARY:Leah Marie at East End Park W. M. C.\, Leeds LS9 9LX
DESCRIPTION:East End Park is a residential area located about 2 miles from Leeds City centre\, just off York Road (A64) . The Park itself dates back to Victorian Times\, but was purchased by Leeds City Council in 1886\, when it had become a wasteland. \n\n\nThe Working Men’s Club is situated on Vinery Avenue\, and presents Live Entertainment every Saturday Night with Bingo\, reasonably priced drinks\, and full disabled facilities. Members Children only are allowed. \nEntertainment is supplied by Ricky Graham Leisure Entertainment Agency \nThe Guest Artist on Saturday 10th January is  Leah Marie\nwho is billed as a ‘Fantastic Female Vocalist’
URL:https://liveonstage.guide/event/leah-marie-at-east-end-park-w-m-c-leeds-ls9-9lx/
LOCATION:East End Park W. M. C.\, Vinery Avenue\, Leeds\, West Yorkshire\, LS9 9LX
CATEGORIES:Social Club Entertainment Night - with Bingo!
END:VEVENT
BEGIN:VEVENT
DTSTART;TZID=Europe/London:20260110T200000
DTEND;TZID=Europe/London:20260110T230000
DTSTAMP:20260424T163427
CREATED:20260107T021627Z
LAST-MODIFIED:20260107T035604Z
UID:3466-1768075200-1768086000@liveonstage.guide
SUMMARY:The Crowd at Barnsley Central WMC S70 3AL
DESCRIPTION:Kendray is an suburb of Barnsley\, and lies between Sheffield Road and Doncaster Road\, both of which lead to and from Barnsley Town Centre\, about 2 miles away. It his located with easy access of the M1 Motorway\, junction 37 (about 10 minutes)\, and about 15 minutes from A1 via A635. \nThe Trans Pennine Way is a long distance path running from Coast to Coast across Northern England\, and passes close by Kendray. \nBarnsley Central Working Men’s Club is a Members Club located on Birk Avenue in Kendray. Room Hire is available\, information of which may be gained by emailing BarnsleyCentral@BTConnect.com \nOn their Facebook Page\, one visitor stated: “Great friendly pub with lovely people and a decent pint. Also they have the best prices around the area! Highly recommended.” \nLive Entertainment\, supplied by Angle Entertainments\, is staged weekly on a Saturday Night and is typically Live Bands. \nThe Crowd appear at Barnsley Central WMC on Saturday 10th January\, \nbilled as a ‘Knockout 3 piece Live Band’
URL:https://liveonstage.guide/event/the-crowd-at-barnsley-central-wmc-s70-3al/
LOCATION:Barnsley Central Working Men’s Club\, Birk Avenue\, Kendray\, Barnsley\, South Yorkshire\, S70 3AL
CATEGORIES:Live Band on Stage
END:VEVENT
BEGIN:VEVENT
DTSTART;TZID=Europe/London:20260110T200000
DTEND;TZID=Europe/London:20260110T230000
DTSTAMP:20260424T163427
CREATED:20260107T042143Z
LAST-MODIFIED:20260107T042143Z
UID:3477-1768075200-1768086000@liveonstage.guide
SUMMARY:Metropolis Duo at Carlton Smithies Ex-Servicemen's Club\, Barnsley S71 3TA
DESCRIPTION:Carlton Smithies Ex-Servicemen’s Club (sometimes called The Haddon Road Club) is situated in Barnsley and has Live Entertainment on both Saturday and Sunday Evenings. with Bingo being played at all sessions. \nAll bookings are conducted through the current Concert Secretary – Ian Oliver. \nVisitors are made very welcome. \nMetropolis appear on Saturday 10th January\,\nbilled as an ‘Amazing Duo‘
URL:https://liveonstage.guide/event/metropolis-duo-at-carlton-smithies-ex-servicemens-club-barnsley-s71-3ta/
LOCATION:Carlton Smithies Ex Servicemen’s Club\, Haddon Road\, Barnsley\, South Yorkshire\, S71 3TA
CATEGORIES:Social Club Entertainment Night - with Bingo!
END:VEVENT
END:VCALENDAR