BEGIN:VCALENDAR
VERSION:2.0
PRODID:-//Liveonstage.Guide - ECPv6.15.17.1//NONSGML v1.0//EN
CALSCALE:GREGORIAN
METHOD:PUBLISH
X-WR-CALNAME:Liveonstage.Guide
X-ORIGINAL-URL:https://liveonstage.guide
X-WR-CALDESC:Events for Liveonstage.Guide
REFRESH-INTERVAL;VALUE=DURATION:PT1H
X-Robots-Tag:noindex
X-PUBLISHED-TTL:PT1H
BEGIN:VTIMEZONE
TZID:Europe/London
BEGIN:DAYLIGHT
TZOFFSETFROM:+0000
TZOFFSETTO:+0100
TZNAME:BST
DTSTART:20250330T010000
END:DAYLIGHT
BEGIN:STANDARD
TZOFFSETFROM:+0100
TZOFFSETTO:+0000
TZNAME:GMT
DTSTART:20251026T010000
END:STANDARD
BEGIN:DAYLIGHT
TZOFFSETFROM:+0000
TZOFFSETTO:+0100
TZNAME:BST
DTSTART:20260329T010000
END:DAYLIGHT
BEGIN:STANDARD
TZOFFSETFROM:+0100
TZOFFSETTO:+0000
TZNAME:GMT
DTSTART:20261025T010000
END:STANDARD
BEGIN:DAYLIGHT
TZOFFSETFROM:+0000
TZOFFSETTO:+0100
TZNAME:BST
DTSTART:20270328T010000
END:DAYLIGHT
BEGIN:STANDARD
TZOFFSETFROM:+0100
TZOFFSETTO:+0000
TZNAME:GMT
DTSTART:20271031T010000
END:STANDARD
END:VTIMEZONE
BEGIN:VEVENT
DTSTART;TZID=Europe/London:20260115T190000
DTEND;TZID=Europe/London:20260115T220000
DTSTAMP:20260422T170259
CREATED:20260112T122345Z
LAST-MODIFIED:20260112T122345Z
UID:3531-1768503600-1768514400@liveonstage.guide
SUMMARY:Goldilocks & The Three Bears at Whitby Pavilion\, YO21 3EN
DESCRIPTION:Built in 1878\, Whitby Pavilion Theatre is a traditional Proscenium Arch with seating for up to 360\, this accommodation is made up of 236 seats in the stalls\, (of which four are wheelchair access spaces)\, while the remainder of the seating comprises the tiered circle. It is well equipped with up-to-date sound and lighting facilities yet retains the wonderful atmosphere of its Victorian origins. Following recent refurbishment the stalls are now removable\, providing space for a dance hall\, thus enabling the theatre to be used as it was in the 1940’s. \nThe Theatre is home to a wide and varied mix of entertainment including Plays\, Pantomimes\, Musicals\, Comedy\, Tribute and Music Hall Variety Shows. \nThis January\, join the Whitby’s Apollo Players under the big top for a panto full of laughs\, thrills\, and magical mayhem in Goldilocks and the Three Bears as they present their 54thannual pantomime at the Pavilion Theatre. \nPacked with toe-tapping tunes\, dazzling dance numbers\, and more slapstick than you can shake a juggling stick at\, this is a show you won’t want to miss. Whether you’re three or ninety-three\, there’s something for everyone in this bold\, bright\, and brilliant take on the classic tale. \nMon & Tues all tickets £8\nWed to Saturday tickets £12 (Under 14s £10) Booking fees may apply.
URL:https://liveonstage.guide/event/goldilocks-the-three-bears-at-whitby-pavilion-yo21-3en-3/
LOCATION:Whitby Pavilion\,\, West Cliff\,\, Whitby\, North Yorkshire\, YO21 3EN
CATEGORIES:Pantomime
END:VEVENT
END:VCALENDAR