BEGIN:VCALENDAR
VERSION:2.0
PRODID:-//Liveonstage.Guide - ECPv6.15.17.1//NONSGML v1.0//EN
CALSCALE:GREGORIAN
METHOD:PUBLISH
X-WR-CALNAME:Liveonstage.Guide
X-ORIGINAL-URL:https://liveonstage.guide
X-WR-CALDESC:Events for Liveonstage.Guide
REFRESH-INTERVAL;VALUE=DURATION:PT1H
X-Robots-Tag:noindex
X-PUBLISHED-TTL:PT1H
BEGIN:VTIMEZONE
TZID:Europe/London
BEGIN:DAYLIGHT
TZOFFSETFROM:+0000
TZOFFSETTO:+0100
TZNAME:BST
DTSTART:20250330T010000
END:DAYLIGHT
BEGIN:STANDARD
TZOFFSETFROM:+0100
TZOFFSETTO:+0000
TZNAME:GMT
DTSTART:20251026T010000
END:STANDARD
BEGIN:DAYLIGHT
TZOFFSETFROM:+0000
TZOFFSETTO:+0100
TZNAME:BST
DTSTART:20260329T010000
END:DAYLIGHT
BEGIN:STANDARD
TZOFFSETFROM:+0100
TZOFFSETTO:+0000
TZNAME:GMT
DTSTART:20261025T010000
END:STANDARD
BEGIN:DAYLIGHT
TZOFFSETFROM:+0000
TZOFFSETTO:+0100
TZNAME:BST
DTSTART:20270328T010000
END:DAYLIGHT
BEGIN:STANDARD
TZOFFSETFROM:+0100
TZOFFSETTO:+0000
TZNAME:GMT
DTSTART:20271031T010000
END:STANDARD
END:VTIMEZONE
BEGIN:VEVENT
DTSTART;TZID=Europe/London:20260130T130000
DTEND;TZID=Europe/London:20260130T163000
DTSTAMP:20260422T163553
CREATED:20260122T082150Z
LAST-MODIFIED:20260122T082150Z
UID:3692-1769778000-1769790600@liveonstage.guide
SUMMARY:Beebi Dell tribute to Dolly Parton at The Willows Club\, Hull
DESCRIPTION:The Willows Club is located just off Holderness Road in Hull\, and is one of the Top Social Clubs in and around Hull. The Concert Room can accommodate over 300 people who can enjoy both regular Live Entertainment and occasional Charity Events.\n\n\nThere are rooms which are available for hire for private events\, functions and Parties. Although the Club is situated along the busy Holderness Road\, it does have it’s own Car Park\, and appears to have easy Disabled Access\, although we are unsure whether there are disabled Toilet Facilities\, \nLocal Entertainer Becky Brown presents Live Country Music every Wednesday Evening and whilst people are welcome to just sit and enjoy the Music\, there is an ample Dance Floor for Line Dancers\, whether learning or Advanced\, to strut their stuff! The doors open at 7pm\, and the Dancing Starts at 7.30pm. \nHowever on Friday 31st January\, there is a special treat for fans of Country Music with an afternoon appearance of Beebi Dell with her amazing Tribute to the Queen of Country Music – Dolly Parton. \nDoors open at 11.30am\, for a 1pm start – but you need to book in advance to be sure of a ticket – Helpline number is 07836 – 608618\nFriday Afternoon – 30th January – Tribute to Dolly Parton with Beebi Dell
URL:https://liveonstage.guide/event/beebi-dell-tribute-to-dolly-parton-at-the-willows-club-hull/
LOCATION:Willows Club\, 697 Holderness Road\, Hull\, East Riding of Yorkshire\, HU8 9AN
CATEGORIES:Afternoon Show,Tribute Show
END:VEVENT
BEGIN:VEVENT
DTSTART;TZID=Europe/London:20260130T190000
DTEND;TZID=Europe/London:20260130T220000
DTSTAMP:20260422T163553
CREATED:20260112T123741Z
LAST-MODIFIED:20260112T123824Z
UID:3539-1769799600-1769810400@liveonstage.guide
SUMMARY:Beauty & The Beast\, Adult Panto at Scarborough Spa Theatre YO11 2HD
DESCRIPTION:Adult Panto Tour Presents ‘Beauty and the Beast’\n\n\n\nBEAUTY AND THE BEAST – ADULT PANTO TOUR \n  \nTale as old as time? Not this one! \nBeauty’s looking for love — but instead finds herself trapped in a castle with a beast with a very big… personality. Packed with outrageous innuendo\, dazzling drag\, and more sass than you can shake a candle stick at. This is a laugh-out-loud\, adults-only twist on the fairy tale you thought you knew. \nStarring from Drag Race UK S1 – CHERYL\, Canada’s Drag Race Season 2 Winner – ICESIS COUTURE\, Drag Race Season 7 – PAIGE THREE and Drag Race Season 7 – ELLE VOSQUE \nExpect saucy jokes\, outrageous antics\, and enough cheek to make even Mrs. Potty blush. Will Beauty break the spell before the last rose petal falls or will she end up the wildest of them all? \n  \nLeave the kids at home and be our guest — this one’s strictly for the adults! \nScarborough Spa Theatre\, Adult Panto\, 31st January\,
URL:https://liveonstage.guide/event/beauty-the-beast-adult-panto-at-scarborough-spa-theatre-yo11-2hd/
LOCATION:Scarborough Spa\, South Bay\, Scarborough\, North Yorkshire\, YO11 2HD
END:VEVENT
BEGIN:VEVENT
DTSTART;TZID=Europe/London:20260130T200000
DTEND;TZID=Europe/London:20260130T230000
DTSTAMP:20260422T163553
CREATED:20260116T045554Z
LAST-MODIFIED:20260116T045554Z
UID:3586-1769803200-1769814000@liveonstage.guide
SUMMARY:Steve Michaels at Bramley Band Club\, Leeds LS13 2BG
DESCRIPTION:Bramley is a suburb of Leeds about 3 miles West of Leeds City Centre\, bordered by Armley\, Stanningley\, Farsley and Kirkstall in West Yorkshire and well served by local Bus Services. It should NOT be confused with the area of the same name in South Yorkshire\, which is an hours drive away! \nBramley Band Club has long been one of the top Entertainment Venues in the area\, and is located on Snowden Lawn\, just off  Town Street. As well as reasonably priced drinks\, the Band Club has Snooker and Pool Tables\, a Dart Board and show Major Sports on Large Screen TV. \nThere is Prize Bingo on Thursdays\, and Live Entertainment every Friday and Saturday Nights and although Bramley Band is a Member’s Club\, members of Affiliated Clubs\, and Bona Fide Guests are welcome. \nLive Entertainment is provided through the Ashley Wheelhouse Agency.\nSteve Michaels appears at Bramley Band on Friday 30th January\nbilled as a ‘Brilliant Male Vocalist’
URL:https://liveonstage.guide/event/steve-michaels-at-bramley-band-club-leeds-ls13-2bg-2/
LOCATION:Bramley Band Club\, Snowden Lawn\, off Town Street\,\, Bramley\, West Yorkshire\, LS13 2BG
CATEGORIES:Social Club Entertainment Night - with Bingo!
END:VEVENT
BEGIN:VEVENT
DTSTART;TZID=Europe/London:20260130T200000
DTEND;TZID=Europe/London:20260130T230000
DTSTAMP:20260422T163553
CREATED:20260130T004605Z
LAST-MODIFIED:20260130T004605Z
UID:3736-1769803200-1769814000@liveonstage.guide
SUMMARY:Open Mic Night at The Falcon Club\, Otley LS21 3AT
DESCRIPTION:The Falcon Sports & Social Club was originally was originally built in 1909 as an Oddfellows Friendly Society Hall. but later became a Social Club for workers at the nearby Crabtree Vickers Factory. When the factory closed down\, the Clubhouse was gifted to the employees and it subsequently became a Private Members Club. \nThe Clubhouse is of timber construction\, and was threatened by demolition when planning permission was granted by Leeds City Council for the building of a nearby Care Home. However the Club Members refused an offer to buy them out\, and have since made improvements\, which include moving the Snooker Table into an extension\, to make it less of a Snooker Hall and more of a Social Club. Further improvements have included the addition of Disabled Facilities\, which because of the Club being all on one level makes it an ideal location as a Venue for Parties and Wakes\, for which it is available at very reasonable rates. \nAs a Member’s Club the Beer prices are also reasonably priced\, although Guests need to be signed in by a Member. The Club has 2 teams entered into the Otley & District Snooker League\, home games of which which are held on Tuesday evenings. \nOpen Mic Night every Friday Night from 8pm\norganised by Daniel and Margaret Marshall.
URL:https://liveonstage.guide/event/open-mic-night-at-the-falcon-club-otley-ls21-3at-8/
LOCATION:Falcon Sports & Social Club\, Westgate\,\, Otley\, West Yorkshire\, LS21 3AT
CATEGORIES:Showcase
END:VEVENT
BEGIN:VEVENT
DTSTART;TZID=Europe/London:20260130T203000
DTEND;TZID=Europe/London:20260130T233000
DTSTAMP:20260422T163553
CREATED:20260123T045320Z
LAST-MODIFIED:20260123T045648Z
UID:3699-1769805000-1769815800@liveonstage.guide
SUMMARY:Open Mic / Jam Night at Park Place Social Club\, Knaresborough HG5 0ER
DESCRIPTION:Jam Night / Open Mic Night every Friday Night \nat Park Place Social Club in Knaresborough.\nThe Club is just a minutes walk from Knaresborough Bus Station and a 5 minute walk from Knaresborough Railway Station which is on the Leeds to York Railway Line.\nGood size Concert Room\, reasonable priced drinks\, and plenty of free parking in the Market Square\, which is very close by. All welcome – free admission!
URL:https://liveonstage.guide/event/open-mic-jam-night-at-park-place-social-club-knaresborough-hg5-0/
LOCATION:Park Place Social Club\, 3 Park Square\, Knaresborough\, North Yorkshire\, HG5 0ER
CATEGORIES:Jam Night,Open Mic Night
END:VEVENT
END:VCALENDAR