BEGIN:VCALENDAR
VERSION:2.0
PRODID:-//Liveonstage.Guide - ECPv6.15.17.1//NONSGML v1.0//EN
CALSCALE:GREGORIAN
METHOD:PUBLISH
X-ORIGINAL-URL:https://liveonstage.guide
X-WR-CALDESC:Events for Liveonstage.Guide
REFRESH-INTERVAL;VALUE=DURATION:PT1H
X-Robots-Tag:noindex
X-PUBLISHED-TTL:PT1H
BEGIN:VTIMEZONE
TZID:Europe/London
BEGIN:DAYLIGHT
TZOFFSETFROM:+0000
TZOFFSETTO:+0100
TZNAME:BST
DTSTART:20250330T010000
END:DAYLIGHT
BEGIN:STANDARD
TZOFFSETFROM:+0100
TZOFFSETTO:+0000
TZNAME:GMT
DTSTART:20251026T010000
END:STANDARD
BEGIN:DAYLIGHT
TZOFFSETFROM:+0000
TZOFFSETTO:+0100
TZNAME:BST
DTSTART:20260329T010000
END:DAYLIGHT
BEGIN:STANDARD
TZOFFSETFROM:+0100
TZOFFSETTO:+0000
TZNAME:GMT
DTSTART:20261025T010000
END:STANDARD
BEGIN:DAYLIGHT
TZOFFSETFROM:+0000
TZOFFSETTO:+0100
TZNAME:BST
DTSTART:20270328T010000
END:DAYLIGHT
BEGIN:STANDARD
TZOFFSETFROM:+0100
TZOFFSETTO:+0000
TZNAME:GMT
DTSTART:20271031T010000
END:STANDARD
END:VTIMEZONE
BEGIN:VEVENT
DTSTART;TZID=Europe/London:20260207T193000
DTEND;TZID=Europe/London:20260207T230000
DTSTAMP:20260424T011126
CREATED:20251211T183405Z
LAST-MODIFIED:20251211T183405Z
UID:3275-1770492600-1770505200@liveonstage.guide
SUMMARY:Amy's Winehouse Band at Shire Hall\, Howden DN14 7BJ
DESCRIPTION:Amy’s Winehouse Band are a Tribute Band formed from a group of top-class musicians who have played in various successful bands local to Hull and have vast experience in the live music scene.\nSinger: Louise Montgomery – Outstanding versatile vocalist with a broad repertoire of music and includes Lou Lou Soul Experience Tribute.\nGuitarist/ Backing vocals: Matt Foster – The Shine\, Woodsmoke\nBass guitar: Andy Foster – Dep Drummer /Bass player for various bands\nKeyboards/Backing Vocals: Antoine Robinson – solo wedding singer\, The Beautiful Couch\nDrums: Pete Bartley – The Beautiful Couch\, The Shine\, The Soul Bouncers \n“From the minute we first got together to rehearse with a selection of Amy Winehouse tunes we all knew; this was going to be something special . You will not be disappointed; we have put together a live show that not only sounds fantastic we also look the part on stage . \n“Back to Black”  “Valerie”   “Rehab”  “You Know I’m No Good” and many more… \nAmy Winehouse  was a British singer and songwriter known for her deep\, expressive contralto vocals and her eclectic mix of musical genres\, including soul\, rhythm and blues\, reggae and jazz. Her tragic early demise robbed the world of a true talent\, remind yourself of that talent in the Shire Hall on 7th February!
URL:https://liveonstage.guide/event/amys-winehouse-band-at-shire-hall-howden-dn14-7bj/
LOCATION:Shire Hall\, 11 Market Place\,\, Howden\, East Riding of Yorkshire\, DN14 7BJ
CATEGORIES:Live Band on Stage,Tribute Show
END:VEVENT
BEGIN:VEVENT
DTSTART;TZID=Europe/London:20260207T200000
DTEND;TZID=Europe/London:20260207T230000
DTSTAMP:20260424T011126
CREATED:20260129T005911Z
LAST-MODIFIED:20260129T005911Z
UID:3726-1770494400-1770505200@liveonstage.guide
SUMMARY:Butterfly at York Bar WMC\, Doncaster DN5 8JH
DESCRIPTION:York Bar Working Men’s Club is a popular Club located on York Road in Doncaster. Live Entertainment is staged every Saturday Night with a variety of Top Class Artists provided through the Booking Agency of Graham Platt. \nGuest Artist for Saturday 7th February is Butterfly\nbilled as a ‘Great Live Classic Pop 5 piece Band’
URL:https://liveonstage.guide/event/butterfly-at-york-bar-wmc-doncaster-dn5-8jh/
LOCATION:York Bar WMC\, York Road\, Doncaster\, South Yorkshire\, DN5 8JH
END:VEVENT
BEGIN:VEVENT
DTSTART;TZID=Europe/London:20260207T200000
DTEND;TZID=Europe/London:20260207T230000
DTSTAMP:20260424T011126
CREATED:20260202T235414Z
LAST-MODIFIED:20260203T003937Z
UID:3756-1770494400-1770505200@liveonstage.guide
SUMMARY:Caitlin L at Denison Hall Club\, Armley LS12 3LL
DESCRIPTION:Armley is a suburb of Leeds\, situated about 2 miles west of Leeds Centre\, along the A647 towards Bradford. The Denison Hall Club is actually situated on the main street right in the Centre of Armley. Although Denison Hall Club is a Member’s Club\, members of Affiliated CIU Clubs\, and Bona Fide Guests are very welcome. \nTop Live Entertainment is staged at Denison Hall Club  every Saturday Night\, there’s a Quiz Night in the lounge on Tuesday Evening and a Ladies Section Bingo Night each Thursday. \nEntertainment is supplied by Ricky Graham Leisure Entertainment Agency. \nCaitlin L appears on Saturday 7th February\n– billed as a ‘Top Female Vocalist’.
URL:https://liveonstage.guide/event/caitlin-l-at-denison-hall-club-arley-ls12-3ll/
LOCATION:Denison Hall Club\, Town Street\, Armley\, West Yorkshire\, LS12 3LL
CATEGORIES:Social Club Entertainment Night - with Bingo!
END:VEVENT
BEGIN:VEVENT
DTSTART;TZID=Europe/London:20260207T200000
DTEND;TZID=Europe/London:20260207T230000
DTSTAMP:20260424T011126
CREATED:20260204T032305Z
LAST-MODIFIED:20260204T032446Z
UID:3773-1770494400-1770505200@liveonstage.guide
SUMMARY:Emily Peters at East End Park WMC\, Leeds LS9 9LX
DESCRIPTION:East End Park is a residential area located about 2 miles from Leeds City centre\, just off York Road (A64) . The Park itself dates back to Victorian Times\, but was purchased by Leeds City Council in 1886\, when it had become a wasteland. \n\n\nThe Working Men’s Club is situated on Vinery Avenue\, and presents Live Entertainment every Saturday Night with Bingo\, reasonably priced drinks\, and full disabled facilities. Members Children only are allowed. \nEntertainment is supplied by Ricky Graham Leisure Entertainment Agency \nThe Guest Artist on Saturday 7th February is  Emily Peters\nwho is billed as a ‘Fantastic Female Vocalist’
URL:https://liveonstage.guide/event/emily-peters-at-east-end-park-wmc-leeds-ls9-9lx/
LOCATION:East End Park W. M. C.\, Vinery Avenue\, Leeds\, West Yorkshire\, LS9 9LX
CATEGORIES:Social Club Entertainment Night - with Bingo!
END:VEVENT
BEGIN:VEVENT
DTSTART;TZID=Europe/London:20260207T200000
DTEND;TZID=Europe/London:20260207T230000
DTSTAMP:20260424T011126
CREATED:20260206T235635Z
LAST-MODIFIED:20260206T235635Z
UID:3796-1770494400-1770505200@liveonstage.guide
SUMMARY:Danny Shenton at Bilton British Legion Club\, Hull HU11 4AA
DESCRIPTION:Bilton is a village in the East Riding of Yorkshire. It is situated about 5 miles (8 km) east of Hull City Centre on the B1238 and has a population of about 2\,000. The Bilton Royal British Legion Club presents Live Entertainment every Saturday Night. \nThe Club may be able to offer free Function Room hire\, subject to approval with the Club management. \nThe Guest Artist for Saturday 7th February is Danny Shenton\nbilled as a ‘Talented Vocal Entertainer’\nBilton British Legion Club\, Hull\, Saturday 7th February\, Live Entertainment\, Gig Guide\, What’s on\, Danny Shenton\, East Riding of Yorkshire\, Tonight\, \nDanny Shenton at Bilton British Legion Club\, Hull HU11 4AA
URL:https://liveonstage.guide/event/danny-shenton-at-bilton-british-legion-club-hull-hu11-4aa/
LOCATION:Bilton British Legion Club\, Main Road\, Hull\, Eat Riding of Yorkshire\, HU11 4AA
END:VEVENT
BEGIN:VEVENT
DTSTART;TZID=Europe/London:20260207T200000
DTEND;TZID=Europe/London:20260207T230000
DTSTAMP:20260424T011126
CREATED:20260207T002342Z
LAST-MODIFIED:20260207T003733Z
UID:3800-1770494400-1770505200@liveonstage.guide
SUMMARY:Rapture Party Band at Hornsea Ex Servicemen's Club\, HU18 1BA
DESCRIPTION:Hornsea is a popular East Yorkshire Coast resort and was\, until 2000\, the home of The Hornsea Pottery. The local population of 8\,500 increases somewhat during the Summer months with the influx of Tourists. Actor Brian Rix (later to become Baron Rix) and his sister Sheila Mercier (Annie Sugden from Emmerdale Farm) were both from the Town \nHornsea Ex Servicemen’s Club is located in the old Town of Hornsea\, down Back Southgate and Membership is available to all\, not just ex forces. According to their Facebook Page\, they are open daily from 12 noon. There are 2 Bars\, and a Function Room and besides Live Entertainment every Saturday and Sunday Night\, showing Sports on TV\, they have a Snooker Table\, Pool Table and regular Bingo and Quiz Nights. \nThe Guest Artist from Saturday 7th February is Rapture\nbilled as a ‘Party Band’.
URL:https://liveonstage.guide/event/rapture-party-band-at-hornsea-ex-servicemens-club-hu18-1ba/
LOCATION:Hornsea Ex Servicemen’s Club\, Back Southgate\, Hornsea\, East Riding of Yorkshire\, HU18 1BA
CATEGORIES:Social Club Entertainment Night - with Bingo!,Theatre Show
END:VEVENT
BEGIN:VEVENT
DTSTART;TZID=Europe/London:20260207T200000
DTEND;TZID=Europe/London:20260207T233000
DTSTAMP:20260424T011126
CREATED:20250131T035259Z
LAST-MODIFIED:20260203T121928Z
UID:274-1770494400-1770507000@liveonstage.guide
SUMMARY:Country & Western Extravaganza at Edmund House Club\, Leeds LS9 8QJ
DESCRIPTION:A variety of Entertainment at Edmund House Club during February includes a Valentines Quiz & Disco on 14th\, Andy McGowan’s 80’s Party on 21st and a Private Party on 28th. Large screen TV in Games Room\, showing Major Sports Events on Sky TV. \nHowever there is a: \nCountry & Western Extravaganza on 7th February
URL:https://liveonstage.guide/event/the-signals-at-edmund-house-club-leeds-9/
LOCATION:Edmund House Club\, Pontefract Lane\, Leeds\, West Yorkshire\, LS9 8QJ
CATEGORIES:Social Club Entertainment Night - with Bingo!
END:VEVENT
BEGIN:VEVENT
DTSTART;TZID=Europe/London:20260207T210000
DTEND;TZID=Europe/London:20260207T233000
DTSTAMP:20260424T011126
CREATED:20260206T163739Z
LAST-MODIFIED:20260206T163739Z
UID:3787-1770498000-1770507000@liveonstage.guide
SUMMARY:Bluehounds at Blues Bar\, Harrogate HG1 2TJ
DESCRIPTION:The Blues Bar in Harrogate is a “Rollicking night-time Blues Music Hangout and relaxed Daytime Café and Bar with a Funky Décor” according to their web site\, and it’s difficult to improve upon that exact description. \nIt’s a small Café style venue in Harrogate Town Centre\, literally a few seconds walk from the world famous Betty’s Tea Room & Café\, with a small stage\, probably fewer than 30 seats\, but with a fantastic intimate atmosphere\, and with an exceptional program of Live Entertainment every night of the week. \nCheck for occasional variations\, but Martin Rose hosts a Jam Night every Monday and also the Acoustic Sessions every Tuesday\, the fabulous Maurice Grumbleweed presents his relaxed Blues Night every Wednesday\, with more than a touch of the humour that made him and his fellow Grumbleweeds into National Treasures\, and Guest Bands / Artistes on Thursday\, Friday\, Saturday and double or occasionally treble up Bands all day on Sunday. \n[Strongly recommended] \nBluehounds appear on Saturday 7th February\, \nbilled as a ‘4 piece Rock\, R’n’B\, Soul & Blues Band.\n(from 9.00pm)
URL:https://liveonstage.guide/event/bluehounds-at-blues-bar-harrogate-hg1-2tj/
LOCATION:Blues Bar\, 4 Montpellier Parade\, Harrogate\, North Yorkshire\, HG1 2TJ
CATEGORIES:Live Band on Stage
END:VEVENT
BEGIN:VEVENT
DTSTART;TZID=Europe/London:20260207T213000
DTEND;TZID=Europe/London:20260207T233000
DTSTAMP:20260424T011126
CREATED:20260206T171638Z
LAST-MODIFIED:20260206T171638Z
UID:3794-1770499800-1770507000@liveonstage.guide
SUMMARY:Styckleback at The Den\, Harrogate HG1 1NS
DESCRIPTION:The Den is an independent\, Live Music & Sports Bar in the centre of Harrogate. \nStyckleback appear on Saturday 7th February\,\nbilled as a ‘High Energy Covers Band’
URL:https://liveonstage.guide/event/styckleback-at-the-den-harrogate-hg1-1ns/
LOCATION:The Den\, Nidderdale House\, Cambridge Road\,\, Harrogate\, North Yorkshire\, HG1 1NS
CATEGORIES:Live Band on Stage
END:VEVENT
END:VCALENDAR