BEGIN:VCALENDAR
VERSION:2.0
PRODID:-//Liveonstage.Guide - ECPv6.15.17.1//NONSGML v1.0//EN
CALSCALE:GREGORIAN
METHOD:PUBLISH
X-WR-CALNAME:Liveonstage.Guide
X-ORIGINAL-URL:https://liveonstage.guide
X-WR-CALDESC:Events for Liveonstage.Guide
REFRESH-INTERVAL;VALUE=DURATION:PT1H
X-Robots-Tag:noindex
X-PUBLISHED-TTL:PT1H
BEGIN:VTIMEZONE
TZID:Europe/London
BEGIN:DAYLIGHT
TZOFFSETFROM:+0000
TZOFFSETTO:+0100
TZNAME:BST
DTSTART:20250330T010000
END:DAYLIGHT
BEGIN:STANDARD
TZOFFSETFROM:+0100
TZOFFSETTO:+0000
TZNAME:GMT
DTSTART:20251026T010000
END:STANDARD
BEGIN:DAYLIGHT
TZOFFSETFROM:+0000
TZOFFSETTO:+0100
TZNAME:BST
DTSTART:20260329T010000
END:DAYLIGHT
BEGIN:STANDARD
TZOFFSETFROM:+0100
TZOFFSETTO:+0000
TZNAME:GMT
DTSTART:20261025T010000
END:STANDARD
BEGIN:DAYLIGHT
TZOFFSETFROM:+0000
TZOFFSETTO:+0100
TZNAME:BST
DTSTART:20270328T010000
END:DAYLIGHT
BEGIN:STANDARD
TZOFFSETFROM:+0100
TZOFFSETTO:+0000
TZNAME:GMT
DTSTART:20271031T010000
END:STANDARD
END:VTIMEZONE
BEGIN:VEVENT
DTSTART;TZID=Europe/London:20260213T200000
DTEND;TZID=Europe/London:20260213T230000
DTSTAMP:20260420T133915
CREATED:20260107T150527Z
LAST-MODIFIED:20260107T150825Z
UID:3507-1771012800-1771023600@liveonstage.guide
SUMMARY:Little Sam Lyons at Buttershaw Lane WMC\, Bradford BD6 2DA
DESCRIPTION:Brilliant Female Personality Vocal Entertainer\n \n 
URL:https://liveonstage.guide/event/little-sam-lyons-at-buttershaw-lane-wmc-bradford-bd6-2da/
LOCATION:Buttershaw Lane WMC\, 160 Buttershaw Lane\, Bradford\, West Yorkshire\, BD6 2DA
CATEGORIES:Comedy Show
END:VEVENT
BEGIN:VEVENT
DTSTART;TZID=Europe/London:20260213T200000
DTEND;TZID=Europe/London:20260213T230000
DTSTAMP:20260420T133915
CREATED:20260130T011627Z
LAST-MODIFIED:20260130T074457Z
UID:3740-1771012800-1771023600@liveonstage.guide
SUMMARY:Open Mic Night at The Falcon Club\, Otley LS21 3AT
DESCRIPTION:The Falcon Sports & Social Club was originally was originally built in 1909 as an Oddfellows Friendly Society Hall. but later became a Social Club for workers at the nearby Crabtree Vickers Factory. When the factory closed down\, the Clubhouse was gifted to the employees and it subsequently became a Private Members Club. \nThe Clubhouse is of timber construction\, and was threatened by demolition when planning permission was granted by Leeds City Council for the building of a nearby Care Home. However the Club Members refused an offer to buy them out\, and have since made improvements\, which include moving the Snooker Table into an extension\, to make it less of a Snooker Hall and more of a Social Club. Further improvements have included the addition of Disabled Facilities\, which because of the Club being all on one level makes it an ideal location as a Venue for Parties and Wakes\, for which it is available at very reasonable rates. \nAs a Member’s Club the Beer prices are also reasonably priced\, although Guests need to be signed in by a Member. The Club has 2 teams entered into the Otley & District Snooker League\, home games of which which are held on Tuesday evenings. \nOpen Mic Night every Friday Night from 8pm\norganised by Daniel and Margaret Marshall.
URL:https://liveonstage.guide/event/open-mic-night-at-the-falcon-club-otley-ls21-3at-10/
LOCATION:Falcon Sports & Social Club\, Westgate\,\, Otley\, West Yorkshire\, LS21 3AT
CATEGORIES:Open Mic Night
END:VEVENT
BEGIN:VEVENT
DTSTART;TZID=Europe/London:20260213T200000
DTEND;TZID=Europe/London:20260213T230000
DTSTAMP:20260420T133915
CREATED:20260209T163717Z
LAST-MODIFIED:20260210T020218Z
UID:3843-1771012800-1771023600@liveonstage.guide
SUMMARY:The Midnight Flyers (Eagles Tribute) at North Ferriby
DESCRIPTION:North Ferriby is a village in the Haltemprice area of the East Riding of Yorkshire. The foreshore of North Ferriby lies within the Humber Estuary\, and was the site of the discovery of Boat planks which were carbon dated to suggest that the origin of the boats could date back to the Bronze Age\, between 2030 and 1680 BC. \nThe North Ferriby Village Hall is described as being the ‘Beating heart of the Village’ has been used by local residents for over 100 years\, and is a popular destination for Private Parties\, Wedding Receptions\, Exhibitions\, Events\, Meetings\, Classes and Live Entertainment. \nThe Midnight Flyers are a 5 piece Live Band based in the East Riding\, and perform the Music of The Eagles. They appeared at North Ferriby in 2023 and 2024\, and have been booked back due to Popular Demand. \nThe Midnight Flyers appear on Friday 13th February\nwith their Tribute to The Eagles\, performing  ‘The Eagles’ Story”
URL:https://liveonstage.guide/event/the-midnight-flyers-eagles-tribute-at-north-ferriby/
LOCATION:North Ferriby Village Hall
CATEGORIES:Live Band on Stage,Tribute Show
END:VEVENT
END:VCALENDAR