BEGIN:VCALENDAR
VERSION:2.0
PRODID:-//Liveonstage.Guide - ECPv6.15.17.1//NONSGML v1.0//EN
CALSCALE:GREGORIAN
METHOD:PUBLISH
X-ORIGINAL-URL:https://liveonstage.guide
X-WR-CALDESC:Events for Liveonstage.Guide
REFRESH-INTERVAL;VALUE=DURATION:PT1H
X-Robots-Tag:noindex
X-PUBLISHED-TTL:PT1H
BEGIN:VTIMEZONE
TZID:Europe/London
BEGIN:DAYLIGHT
TZOFFSETFROM:+0000
TZOFFSETTO:+0100
TZNAME:BST
DTSTART:20250330T010000
END:DAYLIGHT
BEGIN:STANDARD
TZOFFSETFROM:+0100
TZOFFSETTO:+0000
TZNAME:GMT
DTSTART:20251026T010000
END:STANDARD
BEGIN:DAYLIGHT
TZOFFSETFROM:+0000
TZOFFSETTO:+0100
TZNAME:BST
DTSTART:20260329T010000
END:DAYLIGHT
BEGIN:STANDARD
TZOFFSETFROM:+0100
TZOFFSETTO:+0000
TZNAME:GMT
DTSTART:20261025T010000
END:STANDARD
BEGIN:DAYLIGHT
TZOFFSETFROM:+0000
TZOFFSETTO:+0100
TZNAME:BST
DTSTART:20270328T010000
END:DAYLIGHT
BEGIN:STANDARD
TZOFFSETFROM:+0100
TZOFFSETTO:+0000
TZNAME:GMT
DTSTART:20271031T010000
END:STANDARD
END:VTIMEZONE
BEGIN:VEVENT
DTSTART;TZID=Europe/London:20260222T140000
DTEND;TZID=Europe/London:20260222T170000
DTSTAMP:20260422T144431
CREATED:20260209T152954Z
LAST-MODIFIED:20260209T152954Z
UID:3841-1771768800-1771779600@liveonstage.guide
SUMMARY:Cherie Lawrence at The Ryder Social Club\, Hull HU3 2SJ
DESCRIPTION:The Ryder Social Club is a family run Social Club\, located on Coltman Street\, just off the Clive Sullivan Way to the west of Hull City Centre. They offer Live Entertainment every Wednesday afternoon and Sunday Afternoon\, as well as occasional one-off Evening Shows. See their informative Facebook Page for further details. They have a Function Room available for hire at very reasonable terms. Non Members are welcome\, although Membership brings additional benefits. Details from Club. \nAppearing on Sunday Afternoon 22nd February is Cherie Lawrence\nbilled as a ‘Top Female Vocalist’\nCherie Lawrence at The Ryder Social Club\, Hull HU3 2SJ \nRyder Club\, Hull\, Coltman Street\, Clive Sullivan Way\, Cherie Lawrence\, Wednesday Afternoon\, Sunday Afternoon\, Bingo\, Sunday 22nd February\,
URL:https://liveonstage.guide/event/cherie-lawrence-at-the-ryder-social-club-hull-hu3-2sj/
LOCATION:Ryder Club\, 102 Coltman Street\, Kingston upon Hull\, East Riding of Yorkshire\, HU3 2SJ
END:VEVENT
BEGIN:VEVENT
DTSTART;TZID=Europe/London:20260222T200000
DTEND;TZID=Europe/London:20260222T230000
DTSTAMP:20260422T144431
CREATED:20260204T030851Z
LAST-MODIFIED:20260204T030851Z
UID:3770-1771790400-1771801200@liveonstage.guide
SUMMARY:Lucy May at Moortown Social Club\, Leeds LS17 5LA
DESCRIPTION:Moortown Social Club is situated at Cranmer Gardens\, Leeds LS17 5LA which is a short distance from the Leeds Outer Ring Road. There is Live Entertainment every Sunday Night. The Club has a large Dance Floor and two tiers of seating. The Entertainment is normally a solo Vocalist\, supplied through the Agency of  Ricky Graham Leisure\, and they are expected to  perform 2 sets of 45 minutes. \nThe first House of Bingo (the “Flyer”) starts at 8\,30pm prompt\, followed by the Artist’s 1st spot of 45 minutes. There then follows a book of 4 houses of Bingo\, and the drawing of the Raffle\, followed by a further 45 minute spot by the Artist. The audience tends to be aged 35+\, with a preference to older material (60’s / 70s / 80s) yet even then it reduces dramatically after bingo – a sign of the times! \nThe Artist for Sunday 22nd February is Lucy May\nbilled as a ‘Star Female Vocalist’\nLucy May at Moortown Social Club\, Leeds LS17 5LA \nMoortown Social Club\, Leeds\, Leeds Ring Road\, Sunday Night\, 15th February\, Bingo\, What’s on\, Gig Guide\, Live on Stage\, Lucy May\, \n 
URL:https://liveonstage.guide/event/lucy-may-at-moortown-social-club-leeds-ls17-5la/
LOCATION:Moortown Social Club\, Cranmer Gardens\,\, Leeds\, West Yorkshire\, LS17 5LA
CATEGORIES:Social Club Entertainment Night - with Bingo!
END:VEVENT
END:VCALENDAR