BEGIN:VCALENDAR
VERSION:2.0
PRODID:-//Liveonstage.Guide - ECPv6.15.17.1//NONSGML v1.0//EN
CALSCALE:GREGORIAN
METHOD:PUBLISH
X-WR-CALNAME:Liveonstage.Guide
X-ORIGINAL-URL:https://liveonstage.guide
X-WR-CALDESC:Events for Liveonstage.Guide
REFRESH-INTERVAL;VALUE=DURATION:PT1H
X-Robots-Tag:noindex
X-PUBLISHED-TTL:PT1H
BEGIN:VTIMEZONE
TZID:Europe/London
BEGIN:DAYLIGHT
TZOFFSETFROM:+0000
TZOFFSETTO:+0100
TZNAME:BST
DTSTART:20250330T010000
END:DAYLIGHT
BEGIN:STANDARD
TZOFFSETFROM:+0100
TZOFFSETTO:+0000
TZNAME:GMT
DTSTART:20251026T010000
END:STANDARD
BEGIN:DAYLIGHT
TZOFFSETFROM:+0000
TZOFFSETTO:+0100
TZNAME:BST
DTSTART:20260329T010000
END:DAYLIGHT
BEGIN:STANDARD
TZOFFSETFROM:+0100
TZOFFSETTO:+0000
TZNAME:GMT
DTSTART:20261025T010000
END:STANDARD
BEGIN:DAYLIGHT
TZOFFSETFROM:+0000
TZOFFSETTO:+0100
TZNAME:BST
DTSTART:20270328T010000
END:DAYLIGHT
BEGIN:STANDARD
TZOFFSETFROM:+0100
TZOFFSETTO:+0000
TZNAME:GMT
DTSTART:20271031T010000
END:STANDARD
END:VTIMEZONE
BEGIN:VEVENT
DTSTART;TZID=Europe/London:20260425T200000
DTEND;TZID=Europe/London:20260613T230000
DTSTAMP:20260426T030556
CREATED:20251109T163757Z
LAST-MODIFIED:20260402T044527Z
UID:2788-1777147200-1781391600@liveonstage.guide
SUMMARY:Paul Hartman at Jubilee Social Club\, Leeds LS6 2LZ
DESCRIPTION:The Jubilee Social Club is located in Woodhouse\, an area just to the north of Leeds City Centre\, probably best known for Woodhouse Moor and being close to the University of Leeds. \nThe Club is a Community Hub\, and provides a great choice of Live Entertainment for it’s Members\, Affiliated CIU Members and Bona Fide Guests alike. Besides presenting Guest Artists every Saturday and Sunday Evenings\, there are sessions of Cash Bingo during the week\, together of course with  a wide choice of very reasonably priced drinks. A Function Room is for hire\, by arrangement with the Club. \nEntertainment is provided by The Ashley Wheelhouse Agency.\nThe Artist on Saturday 25th April is Paul Hartman\nbilled as a ‘Brilliant Male Guitar Vocalist’
URL:https://liveonstage.guide/event/sean-finch-at-jubilee-social-2lz-club-leeds-ls6-2lz/
LOCATION:Jubilee Social Club\, Melville Place\, Woodhouse\,\, Leeds\, West Yorkshire\, LS6 2LZ
CATEGORIES:Social Club Entertainment Night - with Bingo!
END:VEVENT
BEGIN:VEVENT
DTSTART;TZID=Europe/London:20260425T210000
DTEND;TZID=Europe/London:20260426T003000
DTSTAMP:20260426T030556
CREATED:20260329T185610Z
LAST-MODIFIED:20260329T185610Z
UID:4367-1777150800-1777163400@liveonstage.guide
SUMMARY:Jed Thomas at Blues Bar\, Harrogate HG1 2TJ
DESCRIPTION:The Blues Bar in Harrogate is a “Rollicking night-time Blues Music Hangout and relaxed Daytime Café and Bar with a Funky Décor” according to their web site\, and it’s difficult to improve upon that exact description. \nIt’s a small Café style venue in Harrogate Town Centre\, literally a few seconds walk from the world famous Betty’s Tea Room & Café\, with a small stage\, probably fewer than 30 seats\, but with a fantastic intimate atmosphere\, and with an exceptional program of Live Entertainment every night of the week. \nCheck for occasional variations\, but Martin Rose hosts a Jam Night every Monday and the Acoustic Sessions every Tuesday\, the fabulous Maurice Grumbleweed presents his relaxed Blues Night on Wednesdays\, with more than a touch of the humour that made him and his fellow Grumbleweeds into National Treasures\, and then Guest Bands / Artistes on Thursday\, Friday\, Saturday and double or occasionally treble up Bands all day on Sunday. \n[Strongly recommended] \nJed Thomas appears on Saturday 25th April\n‘The sensational Jed Thomas plays live’ from 9.00pm\nJed Thomas at Blues Bar\, Harrogate HG1 2TJ \nBlues Bar\, Harrogate\, North Yorkshire\, Saturday 18th April\, Jed Thomas\, Blues Guitar\, What’s On in Harrogate\, LiveonStage.Guide\, Saturday Night\, Blues Bar\,
URL:https://liveonstage.guide/event/jed-thomas-at-blues-bar-harrogate-hg1-2tj-5/
LOCATION:Blues Bar\, 4 Montpellier Parade\, Harrogate\, North Yorkshire\, HG1 2TJ
CATEGORIES:Live Music
END:VEVENT
BEGIN:VEVENT
DTSTART;TZID=Europe/London:20260426T150000
DTEND;TZID=Europe/London:20260426T230000
DTSTAMP:20260426T030556
CREATED:20260407T183230Z
LAST-MODIFIED:20260407T183230Z
UID:4589-1777215600-1777244400@liveonstage.guide
SUMMARY:Noon & Night at Main Line Social Club\, Leeds LS13 4LS
DESCRIPTION:Main Line Social Club is situated on Pudsey Road in Wortley\, down the road from Bramley\, and close to Leeds Outer Ring Road. They boast a great programme of entertainment\, on Saturday evening\, Sunday afternoon and Sunday Evening. Typically Groups and Duos appear on Saturday Nights\, with Solo Artists appearing on Sunday afternoons and Nights. \nEntertainment is supplied by The Crossland Agency.\nSarah Harvie appears on Sunday 26th April at 3.00pm\n Steve Beyer appears on Sunday 26th April at 8.00pm\nAfternoon & Evening Entertainment
URL:https://liveonstage.guide/event/noon-night-at-main-line-social-club-leeds-ls13-4ls-3/
LOCATION:Main Line Social Club\, Pudsey Road\, Wortley\, Leeds\, West Yorkshire\, LS13 4LS
CATEGORIES:Afternoon Show,Social Club Entertainment Night - with Bingo!
END:VEVENT
BEGIN:VEVENT
DTSTART;TZID=Europe/London:20260426T190000
DTEND;TZID=Europe/London:20260426T230000
DTSTAMP:20260426T030556
CREATED:20260403T212242Z
LAST-MODIFIED:20260403T212242Z
UID:4522-1777230000-1777244400@liveonstage.guide
SUMMARY:Hutch at Robbies Pub\, Hull HU9 1LN
DESCRIPTION:Robbies Pub is located on Hedon Road in Hull and offers a great variety of weekend Entertainment\, including Karaoke every Saturday and Sunday and Live Entertainment every Sunday Evening from 7pm. The venue is available for Free Private Party Venue every Friday. \nHutch appears on Sunday\, 26th April from 7pm\,\nbilled as a ‘Popular Male Vocalist’\nHutch at Robbies Pub\, Hull HU9 1LN \nRobbies Pub\, Robbies Bar\, Hedon Road\, Hull\, Karaoke\, Live Entertainment\, Sunday 26th April\, Hutch\, What’s on in Hull\, Gig Guide\, LiveonStage.Guide\, Room Hire\,
URL:https://liveonstage.guide/event/hutch-at-robbies-pub-hull-hu9-1ln/
LOCATION:Robbies Pub\, 36 Hedon Road\, Hull\, East Riding of Yorkshire\, HU9 1LN
CATEGORIES:Vocalist singing Live to backing tracks.
END:VEVENT
BEGIN:VEVENT
DTSTART;TZID=Europe/London:20260426T200000
DTEND;TZID=Europe/London:20260426T230000
DTSTAMP:20260426T030556
CREATED:20251126T164342Z
LAST-MODIFIED:20260401T034115Z
UID:3052-1777233600-1777244400@liveonstage.guide
SUMMARY:Debra Allan at Swarcliffe WMC\, Leeds 14 5HE
DESCRIPTION:Swarcliffe is a residential area in Leeds 14 about 4 miles from Leeds City Centre and bordered by Seacroft\, Whinmoor and Thorner. \nThe Swarcliffe Working Men’s Club has an extensive programme of Live Entertainment with shows on both Saturday and Sunday Evenings\, as well as Houses of Bingo and Open the Box. This is a Member’s Club and although Affiliated Club Members and Bona Fide Guests are welcome\, children are not allowed. \nCoach Parties are welcome by arrangement and food can be arranged upon request. \nThe Club operates a strict Dress Code\, requiring Members and Guests to wear Smart Casual Dress. \nEntertainment is supplied by The Ashley Wheelhouse Agency.\nDebra Allan appears on Sunday 26th April\,\nbilled as a ‘Stunning Female Vocalist’
URL:https://liveonstage.guide/event/steve-rose-at-swarcliffe-w-m-c-leeds-ls14-5he/
LOCATION:Swarcliffe W. M. C.\,\, Swarclifffe Avenue\, Leeds\, West Yorkshire\, LS14 5HE
CATEGORIES:Musical Cabaret,Social Club Entertainment Night - with Bingo!
END:VEVENT
BEGIN:VEVENT
DTSTART;TZID=Europe/London:20260426T200000
DTEND;TZID=Europe/London:20260426T230000
DTSTAMP:20260426T030556
CREATED:20260330T162249Z
LAST-MODIFIED:20260330T162249Z
UID:4413-1777233600-1777244400@liveonstage.guide
SUMMARY:Dan Taylor at Moortown Social Club\, Leeds LS17 5LA
DESCRIPTION:Moortown Social Club is situated at Cranmer Gardens\, Leeds 17. which is a short distance from Sainsbury’s Supermarket on the Leeds Outer Ring Road. There is Live Entertainment every Sunday Night\, normally a Solo Singer. The Club has a large Dance Floor and two tiers of seating. The entertainment is supplied through the Ricky Graham Agency\, and the Artist normally performs 2 sets of 45 minutes. There is a good sized Dance Floor in front of the stage\, although rarely are there any dancers in the first spot and generally only a few in the 2nd. \nThe first House of Bingo (the “Flyer”) starts at 8\,30pm prompt\, followed by the Artist’s 1st spot of 45 minutes. There then follows a book of 4 houses of Bingo\, and the drawing the Raffle\, followed by a further 45 minute spot by the Artist. The audience tends to be aged 35+\, with a preference to older material (60’s / 70s / 80s) yet even then it reduces dramatically after bingo – a sign of the times! \nDan Taylor appears on Sunday 26th April\nbilled as a ‘Knockout Male Vocalist’
URL:https://liveonstage.guide/event/dan-taylor-at-moortown-social-club-leeds-ls17-5la/
LOCATION:Moortown Social Club\, Cranmer Gardens\,\, Leeds\, West Yorkshire\, LS17 5LA
CATEGORIES:Social Club Entertainment Night - with Bingo!
END:VEVENT
BEGIN:VEVENT
DTSTART;TZID=Europe/London:20260426T200000
DTEND;TZID=Europe/London:20260426T230000
DTSTAMP:20260426T030556
CREATED:20260402T052027Z
LAST-MODIFIED:20260402T052027Z
UID:4498-1777233600-1777244400@liveonstage.guide
SUMMARY:J. J. Benjamin at Jubilee Social Club\, Leeds LS6 2LZ
DESCRIPTION:The Jubilee Social Club is located in Woodhouse\, an area just to the north of Leeds City Centre\, probably best known for Woodhouse Moor and being close to the University of Leeds. \nThe Club is a Community Hub\, and provides a great choice of Live Entertainment for it’s Members\, Affiliated CIU Members and Bona Fide Guests alike. Besides presenting Guest Artists every Saturday and Sunday Evenings\, there are sessions of Cash Bingo during the week\, together of course with  a wide choice of very reasonably priced drinks. A Function Room is for hire\, by arrangement with the Club. \nEntertainment is provided by The Ashley Wheelhouse Agency.\nThe Artist on Sunday 26th April is J. J. Benjamin\nbilled as a ‘Brilliant Male Vocalist’
URL:https://liveonstage.guide/event/j-j-benjamin-at-jubilee-social-club-leeds-ls6-2lz/
LOCATION:Jubilee Social Club\, Melville Place\, Woodhouse\,\, Leeds\, West Yorkshire\, LS6 2LZ
CATEGORIES:Social Club Entertainment Night - with Bingo!
END:VEVENT
BEGIN:VEVENT
DTSTART;TZID=Europe/London:20260426T200000
DTEND;TZID=Europe/London:20260426T230000
DTSTAMP:20260426T030556
CREATED:20260407T061222Z
LAST-MODIFIED:20260407T061222Z
UID:4568-1777233600-1777244400@liveonstage.guide
SUMMARY:Mandy Ellis at Garforth WMC\, Leeds LS25 1AU
DESCRIPTION:Garforth is a town within the Metropolitan Borough of Leeds in West Yorkshire. It boasts a population of about 15\,000\, is situated about 7 miles to the east of Leeds centre\, 10 miles north of Wakefield\, and 15 miles south-west of York. It is conveniently located for easy access to the M1 and M62 motorways and the A1 (Great North Road). \nGarforth Working Men’s Club was founded in 1907\, and is a Member’s Club. It is home to Garforth Tigers Junior Football Team\, and has a range of Entertainment events including Line Dancing on a Thursday\, Karaoke and Bingo on a Friday and Live Entertainment every Sunday evening. The Concert Room is available to Members for Private Functions on other days. \nMandy Ellis appears on Sunday 26th April\nbilled as a ‘Highly Entertaining Female Vocalist’\nGarforth WMC\, Garforth\, Leeds\, West Yorkshire\, Sunday 19th April\, Carl Knight\, LiveOnStage.Guide\, What’s on in Garforth\, Room Hire\, Karaoke\, Bingo\, \nCarl Knight at Garforth WMC\, Leeds LS25 1AU
URL:https://liveonstage.guide/event/mandy-ellis-at-garforth-wmc-leeds-ls25-1au/
LOCATION:Garforth Working Men’s Club\, Barley Hill Road\, Garforth\, West Yorkshire\, LS25 1AU
END:VEVENT
BEGIN:VEVENT
DTSTART;TZID=Europe/London:20260426T200000
DTEND;TZID=Europe/London:20260426T230000
DTSTAMP:20260426T030556
CREATED:20260411T183530Z
LAST-MODIFIED:20260411T183530Z
UID:4653-1777233600-1777244400@liveonstage.guide
SUMMARY:Connor McRae at Carlton Smithies Ex-Servicemen's Club\, Barnsley S71 3TA
DESCRIPTION:Carlton Smithies Ex-Servicemen’s Club (sometimes called The Haddon Road Club) is situated in Barnsley and has Live Entertainment on both Saturday and Sunday Evenings. with Bingo being played at all sessions. Visitors are made very welcome. \nAll bookings are conducted through the current Concert Secretary – Ian Oliver. \nConnor McRae appears on Sunday 26th April\,\nbilled as an ‘Outstanding Rock Vocalist‘\nCarlton Smithies Ex-Servicemen’s Club\, Connor McRae\, Sunday 26th April\, Barnsley\, LiveOnStage.Guide\, Live Entertainment\, What’s on\, Gig Guide\, \nConnor McRae at Carlton Smithies Ex-Servicemen’s Club\, Barnsley S71 3TA
URL:https://liveonstage.guide/event/connor-mcrae-at-carlton-smithies-ex-servicemens-club-barnsley-s71-3ta/
LOCATION:Carlton Smithies Ex Servicemen’s Club\, Haddon Road\, Barnsley\, South Yorkshire\, S71 3TA
END:VEVENT
BEGIN:VEVENT
DTSTART;TZID=Europe/London:20260426T200000
DTEND;TZID=Europe/London:20260426T230000
DTSTAMP:20260426T030556
CREATED:20260411T185007Z
LAST-MODIFIED:20260411T185007Z
UID:4656-1777233600-1777244400@liveonstage.guide
SUMMARY:Elle Francesca at Darfield Road WMC.\, Cudworth\, Barnsley S72 8RL
DESCRIPTION:Cudworth is a Village within the Metropolitan Borough of Barnsley in South Yorkshire. The area has strong sporting traditions with Darren Gough (Yorkshire & England Cricketer)\, Dorothy Hyman (Olympic Athlete) and David Hirst (Footballer) all having been born or spent their early days in the Village. Although Sir Michael Parkinson is best remembered for his Journalism and TV Presenting – he was born in Cudworth and was a talented local Cricketer in his youth\, playing alongside Yorkshire Cricketing Legends such as Geoff Boycott and retired Umpire Dickie Bird. \nDarfield Road Working Men’s Club plays an important part as a Community hub and stages Live Entertainment every Sunday Evening with a variety of mainly Solo Singers and Duos. The Car Park is protected by 24 hour CCTV Video Recording. \nElle Francesca appears on Sunday 26th April\n billed as a ‘Knockout Female Vocalist’
URL:https://liveonstage.guide/event/elle-francesca-at-darfield-road-wmc-cudworth-barnsley-s72-8rl/
LOCATION:Darfield Road Working Men’s Club\, Darfield Road\, Cudworth\, Barnsley\, South Yorkshire\, S72 8RL
END:VEVENT
BEGIN:VEVENT
DTSTART;TZID=Europe/London:20260426T200000
DTEND;TZID=Europe/London:20260426T230000
DTSTAMP:20260426T030556
CREATED:20260414T011948Z
LAST-MODIFIED:20260414T011948Z
UID:4682-1777233600-1777244400@liveonstage.guide
SUMMARY:The Boyz at Monk Bretton Club\, Barnsley S71 2EP
DESCRIPTION:Monk Bretton is a Village in the Metropolitan Borough of Barnsley\, South Yorkshire. It is located about 2 miles North East of Barnsley Town Centre. It has a strong Cricketing history being the birthplace of Darren Gough the former Yorkshire and England fast bowler. It is also said that legendary Umpire Dickie Bird once worked at the local Colliery\, and his Autobiography sold over 1 million copies. Dickie created the Dickie Bird Foundation whose vision was to assist young people under the age of 16 to participate to the best of their ability in the sport of their choice. The 2016 nomination was to support the career of Harry Brook\, then aged 17\, who has gone on to play for England\, and is quickly becoming one of the World’s top Batsmen. Even in his later years\, Dickie is still having an influence on the game that he loves so much! \nMonk Bretton Club is situated on Cross Street and Live Entertainment is staged every Saturday and occasional Sunday Evenings as advertised. \nThe Boyz appear on Sunday 26th April\nbilled as an ‘Excellent Young Male Group’\nThe Boyz at Monk Bretton Club\, Barnsley S71 2EP \nThe Boyz\, Monk Bretton Club\, Barnsley\, Sunday 26th April\, What’s on in Barnsley\, South Yorkshire\, LiveOnStage\,Guide\,
URL:https://liveonstage.guide/event/the-boyz-at-monk-bretton-club-barnsley-s71-2ep/
LOCATION:Monk Bretton Club\, Cross Street\, Monk Bretton\, Barnsley\, South Yorkshire\, S71 2EP
CATEGORIES:Live Band on Stage
END:VEVENT
END:VCALENDAR