BEGIN:VCALENDAR
VERSION:2.0
PRODID:-//Liveonstage.Guide - ECPv6.15.17.1//NONSGML v1.0//EN
CALSCALE:GREGORIAN
METHOD:PUBLISH
X-ORIGINAL-URL:https://liveonstage.guide
X-WR-CALDESC:Events for Liveonstage.Guide
REFRESH-INTERVAL;VALUE=DURATION:PT1H
X-Robots-Tag:noindex
X-PUBLISHED-TTL:PT1H
BEGIN:VTIMEZONE
TZID:Europe/London
BEGIN:DAYLIGHT
TZOFFSETFROM:+0000
TZOFFSETTO:+0100
TZNAME:BST
DTSTART:20250330T010000
END:DAYLIGHT
BEGIN:STANDARD
TZOFFSETFROM:+0100
TZOFFSETTO:+0000
TZNAME:GMT
DTSTART:20251026T010000
END:STANDARD
BEGIN:DAYLIGHT
TZOFFSETFROM:+0000
TZOFFSETTO:+0100
TZNAME:BST
DTSTART:20260329T010000
END:DAYLIGHT
BEGIN:STANDARD
TZOFFSETFROM:+0100
TZOFFSETTO:+0000
TZNAME:GMT
DTSTART:20261025T010000
END:STANDARD
BEGIN:DAYLIGHT
TZOFFSETFROM:+0000
TZOFFSETTO:+0100
TZNAME:BST
DTSTART:20270328T010000
END:DAYLIGHT
BEGIN:STANDARD
TZOFFSETFROM:+0100
TZOFFSETTO:+0000
TZNAME:GMT
DTSTART:20271031T010000
END:STANDARD
END:VTIMEZONE
BEGIN:VEVENT
DTSTART;TZID=Europe/London:20260205T193000
DTEND;TZID=Europe/London:20260205T230000
DTSTAMP:20260419T125156
CREATED:20250313T205150Z
LAST-MODIFIED:20260131T070621Z
UID:1227-1770319800-1770332400@liveonstage.guide
SUMMARY:Open Mic Night at Horse & Farrier\, Otley LS21 1BQ
DESCRIPTION:Every Thursday from 7.30pm and hosted by Paul Briscoe\, this is probably the longest running Open Mic Night in Otley. All welcome\, either to perform or just to enjoy the very best in local music. Korg Stage Piano & House Guitar available.\nFood served\, and letting rooms available.
URL:https://liveonstage.guide/event/open-mic-night-at-horse-farrier-otley-ls21-1bq-2/
LOCATION:Horse & Farrier\, 7 Bridge Street\, Otley\, West Yorkshire\, LS21 1BQ
CATEGORIES:Open Mic Night
END:VEVENT
BEGIN:VEVENT
DTSTART;TZID=Europe/London:20260206T193000
DTEND;TZID=Europe/London:20260206T230000
DTSTAMP:20260419T125156
CREATED:20260113T005045Z
LAST-MODIFIED:20260113T005045Z
UID:3542-1770406200-1770418800@liveonstage.guide
SUMMARY:Open Mic Night at The Crooked Tap\, Driffield YO25 6AR
DESCRIPTION:Set right in the Centre of Driffield\, The Crooked Tap occupies an impressive building which was once the home of a Bank: \nOnce a bank\, The Crooked Tap Driffield reinvents the term over-draft.\nWith a curated beer selection of craft beers from our own brewery and other legends in the brewing world.\nWe keep our bank of booze stocked with hand-picked spirits\, wines and ciders to get you investing!\nWeekly events like Bingo\, Music\, Craft fairs and food there’s always something for you and your friends.\nThere is an Open Mic Night on the first Friday of each month\, starting from 7.30pm
URL:https://liveonstage.guide/event/open-mic-night-at-the-crooked-tap-driffield-yo25-6ar-2/
LOCATION:The Crooked Tap\, Market Place\, Driffield\, East Riding of Yorkshire\, YO25 6AR
CATEGORIES:Open Mic Night
END:VEVENT
BEGIN:VEVENT
DTSTART;TZID=Europe/London:20260206T200000
DTEND;TZID=Europe/London:20260206T230000
DTSTAMP:20260419T125156
CREATED:20260130T005309Z
LAST-MODIFIED:20260130T011042Z
UID:3738-1770408000-1770418800@liveonstage.guide
SUMMARY:Open Mic Night at The Falcon Club\, Otley LS21 3AT
DESCRIPTION:The Falcon Sports & Social Club was originally was originally built in 1909 as an Oddfellows Friendly Society Hall. but later became a Social Club for workers at the nearby Crabtree Vickers Factory. When the factory closed down\, the Clubhouse was gifted to the employees and it subsequently became a Private Members Club. \nThe Clubhouse is of timber construction\, and was threatened by demolition when planning permission was granted by Leeds City Council for the building of a nearby Care Home. However the Club Members refused an offer to buy them out\, and have since made improvements\, which include moving the Snooker Table into an extension\, to make it less of a Snooker Hall and more of a Social Club. Further improvements have included the addition of Disabled Facilities\, which because of the Club being all on one level makes it an ideal location as a Venue for Parties and Wakes\, for which it is available at very reasonable rates. \nAs a Member’s Club the Beer prices are also reasonably priced\, although Guests need to be signed in by a Member. The Club has 2 teams entered into the Otley & District Snooker League\, home games of which which are held on Tuesday evenings. \nOpen Mic Night every Friday Night from 8pm\norganised by Daniel and Margaret Marshall.
URL:https://liveonstage.guide/event/open-mic-night-at-the-falcon-club-otley-ls21-3at-9/
LOCATION:Falcon Sports & Social Club\, Westgate\,\, Otley\, West Yorkshire\, LS21 3AT
CATEGORIES:Open Mic Night
END:VEVENT
BEGIN:VEVENT
DTSTART;TZID=Europe/London:20260206T210000
DTEND;TZID=Europe/London:20260206T233000
DTSTAMP:20260419T125156
CREATED:20260123T050024Z
LAST-MODIFIED:20260123T050024Z
UID:3703-1770411600-1770420600@liveonstage.guide
SUMMARY:Jam Night at Park Place Social Club\, Knaresborough HG5 0ER
DESCRIPTION:Jam Night / Open Mic Night every Friday Night \nat Park Place Social Club in Knaresborough.\nThe Club is just a minutes walk from Knaresborough Bus Station and a 5 minute walk from Knaresborough Railway Station which is on the Leeds to York Railway Line.\nGood size Concert Room\, reasonable priced drinks\, and plenty of free parking in the Market Square\, which is very close by. All welcome – free admission!\nJam Night at Park Place Social Club\, Knaresborough HG5 0ER \nOpen Mic Night\, Jam Night\, Park Place Social Club\, Friday 6th February\, Live Music\, Knaresborough\, Harrogate\, North Yorkshire\,
URL:https://liveonstage.guide/event/jam-night-at-park-place-social-club-knaresborough-hg5-0er-4/
LOCATION:Park Place Social Club\, 3 Park Square\, Knaresborough\, North Yorkshire\, HG5 0ER
CATEGORIES:Jam Night,Open Mic Night
END:VEVENT
BEGIN:VEVENT
DTSTART;TZID=Europe/London:20260212T193000
DTEND;TZID=Europe/London:20260212T230000
DTSTAMP:20260419T125156
CREATED:20250313T204900Z
LAST-MODIFIED:20260131T070904Z
UID:1225-1770924600-1770937200@liveonstage.guide
SUMMARY:Open Mic Night at Horse & Farrier\, Otley LS21 1BQ
DESCRIPTION:Every Thursday from 7.30pm and hosted by Paul Briscoe\, this is probably the longest running Open Mic Night in Otley. All welcome\, either to perform or just to enjoy the very best in local music. Korg Stage Piano & House Guitar available.\nFood served\, and letting rooms available.\n sday 27th March
URL:https://liveonstage.guide/event/open-mic-night-at-horse-farrier-otley-ls21-1bq/
LOCATION:Horse & Farrier\, 7 Bridge Street\, Otley\, West Yorkshire\, LS21 1BQ
CATEGORIES:Open Mic Night
END:VEVENT
BEGIN:VEVENT
DTSTART;TZID=Europe/London:20260213T200000
DTEND;TZID=Europe/London:20260213T230000
DTSTAMP:20260419T125156
CREATED:20260130T011627Z
LAST-MODIFIED:20260130T074457Z
UID:3740-1771012800-1771023600@liveonstage.guide
SUMMARY:Open Mic Night at The Falcon Club\, Otley LS21 3AT
DESCRIPTION:The Falcon Sports & Social Club was originally was originally built in 1909 as an Oddfellows Friendly Society Hall. but later became a Social Club for workers at the nearby Crabtree Vickers Factory. When the factory closed down\, the Clubhouse was gifted to the employees and it subsequently became a Private Members Club. \nThe Clubhouse is of timber construction\, and was threatened by demolition when planning permission was granted by Leeds City Council for the building of a nearby Care Home. However the Club Members refused an offer to buy them out\, and have since made improvements\, which include moving the Snooker Table into an extension\, to make it less of a Snooker Hall and more of a Social Club. Further improvements have included the addition of Disabled Facilities\, which because of the Club being all on one level makes it an ideal location as a Venue for Parties and Wakes\, for which it is available at very reasonable rates. \nAs a Member’s Club the Beer prices are also reasonably priced\, although Guests need to be signed in by a Member. The Club has 2 teams entered into the Otley & District Snooker League\, home games of which which are held on Tuesday evenings. \nOpen Mic Night every Friday Night from 8pm\norganised by Daniel and Margaret Marshall.
URL:https://liveonstage.guide/event/open-mic-night-at-the-falcon-club-otley-ls21-3at-10/
LOCATION:Falcon Sports & Social Club\, Westgate\,\, Otley\, West Yorkshire\, LS21 3AT
CATEGORIES:Open Mic Night
END:VEVENT
BEGIN:VEVENT
DTSTART;TZID=Europe/London:20260220T200000
DTEND;TZID=Europe/London:20260220T230000
DTSTAMP:20260419T125156
CREATED:20260130T075822Z
LAST-MODIFIED:20260130T075822Z
UID:3744-1771617600-1771628400@liveonstage.guide
SUMMARY:Open Mic Night at The Falcon Club\, Otley LS21 3AT
DESCRIPTION:The Falcon Sports & Social Club was originally was originally built in 1909 as an Oddfellows Friendly Society Hall. but later became a Social Club for workers at the nearby Crabtree Vickers Factory. When the factory closed down\, the Clubhouse was gifted to the employees and it subsequently became a Private Members Club. \nThe Clubhouse is of timber construction\, and was threatened by demolition when planning permission was granted by Leeds City Council for the building of a nearby Care Home. However the Club Members refused an offer to buy them out\, and have since made improvements\, which include moving the Snooker Table into an extension\, to make it less of a Snooker Hall and more of a Social Club. Further improvements have included the addition of Disabled Facilities\, which because of the Club being all on one level makes it an ideal location as a Venue for Parties and Wakes\, for which it is available at very reasonable rates. \nAs a Member’s Club the Beer prices are also reasonably priced\, although Guests need to be signed in by a Member. The Club has 2 teams entered into the Otley & District Snooker League\, home games of which which are held on Tuesday evenings. \nOpen Mic Night every Friday Night from 8pm\norganised by Daniel and Margaret Marshall.
URL:https://liveonstage.guide/event/open-mic-night-at-the-falcon-club-otley-ls21-3at-11/
LOCATION:Falcon Sports & Social Club\, Westgate\,\, Otley\, West Yorkshire\, LS21 3AT
CATEGORIES:Open Mic Night
END:VEVENT
BEGIN:VEVENT
DTSTART;TZID=Europe/London:20260227T200000
DTEND;TZID=Europe/London:20260227T230000
DTSTAMP:20260419T125156
CREATED:20260130T122318Z
LAST-MODIFIED:20260130T122318Z
UID:3746-1772222400-1772233200@liveonstage.guide
SUMMARY:Open Mic Night at The Falcon Club\, Otley LS21 3AT
DESCRIPTION:The Falcon Sports & Social Club was originally was originally built in 1909 as an Oddfellows Friendly Society Hall. but later became a Social Club for workers at the nearby Crabtree Vickers Factory. When the factory closed down\, the Clubhouse was gifted to the employees and it subsequently became a Private Members Club. \nThe Clubhouse is of timber construction\, and was threatened by demolition when planning permission was granted by Leeds City Council for the building of a nearby Care Home. However the Club Members refused an offer to buy them out\, and have since made improvements\, which include moving the Snooker Table into an extension\, to make it less of a Snooker Hall and more of a Social Club. Further improvements have included the addition of Disabled Facilities\, which because of the Club being all on one level makes it an ideal location as a Venue for Parties and Wakes\, for which it is available at very reasonable rates. \nAs a Member’s Club the Beer prices are also reasonably priced\, although Guests need to be signed in by a Member. The Club has 2 teams entered into the Otley & District Snooker League\, home games of which which are held on Tuesday evenings. \nOpen Mic Night every Friday Night from 8pm\norganised by Daniel and Margaret Marshall.
URL:https://liveonstage.guide/event/open-mic-night-at-the-falcon-club-otley-ls21-3at-12/
LOCATION:Falcon Sports & Social Club\, Westgate\,\, Otley\, West Yorkshire\, LS21 3AT
CATEGORIES:Open Mic Night
END:VEVENT
END:VCALENDAR