BEGIN:VCALENDAR
VERSION:2.0
PRODID:-//Liveonstage.Guide - ECPv6.15.17.1//NONSGML v1.0//EN
CALSCALE:GREGORIAN
METHOD:PUBLISH
X-ORIGINAL-URL:https://liveonstage.guide
X-WR-CALDESC:Events for Liveonstage.Guide
REFRESH-INTERVAL;VALUE=DURATION:PT1H
X-Robots-Tag:noindex
X-PUBLISHED-TTL:PT1H
BEGIN:VTIMEZONE
TZID:Europe/London
BEGIN:DAYLIGHT
TZOFFSETFROM:+0000
TZOFFSETTO:+0100
TZNAME:BST
DTSTART:20250330T010000
END:DAYLIGHT
BEGIN:STANDARD
TZOFFSETFROM:+0100
TZOFFSETTO:+0000
TZNAME:GMT
DTSTART:20251026T010000
END:STANDARD
BEGIN:DAYLIGHT
TZOFFSETFROM:+0000
TZOFFSETTO:+0100
TZNAME:BST
DTSTART:20260329T010000
END:DAYLIGHT
BEGIN:STANDARD
TZOFFSETFROM:+0100
TZOFFSETTO:+0000
TZNAME:GMT
DTSTART:20261025T010000
END:STANDARD
BEGIN:DAYLIGHT
TZOFFSETFROM:+0000
TZOFFSETTO:+0100
TZNAME:BST
DTSTART:20270328T010000
END:DAYLIGHT
BEGIN:STANDARD
TZOFFSETFROM:+0100
TZOFFSETTO:+0000
TZNAME:GMT
DTSTART:20271031T010000
END:STANDARD
END:VTIMEZONE
BEGIN:VEVENT
DTSTART;TZID=Europe/London:20260207T200000
DTEND;TZID=Europe/London:20260207T230000
DTSTAMP:20260421T133542
CREATED:20260202T235414Z
LAST-MODIFIED:20260203T003937Z
UID:3756-1770494400-1770505200@liveonstage.guide
SUMMARY:Caitlin L at Denison Hall Club\, Armley LS12 3LL
DESCRIPTION:Armley is a suburb of Leeds\, situated about 2 miles west of Leeds Centre\, along the A647 towards Bradford. The Denison Hall Club is actually situated on the main street right in the Centre of Armley. Although Denison Hall Club is a Member’s Club\, members of Affiliated CIU Clubs\, and Bona Fide Guests are very welcome. \nTop Live Entertainment is staged at Denison Hall Club  every Saturday Night\, there’s a Quiz Night in the lounge on Tuesday Evening and a Ladies Section Bingo Night each Thursday. \nEntertainment is supplied by Ricky Graham Leisure Entertainment Agency. \nCaitlin L appears on Saturday 7th February\n– billed as a ‘Top Female Vocalist’.
URL:https://liveonstage.guide/event/caitlin-l-at-denison-hall-club-arley-ls12-3ll/
LOCATION:Denison Hall Club\, Town Street\, Armley\, West Yorkshire\, LS12 3LL
CATEGORIES:Social Club Entertainment Night - with Bingo!
END:VEVENT
BEGIN:VEVENT
DTSTART;TZID=Europe/London:20260207T200000
DTEND;TZID=Europe/London:20260207T230000
DTSTAMP:20260421T133542
CREATED:20260204T032305Z
LAST-MODIFIED:20260204T032446Z
UID:3773-1770494400-1770505200@liveonstage.guide
SUMMARY:Emily Peters at East End Park WMC\, Leeds LS9 9LX
DESCRIPTION:East End Park is a residential area located about 2 miles from Leeds City centre\, just off York Road (A64) . The Park itself dates back to Victorian Times\, but was purchased by Leeds City Council in 1886\, when it had become a wasteland. \n\n\nThe Working Men’s Club is situated on Vinery Avenue\, and presents Live Entertainment every Saturday Night with Bingo\, reasonably priced drinks\, and full disabled facilities. Members Children only are allowed. \nEntertainment is supplied by Ricky Graham Leisure Entertainment Agency \nThe Guest Artist on Saturday 7th February is  Emily Peters\nwho is billed as a ‘Fantastic Female Vocalist’
URL:https://liveonstage.guide/event/emily-peters-at-east-end-park-wmc-leeds-ls9-9lx/
LOCATION:East End Park W. M. C.\, Vinery Avenue\, Leeds\, West Yorkshire\, LS9 9LX
CATEGORIES:Social Club Entertainment Night - with Bingo!
END:VEVENT
BEGIN:VEVENT
DTSTART;TZID=Europe/London:20260207T200000
DTEND;TZID=Europe/London:20260207T230000
DTSTAMP:20260421T133542
CREATED:20260207T002342Z
LAST-MODIFIED:20260207T003733Z
UID:3800-1770494400-1770505200@liveonstage.guide
SUMMARY:Rapture Party Band at Hornsea Ex Servicemen's Club\, HU18 1BA
DESCRIPTION:Hornsea is a popular East Yorkshire Coast resort and was\, until 2000\, the home of The Hornsea Pottery. The local population of 8\,500 increases somewhat during the Summer months with the influx of Tourists. Actor Brian Rix (later to become Baron Rix) and his sister Sheila Mercier (Annie Sugden from Emmerdale Farm) were both from the Town \nHornsea Ex Servicemen’s Club is located in the old Town of Hornsea\, down Back Southgate and Membership is available to all\, not just ex forces. According to their Facebook Page\, they are open daily from 12 noon. There are 2 Bars\, and a Function Room and besides Live Entertainment every Saturday and Sunday Night\, showing Sports on TV\, they have a Snooker Table\, Pool Table and regular Bingo and Quiz Nights. \nThe Guest Artist from Saturday 7th February is Rapture\nbilled as a ‘Party Band’.
URL:https://liveonstage.guide/event/rapture-party-band-at-hornsea-ex-servicemens-club-hu18-1ba/
LOCATION:Hornsea Ex Servicemen’s Club\, Back Southgate\, Hornsea\, East Riding of Yorkshire\, HU18 1BA
CATEGORIES:Social Club Entertainment Night - with Bingo!,Theatre Show
END:VEVENT
BEGIN:VEVENT
DTSTART;TZID=Europe/London:20260207T200000
DTEND;TZID=Europe/London:20260207T233000
DTSTAMP:20260421T133542
CREATED:20250131T035259Z
LAST-MODIFIED:20260203T121928Z
UID:274-1770494400-1770507000@liveonstage.guide
SUMMARY:Country & Western Extravaganza at Edmund House Club\, Leeds LS9 8QJ
DESCRIPTION:A variety of Entertainment at Edmund House Club during February includes a Valentines Quiz & Disco on 14th\, Andy McGowan’s 80’s Party on 21st and a Private Party on 28th. Large screen TV in Games Room\, showing Major Sports Events on Sky TV. \nHowever there is a: \nCountry & Western Extravaganza on 7th February
URL:https://liveonstage.guide/event/the-signals-at-edmund-house-club-leeds-9/
LOCATION:Edmund House Club\, Pontefract Lane\, Leeds\, West Yorkshire\, LS9 8QJ
CATEGORIES:Social Club Entertainment Night - with Bingo!
END:VEVENT
BEGIN:VEVENT
DTSTART;TZID=Europe/London:20260208T200000
DTEND;TZID=Europe/London:20260208T230000
DTSTAMP:20260421T133542
CREATED:20260207T005855Z
LAST-MODIFIED:20260207T073311Z
UID:3804-1770580800-1770591600@liveonstage.guide
SUMMARY:Caroline Seymour at Hornsea Ex Servicemen's Club\, HU18 1BA
DESCRIPTION:Hornsea is a popular East Yorkshire Coast resort and was\, until 2000\, the home of The Hornsea Pottery. The local population of 8\,500 increases somewhat during the Summer months with the influx of Tourists. Actor Brian Rix (later to become Baron Rix) and his sister Sheila Mercier (Annie Sugden from Emmerdale Farm) were both from the Town \nHornsea Ex Servicemen’s Club is located in the old Town of Hornsea\, down Back Southgate and Membership is available to all\, not just ex forces. According to their Facebook Page\, they are open daily from 12 noon. There are 2 Bars\, and a Function Room and besides Live Entertainment every Saturday and Sunday Night\, showing Sports on TV\, they have a Snooker Table\, Pool Table and regular Bingo and Quiz Nights. \nThe Guest Artist for Sunday 8th February is Caroline Seymour\nbilled as a ‘Top Female Vocalist’.
URL:https://liveonstage.guide/event/caroline-seymour-at-hornsea-ex-servicemens-club-hu18-1ba/
LOCATION:Hornsea Ex Servicemen’s Club\, Back Southgate\, Hornsea\, East Riding of Yorkshire\, HU18 1BA
CATEGORIES:Social Club Entertainment Night - with Bingo!
END:VEVENT
BEGIN:VEVENT
DTSTART;TZID=Europe/London:20260214T200000
DTEND;TZID=Europe/London:20260214T230000
DTSTAMP:20260421T133542
CREATED:20260129T010539Z
LAST-MODIFIED:20260129T234752Z
UID:3728-1771099200-1771110000@liveonstage.guide
SUMMARY:Fabba Remix at York Bar WMC\, Doncaster DN5 8JH
DESCRIPTION:York Bar Working Men’s Club is a popular Club located on York Road in Doncaster. Live Entertainment is staged every Saturday Night with a variety of Top Class Artists provided through the Booking Agency of Graham Platt. \nGuest Artist for Saturday 14th February is Fabba Remix\nbilled as an ‘Excellent Classic & Modern Pop Female Duo’
URL:https://liveonstage.guide/event/fabba-remix-at-york-bar-wmc-doncaster-dn5-8jh/
LOCATION:York Bar WMC\, York Road\, Doncaster\, South Yorkshire\, DN5 8JH
CATEGORIES:Social Club Entertainment Night - with Bingo!
END:VEVENT
BEGIN:VEVENT
DTSTART;TZID=Europe/London:20260221T200000
DTEND;TZID=Europe/London:20260221T230000
DTSTAMP:20260421T133542
CREATED:20260130T000309Z
LAST-MODIFIED:20260130T000309Z
UID:3730-1771704000-1771714800@liveonstage.guide
SUMMARY:Formula Two at York Bar WMC\, Doncaster DN5 8JH
DESCRIPTION:York Bar Working Men’s Club is a popular Club located on York Road in Doncaster. Live Entertainment is staged every Saturday Night with a variety of Top Class Artists provided through the Booking Agency of Graham Platt. \nGuest Artist for Saturday 21st February is Formula Two\nbilled as a ‘Great Vocal Instrumental Pop Duo Duo’
URL:https://liveonstage.guide/event/formula-two-at-york-bar-wmc-doncaster-dn5-8jh/
LOCATION:York Bar WMC\, York Road\, Doncaster\, South Yorkshire\, DN5 8JH
CATEGORIES:Social Club Entertainment Night - with Bingo!
END:VEVENT
BEGIN:VEVENT
DTSTART;TZID=Europe/London:20260221T200000
DTEND;TZID=Europe/London:20260221T230000
DTSTAMP:20260421T133542
CREATED:20260204T043706Z
LAST-MODIFIED:20260204T044019Z
UID:3777-1771704000-1771714800@liveonstage.guide
SUMMARY:Hayley Lou at East End Park WMC\, Leeds LS9 9LX
DESCRIPTION:East End Park is a residential area located about 2 miles from Leeds City centre\, just off York Road (A64) . The Park itself dates back to Victorian Times\, but was purchased by Leeds City Council in 1886\, when it had become a wasteland. \n\n\nThe Working Men’s Club is situated on Vinery Avenue\, and presents Live Entertainment every Saturday Night with Bingo\, reasonably priced drinks\, and full disabled facilities. Members Children only are allowed. \nEntertainment is supplied by Ricky Graham Leisure Entertainment Agency \nThe Guest Artist on Saturday 21st February is Hayley Lou\nwho is billed as a ‘Excellent Female Vocalist’
URL:https://liveonstage.guide/event/hayley-lou-at-east-end-park-wmc-leeds-ls9-9lx/
LOCATION:East End Park W. M. C.\, Vinery Avenue\, Leeds\, West Yorkshire\, LS9 9LX
CATEGORIES:Social Club Entertainment Night - with Bingo!
END:VEVENT
BEGIN:VEVENT
DTSTART;TZID=Europe/London:20260222T200000
DTEND;TZID=Europe/London:20260222T230000
DTSTAMP:20260421T133542
CREATED:20260204T030851Z
LAST-MODIFIED:20260204T030851Z
UID:3770-1771790400-1771801200@liveonstage.guide
SUMMARY:Lucy May at Moortown Social Club\, Leeds LS17 5LA
DESCRIPTION:Moortown Social Club is situated at Cranmer Gardens\, Leeds LS17 5LA which is a short distance from the Leeds Outer Ring Road. There is Live Entertainment every Sunday Night. The Club has a large Dance Floor and two tiers of seating. The Entertainment is normally a solo Vocalist\, supplied through the Agency of  Ricky Graham Leisure\, and they are expected to  perform 2 sets of 45 minutes. \nThe first House of Bingo (the “Flyer”) starts at 8\,30pm prompt\, followed by the Artist’s 1st spot of 45 minutes. There then follows a book of 4 houses of Bingo\, and the drawing of the Raffle\, followed by a further 45 minute spot by the Artist. The audience tends to be aged 35+\, with a preference to older material (60’s / 70s / 80s) yet even then it reduces dramatically after bingo – a sign of the times! \nThe Artist for Sunday 22nd February is Lucy May\nbilled as a ‘Star Female Vocalist’\nLucy May at Moortown Social Club\, Leeds LS17 5LA \nMoortown Social Club\, Leeds\, Leeds Ring Road\, Sunday Night\, 15th February\, Bingo\, What’s on\, Gig Guide\, Live on Stage\, Lucy May\, \n 
URL:https://liveonstage.guide/event/lucy-may-at-moortown-social-club-leeds-ls17-5la/
LOCATION:Moortown Social Club\, Cranmer Gardens\,\, Leeds\, West Yorkshire\, LS17 5LA
CATEGORIES:Social Club Entertainment Night - with Bingo!
END:VEVENT
BEGIN:VEVENT
DTSTART;TZID=Europe/London:20260228T200000
DTEND;TZID=Europe/London:20260228T230000
DTSTAMP:20260421T133542
CREATED:20251030T055048Z
LAST-MODIFIED:20260223T050027Z
UID:2577-1772308800-1772319600@liveonstage.guide
SUMMARY:Hayley Lou at Tinshill & Cookridge Social Club\, Leeds LS16 6PF
DESCRIPTION:Tinshill & Cookridge Club is a friendly Club\,  situated just a short walk away from Horsforth Railway Station\, on the Leeds to York line and there is a regular Bus Service which stops right outside the Club connecting nearby Holt Park with Leeds City centre. \nThe 200 capacity Concert Room is available for Private Functions. \nSaturday Evening is Cabaret Time\, and the show is usually divided into 3 sets. The first ‘Flyer’ of Bingo is played about 8.30pm followed by the Artist’s 1st and then 2nd spots with ‘Open the Box’ in between. \nCIU affiliated Club members and Bona Fide guests are welcome\, although only Member’s Children \, (who must be aged 5 years or older)\, are admitted to the Concert Room. \nThe Show finishes with the Artists 3rd and final spot\, normally up-tempo and with a nice sized Dance Floor\, there’s plenty of room for the regular dancers to ‘Bust some moves!’ \nOn Saturday 28th February the Artist is Hayley Lou \nbilled as an ‘Excellent Female Vocal Entertainer’
URL:https://liveonstage.guide/event/r-j-alan-at-tinshill-cookridge-social-club-leeds-ls16-6pf/
LOCATION:Tinshill & Cookridge Social Club\, Silk Mill Drive\, Tinshill\, Leeds\, West Yorkshire\, LS16 6PF
CATEGORIES:Musical Cabaret,Social Club Entertainment Night - with Bingo!
END:VEVENT
BEGIN:VEVENT
DTSTART;TZID=Europe/London:20260228T200000
DTEND;TZID=Europe/London:20260228T230000
DTSTAMP:20260421T133542
CREATED:20260130T003607Z
LAST-MODIFIED:20260130T003708Z
UID:3732-1772308800-1772319600@liveonstage.guide
SUMMARY:Vinyl Legacy at York Bar WMC\, Doncaster DN5 8JH
DESCRIPTION:York Bar Working Men’s Club is a popular Club located on York Road in Doncaster. Live Entertainment is staged every Saturday Night with a variety of Top Class Artists provided through the Booking Agency of Graham Platt. \nGuest Artist for Saturday 28th February is Vinyl Legacy\nbilled as a ‘Live 60’s & 70’s Party Band’
URL:https://liveonstage.guide/event/vinyl-legacy-at-york-bar-wmc-doncaster-dn5-8jh/
LOCATION:York Bar WMC\, York Road\, Doncaster\, South Yorkshire\, DN5 8JH
CATEGORIES:Social Club Entertainment Night - with Bingo!
END:VEVENT
BEGIN:VEVENT
DTSTART;TZID=Europe/London:20260228T200000
DTEND;TZID=Europe/London:20260228T230000
DTSTAMP:20260421T133542
CREATED:20260222T230253Z
LAST-MODIFIED:20260222T230253Z
UID:3850-1772308800-1772319600@liveonstage.guide
SUMMARY:Thomas Marx at Denison Hall Club\, Armley\, Leeds LS12 3LL
DESCRIPTION:Armley is a suburb of Leeds\, situated about 2 miles west of Leeds Centre\, along the A647 towards Bradford. The Denison Hall Club is actually situated on the main street right in the Centre of Armley. Although Denison Hall Club is a Member’s Club\, members of Affiliated CIU Clubs\, and Bona Fide Guests are very welcome. \nTop Live Entertainment is staged at Denison Hall Club  every Saturday Night\, there’s a Quiz Night in the lounge on Tuesday Evening and a Ladies Section Bingo Night each Thursday. \nEntertainment is supplied by Ricky Graham Leisure Entertainment Agency. \nThomas Marx appears on Saturday 28th February\n– billed as an ‘Excellent Male Vocal Entertainer’.
URL:https://liveonstage.guide/event/thomas-marx-at-denison-hall-club-armley-leeds-ls12-3ll/
LOCATION:Denison Hall Club\, Town Street\, Armley\, West Yorkshire\, LS12 3LL
CATEGORIES:Social Club Entertainment Night - with Bingo!
END:VEVENT
END:VCALENDAR