BEGIN:VCALENDAR
VERSION:2.0
PRODID:-//Liveonstage.Guide - ECPv6.15.17.1//NONSGML v1.0//EN
CALSCALE:GREGORIAN
METHOD:PUBLISH
X-ORIGINAL-URL:https://liveonstage.guide
X-WR-CALDESC:Events for Liveonstage.Guide
REFRESH-INTERVAL;VALUE=DURATION:PT1H
X-Robots-Tag:noindex
X-PUBLISHED-TTL:PT1H
BEGIN:VTIMEZONE
TZID:Europe/London
BEGIN:DAYLIGHT
TZOFFSETFROM:+0000
TZOFFSETTO:+0100
TZNAME:BST
DTSTART:20240331T010000
END:DAYLIGHT
BEGIN:STANDARD
TZOFFSETFROM:+0100
TZOFFSETTO:+0000
TZNAME:GMT
DTSTART:20241027T010000
END:STANDARD
BEGIN:DAYLIGHT
TZOFFSETFROM:+0000
TZOFFSETTO:+0100
TZNAME:BST
DTSTART:20250330T010000
END:DAYLIGHT
BEGIN:STANDARD
TZOFFSETFROM:+0100
TZOFFSETTO:+0000
TZNAME:GMT
DTSTART:20251026T010000
END:STANDARD
BEGIN:DAYLIGHT
TZOFFSETFROM:+0000
TZOFFSETTO:+0100
TZNAME:BST
DTSTART:20260329T010000
END:DAYLIGHT
BEGIN:STANDARD
TZOFFSETFROM:+0100
TZOFFSETTO:+0000
TZNAME:GMT
DTSTART:20261025T010000
END:STANDARD
END:VTIMEZONE
BEGIN:VEVENT
DTSTART;TZID=Europe/London:20251109T200000
DTEND;TZID=Europe/London:20251109T230000
DTSTAMP:20260422T161149
CREATED:20251031T075153Z
LAST-MODIFIED:20251031T075153Z
UID:2639-1762718400-1762729200@liveonstage.guide
SUMMARY:Stephen Maycock at Swarcliffe W. M. C.\, Leeds LS14 5HE
DESCRIPTION:Swarcliffe is a residential area in Leeds 14 about 4 miles from Leeds City Centre and bordered by Seacroft\, Whinmoor and Thorner. Swarcliffe Working Men’s Club has an extensive programme of Live Entertainment with shows on both Saturday and Sunday Evenings\, as well as Houses of Bingo and Open the Box. This is a Member’s Club and although Affiliated Club Members and Bona Fide Guests are welcome\, children are not allowed. \nCoach Parties are welcome by arrangement and food can be arranged upon request. \nThe Club operates a strict Dress Code\, requiring Members and Guests to wear Smart Casual Dress. \nEntertainment is supplied by Ashley Wheelhouse Agency.\nThe Artist on Sunday 9th November is Stephen Maycock\,\nwho is billed as an ‘Excellent Male Vocalist’
URL:https://liveonstage.guide/event/stephen-maycock-at-swarcliffe-w-m-c-leeds-ls14-5he/
LOCATION:Swarcliffe W. M. C.\,\, Swarclifffe Avenue\, Leeds\, West Yorkshire\, LS14 5HE
CATEGORIES:Musical Cabaret,Social Club Entertainment Night - with Bingo!
END:VEVENT
BEGIN:VEVENT
DTSTART;TZID=Europe/London:20251109T200000
DTEND;TZID=Europe/London:20251109T230000
DTSTAMP:20260422T161149
CREATED:20251101T043417Z
LAST-MODIFIED:20251101T043818Z
UID:2658-1762718400-1762729200@liveonstage.guide
SUMMARY:Stacey Leadbeatter at Moortown Social Club\, Leeds LS17 5LA
DESCRIPTION:Moortown Social Club is situated at Cranmer Gardens\, Leeds LS17 5LA which is a short distance from the Leeds Outer Ring Road at Moortown. There is Live Entertainment every Sunday Night. The Club has a large Dance Floor and two tiers of seating. The entertainment is supplied through the Ricky Graham Agency\, and the Artist normally performs 2 sets of 45 minutes. There is a good sized Dance Floor in front of the stage\, although rarely are there any dancers in the first spot and generally only a few in the 2nd. \nThe first House of Bingo (the “Flyer”) starts at 8\,30pm prompt\, followed by the Artist’s 1st spot of 45 minutes. There then follows a book of 4 houses of Bingo\, and the drawing the Raffle\, followed by a further 45 minute spot by the Artist. The audience tends to be aged 35+\, with a preference to older material (60’s / 70s / 80s) yet even then it reduces dramatically after bingo – a sign of the times! \nThe Artiste for Sunday 2nd November is Courtney Rigby\nbilled as an ‘Excellent Female Vocalist’ as featured on Britain
URL:https://liveonstage.guide/event/stacey-leadbeatter-at-moortown-social-club-leeds-ls17-5la/
LOCATION:Moortown Social Club\, Cranmer Gardens\,\, Leeds\, West Yorkshire\, LS17 5LA
CATEGORIES:Musical Cabaret,Social Club Entertainment Night - with Bingo!
END:VEVENT
BEGIN:VEVENT
DTSTART;TZID=Europe/London:20251109T200000
DTEND;TZID=Europe/London:20251109T230000
DTSTAMP:20260422T161149
CREATED:20251101T052651Z
LAST-MODIFIED:20251101T054032Z
UID:2674-1762718400-1762729200@liveonstage.guide
SUMMARY:Tony Walsh at Garforth W. M. C.\, Leeds LS25 1AU
DESCRIPTION:Garforth is a town within the Metropolitan Borough of Leeds in West Yorkshire. It boasts a population of about 15\,000\, is situated about 7 miles to the east of Leeds centre\, 10 miles north of Wakefield\, and 15 miles south-west of York. It is conveniently located for easy access to the M1 and M62 motorways and the A1 (Great North Road). \nGarforth Working Men’s Club was founded in 1907\, and is a Member’s Club. It is home to Garforth Tigers Junior Football Team\, and has a range of Entertainment events including Line Dancing on a Thursday\, Karaoke and Bingo on a Friday and Live Entertainment every Sunday evening. The Concert Room is available to Members for Private Functions on other days. \nAppearing on Sunday 9th November is ‘Tony Walsh’\nbilling  as a ‘Knock-Out Male Vocal Entertainer’
URL:https://liveonstage.guide/event/tony-walsh-at-garforth-w-m-c-leeds-ls25-1au/
LOCATION:Garforth Working Men’s Club\, Barley Hill Road\, Garforth\, West Yorkshire\, LS25 1AU
CATEGORIES:Musical Cabaret,Social Club Entertainment Night - with Bingo!
END:VEVENT
BEGIN:VEVENT
DTSTART;TZID=Europe/London:20251109T200000
DTEND;TZID=Europe/London:20251109T230000
DTSTAMP:20260422T161149
CREATED:20251109T163213Z
LAST-MODIFIED:20251109T163213Z
UID:2786-1762718400-1762729200@liveonstage.guide
SUMMARY:Louise Webster at Jubilee Social 2LZ Club\, Leeds LS6 2LZ
DESCRIPTION:The Jubilee Social Club is located in Woodhouse\, an area just to the north of Leeds City Centre\, probably best known for the Woodhouse Moor and being close to the University of Leeds. \nThe Club has been a Community Hub for many years\, and provides a great choice of Live Entertainment for it’s Members\, Affiliated CIU Members and Bona Fide Guests alike. Besides presenting Guest Artists every Saturday and Sunday Evenings\, there are sessions of Cash Bingo during the week\, together of course with  a wide choice of very reasonably priced drinks. \nA Function Room is for hire\, by arrangement with the Club. \nThe Artist on Sunday 9th November is Louise Webster\nbilled as a ‘superb Female Vocalist’\n 
URL:https://liveonstage.guide/event/louise-webster-at-jubilee-social-2lz-club-leeds-ls6-2lz/
LOCATION:Jubilee Social Club\, Melville Place\, Woodhouse\,\, Leeds\, West Yorkshire\, LS6 2LZ
CATEGORIES:Social Club Entertainment Night - with Bingo!
END:VEVENT
END:VCALENDAR