BEGIN:VCALENDAR
VERSION:2.0
PRODID:-//Liveonstage.Guide - ECPv6.15.17.1//NONSGML v1.0//EN
CALSCALE:GREGORIAN
METHOD:PUBLISH
X-ORIGINAL-URL:https://liveonstage.guide
X-WR-CALDESC:Events for Liveonstage.Guide
REFRESH-INTERVAL;VALUE=DURATION:PT1H
X-Robots-Tag:noindex
X-PUBLISHED-TTL:PT1H
BEGIN:VTIMEZONE
TZID:Europe/London
BEGIN:DAYLIGHT
TZOFFSETFROM:+0000
TZOFFSETTO:+0100
TZNAME:BST
DTSTART:20250330T010000
END:DAYLIGHT
BEGIN:STANDARD
TZOFFSETFROM:+0100
TZOFFSETTO:+0000
TZNAME:GMT
DTSTART:20251026T010000
END:STANDARD
BEGIN:DAYLIGHT
TZOFFSETFROM:+0000
TZOFFSETTO:+0100
TZNAME:BST
DTSTART:20260329T010000
END:DAYLIGHT
BEGIN:STANDARD
TZOFFSETFROM:+0100
TZOFFSETTO:+0000
TZNAME:GMT
DTSTART:20261025T010000
END:STANDARD
BEGIN:DAYLIGHT
TZOFFSETFROM:+0000
TZOFFSETTO:+0100
TZNAME:BST
DTSTART:20270328T010000
END:DAYLIGHT
BEGIN:STANDARD
TZOFFSETFROM:+0100
TZOFFSETTO:+0000
TZNAME:GMT
DTSTART:20271031T010000
END:STANDARD
END:VTIMEZONE
BEGIN:VEVENT
DTSTART;TZID=Europe/London:20260124T200000
DTEND;TZID=Europe/London:20260124T230000
DTSTAMP:20260422T162824
CREATED:20250308T040830Z
LAST-MODIFIED:20260116T071118Z
UID:1114-1769284800-1769295600@liveonstage.guide
SUMMARY:Tony Walsh at Rowland Road WMC\, Leeds LS11 6ED
DESCRIPTION:Rowland Road is located off the A653 (Dewsbury Road) in Beeston\, Leeds. The Club is situated quite near to Elland Road\, home of Leeds United and also close to M621 Motorway. The Working Men’s Club presents Live Entertainment every Saturday Night as well as Bingo\, Quiz and Karaoke on Sunday Afternoon from 4pm. The Club welcomes Coach Parties by arrangement and also has the Concert Room available for midweek hire. \nEntertainment is supplied by the Ashley Wheelhouse Agency.\nThe Guest Artist on Saturday 24th January is Tony Walsh\nbilled as a ‘Superb Male Vocalist’.
URL:https://liveonstage.guide/event/andy-taylor-at-rowland-road-wmc-leeds-ls11-6ed/
LOCATION:Rowland Road Working Men’s Club\, 38 Rowland Road\, Leeds\, West Yorkshire\, LS11 6ED
CATEGORIES:Social Club Entertainment Night - with Bingo!
END:VEVENT
BEGIN:VEVENT
DTSTART;TZID=Europe/London:20260124T200000
DTEND;TZID=Europe/London:20260124T230000
DTSTAMP:20260422T162824
CREATED:20260103T031159Z
LAST-MODIFIED:20260123T050906Z
UID:3396-1769284800-1769295600@liveonstage.guide
SUMMARY:Ellie Davies at Tinshill & Cookridge Social Club\, Leeds LS16 6PF
DESCRIPTION:Tinshill & Cookridge Club is a friendly Club\,  situated just a short walk away from Horsforth Railway Station\, on the Leeds to York line and there is a regular Bus Service which stops right outside the Club connecting nearby Holt Park with Leeds City centre. \n\n\nThe 200 capacity Concert Room is available for Private Functions. \nSaturday Evening is Cabaret Time\, and the show is usually divided into 3 sets. The first ‘Flyer’ of Bingo is played about 8.30pm followed by the Artist’s 1st and then 2nd spots with ‘Open the Box’ in between. \nCIU affiliated Club members and Bona Fide guests are welcome\, although only Member’s Children \, (who must be aged 5 years or older)\, are admitted to the Concert Room. \nThe Show finishes with the Artists 3rd and final spot\, normally up-tempo and with a nice sized Dance Floor\, there’s plenty of room for the regular dancers to ‘Bust some moves!’ \nEntertainment is provided by the Ashley Wheelhouse Entertainment Agency. \nSaturday 24th January the Guest Artist is Ellie Davies\nbilled as a ‘Star Female Vocalist’.\n5 star Venue ***** (One of our personal favourites!)\nWatch Traitors later on BBC iPlayer
URL:https://liveonstage.guide/event/ellie-davies-at-tinshill-cookridge-social-club-leeds-ls16-6pf/
LOCATION:Tinshill & Cookridge Social Club\, Silk Mill Drive\, Tinshill\, Leeds\, West Yorkshire\, LS16 6PF
CATEGORIES:Musical Cabaret,Social Club Entertainment Night - with Bingo!
END:VEVENT
BEGIN:VEVENT
DTSTART;TZID=Europe/London:20260124T200000
DTEND;TZID=Europe/London:20260124T230000
DTSTAMP:20260422T162824
CREATED:20260103T034320Z
LAST-MODIFIED:20260103T034320Z
UID:3407-1769284800-1769295600@liveonstage.guide
SUMMARY:Lynne George at Denison Hall Club\, Armley\, Leeds LS12 3LL
DESCRIPTION:Armley is a suburb of Leeds\, situated about 2 miles west of Leeds Centre\, along the A647 towards Bradford. The Denison Hall Club is actually situated on the main street right in the Centre of Armley. Although Denison Hall Club is a Member’s Club\, members of Affiliated CIU Clubs\, and Bona Fide Guests are very welcome. \n\n\n\nTop Live Entertainment is staged at Denison Hall Club  every Saturday Night\, there’s a Quiz Night in the lounge on Tuesday Evening and a Ladies Section Bingo Night each Thursday. \nEntertainment is supplied by Ricky Graham Leisure Entertainment Agency. \nLynne George appears on Saturday 24th January\n– billed as a ‘Top Female Vocalist’
URL:https://liveonstage.guide/event/lynne-george-at-denison-hall-club-armley-leeds-ls12-3ll/
LOCATION:Denison Hall Club\, Town Street\, Armley\, West Yorkshire\, LS12 3LL
CATEGORIES:Musical Cabaret,Social Club Entertainment Night - with Bingo!,Vocalist singing Live to backing tracks.
END:VEVENT
BEGIN:VEVENT
DTSTART;TZID=Europe/London:20260124T200000
DTEND;TZID=Europe/London:20260124T230000
DTSTAMP:20260422T162824
CREATED:20260103T053318Z
LAST-MODIFIED:20260103T053318Z
UID:3432-1769284800-1769295600@liveonstage.guide
SUMMARY:Daniel Petero at The Angler's Club\, Leeds LS9 7TB
DESCRIPTION:The Anglers Club is located in Burmantofts\, Leeds 9 just a short distance from Leeds City Centre and home to St. James’s Hospital\, referred to locally as ‘Jimmies’. Celebrities from this area include the late Actress & Comedienne Liz Dawn (Vera from Coronation Street) and Nicola Adams the Olympic Gold Medal Boxer. \nThe Club is a good size\, and besides the Concert Room with a large Stage and Dance Floor\, it also has a Games Room with 2 Snooker Tables\, a Pool Table\, Dart Board and Wide Screen Televisions\, while for those wanting a quieter evening\, the Lounge Bar offers comfortable accommodation for up to 100 people. The Club are happy to offer Room Hire\, which is particularly popular due to it’s central location and the Large and Secure Car Park. Although a Member’s Club\, Affiliated CIU members and Bona Fide Guests are welcome\, although only Member’s Children are allowed in\, and must be under strict parental control. \nThere is Live Entertainment every  Saturday Night with Artists provided by Ashley Wheelhouse Agency\, but the Club is also well known as home to Live Country Music and Line Dancing every Monday Night. The Country Artists are supplied by The Black Cat Agency. There is a small admission price for the Country Shows (Cash only please)\, as well as a few houses of Cash Bingo. Great value and fun to watch for non-dancers! \nThere is a large\, secure Car Park\, and the Club is fairly close to the City Centre\, and several main Bus routes\, and is available for Private Parties or Room Hire. \nThe Artist on Saturday 24th January is Daniel Petero\,\nbilled as a ‘Brilliant Male Vocalist’
URL:https://liveonstage.guide/event/daniel-petero-at-the-anglers-club-leeds-ls9-7tb/
LOCATION:Angler’s Club\, Leeds\, 75 Stoney Rock Lane\,\, Leeds\, West Yorkshire\, LS9 7TB
CATEGORIES:Social Club Entertainment Night - with Bingo!
END:VEVENT
BEGIN:VEVENT
DTSTART;TZID=Europe/London:20260124T200000
DTEND;TZID=Europe/London:20260124T230000
DTSTAMP:20260422T162824
CREATED:20260107T105643Z
LAST-MODIFIED:20260107T105718Z
UID:3486-1769284800-1769295600@liveonstage.guide
SUMMARY:Let's Go Girls at Carlton Smithies Ex-Servicemen's Club\, Barnsley S71 3TA
DESCRIPTION:Carlton Smithies Ex-Servicemen’s Club (sometimes called The Haddon Road Club) is situated in Barnsley and has Live Entertainment on both Saturday and Sunday Evenings. with Bingo being played at all sessions. \nAll bookings are conducted through the current Concert Secretary – Ian Oliver. \nVisitors are made very welcome. \nLet’s Go Girls appear on Saturday 24th January\,\nbilled as a ‘Top Show‘
URL:https://liveonstage.guide/event/lets-go-girls-at-carlton-smithies-ex-servicemens-club-barnsley-s71-3ta/
LOCATION:Carlton Smithies Ex Servicemen’s Club\, Haddon Road\, Barnsley\, South Yorkshire\, S71 3TA
CATEGORIES:Social Club Entertainment Night - with Bingo!
END:VEVENT
BEGIN:VEVENT
DTSTART;TZID=Europe/London:20260124T200000
DTEND;TZID=Europe/London:20260124T230000
DTSTAMP:20260422T162824
CREATED:20260116T041141Z
LAST-MODIFIED:20260116T042754Z
UID:3573-1769284800-1769295600@liveonstage.guide
SUMMARY:Inuendo at Bramley Band Club\, Leeds LS13 2BG
DESCRIPTION:Bramley is a suburb of Leeds about 3 miles West of Leeds City Centre\, bordered by Armley\, Stanningley\, Farsley and Kirkstall in West Yorkshire and well served by local Bus Services. It should NOT be confused with the area of the same name in South Yorkshire\, which is an hours drive away! \nBramley Band Club has long been one of the top Entertainment Venues in the area\, and is located on Snowden Lawn\, just off  Town Street. As well as reasonably priced drinks\, the Band Club has Snooker and Pool Tables\, a Dart Board and show Major Sports on Large Screen TV. \nThere is Prize Bingo on Thursdays\, and Live Entertainment every Friday and Saturday Nights and although Bramley Band is a Member’s Club\, members of Affiliated Clubs\, and Bona Fide Guests are welcome. \nLive Entertainment is provided through the Ashley Wheelhouse Agency.\nInuendo appear at Bramley Band Club on Saturday 24th January\nbilled as ‘Personality Male / Female Vocal Duo’
URL:https://liveonstage.guide/event/inuendo-at-bramley-band-club-leeds-ls13-2bg-2/
LOCATION:Bramley Band Club\, Snowden Lawn\, off Town Street\,\, Bramley\, West Yorkshire\, LS13 2BG
CATEGORIES:Social Club Entertainment Night - with Bingo!
END:VEVENT
BEGIN:VEVENT
DTSTART;TZID=Europe/London:20260124T200000
DTEND;TZID=Europe/London:20260124T230000
DTSTAMP:20260422T162824
CREATED:20260116T052209Z
LAST-MODIFIED:20260116T052209Z
UID:3590-1769284800-1769295600@liveonstage.guide
SUMMARY:Vinni at Corpus Christi Club\, Leeds LS9 0HB
DESCRIPTION:Halton Moor is a residential suburb of Leeds situated about 3 miles to the east of Leeds City centre. It is home to the Corpus Christi Club\, which stages Live Entertainment every Saturday Evening\, as well as various other events during the week including Karaoke\, a Domino Handicap\, Snooker and a Games Night. Although it is a Member’s Club\, Affiliated Club members and Bona Fide guests are welcome. \nMajor sporting Events shown on large screen TV including Sky Sports. \nThe Guest Artist on Saturday 24th January is Vinni\nbilled as an ‘Outstanding Male Pop / Party Artiste‘
URL:https://liveonstage.guide/event/vinni-at-corpus-christi-club-leeds-ls9-0hb/
LOCATION:Corpus Christi Club\, Halton Moor Avenue\,\, Leeds\, West Yorkshire\, LS9 oHB
CATEGORIES:Social Club Entertainment Night - with Bingo!
END:VEVENT
BEGIN:VEVENT
DTSTART;TZID=Europe/London:20260124T200000
DTEND;TZID=Europe/London:20260124T230000
DTSTAMP:20260422T162824
CREATED:20260116T074140Z
LAST-MODIFIED:20260116T074140Z
UID:3608-1769284800-1769295600@liveonstage.guide
SUMMARY:Bad Addiction at Main Line Social Club\, Wortley\, Leeds LS13 4LS
DESCRIPTION:Main Line Social Club is situated on Pudsey Road in Wortley\, down the road from Bramley\, and close to the Leeds Outer Ring Road\, and a short distance to Elland Road Football Ground\, the home of Leeds United. They boast a great programme of entertainment on Saturday Night\, and both Sunday Afternoon and Sunday Night. It is a Member’s Club\, and only Member’s Children are allowed entry. \nEntertainment is supplied by The Crossland Agency\, and typically features Duos or occasionally Groups on Saturday Nights\, and solo Artists on both Sunday Afternoon (from 3pm) and Evenings. \nThe Guest Artist on Saturday 24th January is Bad Addiction\nbilled as an  ‘Incredible Female Singing Star’
URL:https://liveonstage.guide/event/bad-addiction-at-main-line-social-club-wortley-leeds-ls13-4ls/
LOCATION:Main Line Social Club\, Pudsey Road\, Wortley\, Leeds\, West Yorkshire\, LS13 4LS
CATEGORIES:Social Club Entertainment Night - with Bingo!
END:VEVENT
BEGIN:VEVENT
DTSTART;TZID=Europe/London:20260124T200000
DTEND;TZID=Europe/London:20260124T230000
DTSTAMP:20260422T162824
CREATED:20260117T063148Z
LAST-MODIFIED:20260117T063148Z
UID:3628-1769284800-1769295600@liveonstage.guide
SUMMARY:Ultrafonix at Staincross WMC\, Barnsley S75 6EW
DESCRIPTION:Advertised as Mapplewell’s number one Entertainment Venue\, Staincross Working Men’s Club offers Live Sports\, Live Music\, and Function Room Hire all within the club’s friendly atmosphere with discount prices for holders of the Club’s Membership Card. \nEntertainment for Saturday 24th January is Ultrafonix\nbilled as an ‘Excellent Male Duo’\nEntertainment is provided through the agency of Graham Platt Management in Barnsley\n 
URL:https://liveonstage.guide/event/ultrafonix-at-staincross-wmc-barnsley-s75-6ew/
LOCATION:Staincross WMC\,\, New Road\, Staincross\,\, Barnsley\,\, South Yorkshire\, S75 6EW
CATEGORIES:Social Club Entertainment Night - with Bingo!
END:VEVENT
BEGIN:VEVENT
DTSTART;TZID=Europe/London:20260124T210000
DTEND;TZID=Europe/London:20260124T230000
DTSTAMP:20260422T162824
CREATED:20260117T081543Z
LAST-MODIFIED:20260121T015644Z
UID:3635-1769288400-1769295600@liveonstage.guide
SUMMARY:Good Question at Hoyland Belmont W. M. C.\, Barnsley S74 9AH
DESCRIPTION:Popular Working Men’s Club in Hoyland\, near Barnsley offering Live Entertainment weekly on Saturday Nights\, and Sunday Afternoons. The Club serve a wide selection of reasonably priced Beers and Lagers. Visitors and New Members welcome. \nGuest Artist for Saturday 24th January is Good Question\nbilled as an ‘Excellent Party Duo’\nEntertainment provided through the agency of Ocean Leisure of Barnsley
URL:https://liveonstage.guide/event/good-question-at-hoyland-belmont-w-m-c-barnsley-s74-9ah/
LOCATION:Hoyland Belmont W. M. C.\, Off West Street\, Hoyland\, Barnsley\, South Yorkshire\, S74 9AH
CATEGORIES:Social Club Entertainment Night - with Bingo!
END:VEVENT
END:VCALENDAR