BEGIN:VCALENDAR
VERSION:2.0
PRODID:-//Liveonstage.Guide - ECPv6.15.17.1//NONSGML v1.0//EN
CALSCALE:GREGORIAN
METHOD:PUBLISH
X-ORIGINAL-URL:https://liveonstage.guide
X-WR-CALDESC:Events for Liveonstage.Guide
REFRESH-INTERVAL;VALUE=DURATION:PT1H
X-Robots-Tag:noindex
X-PUBLISHED-TTL:PT1H
BEGIN:VTIMEZONE
TZID:Europe/London
BEGIN:DAYLIGHT
TZOFFSETFROM:+0000
TZOFFSETTO:+0100
TZNAME:BST
DTSTART:20250330T010000
END:DAYLIGHT
BEGIN:STANDARD
TZOFFSETFROM:+0100
TZOFFSETTO:+0000
TZNAME:GMT
DTSTART:20251026T010000
END:STANDARD
BEGIN:DAYLIGHT
TZOFFSETFROM:+0000
TZOFFSETTO:+0100
TZNAME:BST
DTSTART:20260329T010000
END:DAYLIGHT
BEGIN:STANDARD
TZOFFSETFROM:+0100
TZOFFSETTO:+0000
TZNAME:GMT
DTSTART:20261025T010000
END:STANDARD
BEGIN:DAYLIGHT
TZOFFSETFROM:+0000
TZOFFSETTO:+0100
TZNAME:BST
DTSTART:20270328T010000
END:DAYLIGHT
BEGIN:STANDARD
TZOFFSETFROM:+0100
TZOFFSETTO:+0000
TZNAME:GMT
DTSTART:20271031T010000
END:STANDARD
END:VTIMEZONE
BEGIN:VEVENT
DTSTART;TZID=Europe/London:20260307T193000
DTEND;TZID=Europe/London:20260307T220000
DTSTAMP:20260422T140237
CREATED:20260108T035115Z
LAST-MODIFIED:20260108T035617Z
UID:3517-1772911800-1772920800@liveonstage.guide
SUMMARY:Feast of Fiddles at Masham Town Hall\, HG4 4DY
DESCRIPTION:It’s 2026 and Feast of Fiddles are out again for their fortnight of fiddling fun – their 31st tour!\nBorn in Nettlebed on Valentine’s Day 1994 as a one-off special concert\, Feast of Fiddles is a band of friends that puts on a show of huge dynamic range performed with passion\, joy and a liberal dose of fun. Fiddlers Phil Beer (Show of Hands)\, Garry Blakeley (Band of Two)\, Marion Fleetwood (Trad Arr\, Sandy Denny Project)\, Mark Jolley (Banter)\, Tom Leary (Joe Brown\, Lindisfarne) and Simon Swarbrick (Merry Hell) bring a wide range of fiddle playing styles along with a rock back-line – all held together by legendary drummer Dave Mattacks. \nThis is a live music entertainment like no other on the circuit which is guaranteed to be enjoyed by even the most doubting of friends dragged along! \nFeast of Fiddles appear at Masham Town Hall Saturday 7th March\nTickets £25 from Mashamshire Community Office – Tel:   01765 680200\n\n  \n 
URL:https://liveonstage.guide/event/feast-of-fiddles-at-masham-town-hall-hg4-4dy/
LOCATION:Masham Town Hall\, Little Market Place\, Masham\, North Yorkshire\, HG4 4DY
CATEGORIES:Theatre Show
END:VEVENT
BEGIN:VEVENT
DTSTART;TZID=Europe/London:20260313T190000
DTEND;TZID=Europe/London:20260313T223000
DTSTAMP:20260422T140237
CREATED:20260312T204834Z
LAST-MODIFIED:20260312T204834Z
UID:4177-1773428400-1773441000@liveonstage.guide
SUMMARY:Gorillaz at Bradford Live\, BD1 2EP
DESCRIPTION:Bradford Live is a near 4\,000 capacity Entertainment Venue in the centre of the West Yorkshire city of Bradford. Formerly known as the Art Deco style Odeon Cinema\, it was one of the countries biggest Cinemas when built in 1930. However it was completely redeveloped at a reported cost of £50 million and reopened as Bradford Live in 2025. It now plays host to an exiting mix of Live Music\, Theatre\, Comedy\, Family Shows and Cultural Events throughout the year. \nGorillaz appear on Friday 13th March & Saturday 14th March\nwith their Unique Mix of Music\, Visuals & Energy\nGorillaz are celebrating the release of their 9th Studio Album – The Mountain. Support from Jae Depz.\nTickets for both shows are available at Gigantic.com \nBooking and Transaction Fees may apply.
URL:https://liveonstage.guide/event/gorillaz-at-bradford-live-bd1-2ep/
LOCATION:Bradford Live\, 1 Thornton Road\, Bradford\, West Yorkshire\, BD1 2EP
CATEGORIES:Theatre Show
END:VEVENT
BEGIN:VEVENT
DTSTART;TZID=Europe/London:20260314T190000
DTEND;TZID=Europe/London:20260314T223000
DTSTAMP:20260422T140237
CREATED:20260312T205143Z
LAST-MODIFIED:20260312T205143Z
UID:4180-1773514800-1773527400@liveonstage.guide
SUMMARY:Gorillaz at Bradford Live\, BD1 2EP
DESCRIPTION:Bradford Live is a near 4\,000 capacity Entertainment Venue in the centre of the West Yorkshire city of Bradford. Formerly known as the Art Deco style Odeon Cinema\, it was one of the countries biggest Cinemas when built in 1930. However it was completely redeveloped at a reported cost of £50 million and reopened as Bradford Live in 2025. It now plays host to an exiting mix of Live Music\, Theatre\, Comedy\, Family Shows and Cultural Events throughout the year. \nGorillaz appear on Friday 13th March & Saturday 14th March\nwith their Unique Mix of Music\, Visuals & Energy\nGorillaz are celebrating the release of their 9th Studio Album – The Mountain. Support from Jae Depz.\nTickets for both shows are available at Gigantic.com \nBooking and Transaction Fees may apply.
URL:https://liveonstage.guide/event/gorillaz-at-bradford-live-bd1-2ep-2/
LOCATION:Bradford Live\, 1 Thornton Road\, Bradford\, West Yorkshire\, BD1 2EP
CATEGORIES:Theatre Show
END:VEVENT
BEGIN:VEVENT
DTSTART;TZID=Europe/London:20260318T193000
DTEND;TZID=Europe/London:20260318T220000
DTSTAMP:20260422T140237
CREATED:20260318T090858Z
LAST-MODIFIED:20260318T090858Z
UID:4280-1773862200-1773871200@liveonstage.guide
SUMMARY:The Christians at City Varieties\, Leeds LS1 6LW
DESCRIPTION:Leeds City Varieties is Leeds’ hidden gem\, now regarded as one of the UK’s finest venues for live Comedy\, Music\, Variety and the home of Leeds’ favourite Rock’n’ Roll Panto! If driving\, do some homework as to Parking options\, since it is located just off the busiest street in Leeds with little on street parking options\, yet large and low cost  Parking sites are quite nearby\, if you know where to go! \nThe Christians appear on Wednesday 18th March\nbilled as ‘Iconic Liverpool Soul / Pop Group’ (from 7.30pm)
URL:https://liveonstage.guide/event/the-christians-at-city-varieties-leeds-ls1-6lw/
LOCATION:City Varieties Music Hall\, Swan Street\,\, Leeds\, West Yorkshire\, LS1 6LW
CATEGORIES:Theatre Show
END:VEVENT
BEGIN:VEVENT
DTSTART;TZID=Europe/London:20260321T193000
DTEND;TZID=Europe/London:20260321T223000
DTSTAMP:20260422T140237
CREATED:20260210T023104Z
LAST-MODIFIED:20260210T023104Z
UID:3846-1774121400-1774132200@liveonstage.guide
SUMMARY:Andrew Newton Hypnotist Show at City Varieties\, Leeds LS1 6LW
DESCRIPTION:Leeds City Varieties is Leeds’ hidden gem\, now regarded as one of the UK’s finest venues for live Comedy\, Music\, Variety and the home of Leeds’ favourite Rock’n’ Roll Panto! \nWorld famous Hypnotist Andrew Newton has been a staple at The Varieties for decades\, and he returns with his hilarious one-man show\, which is packed with Hypnotism hijinks! \nAndrew Newton appears on Saturday 21st March\nbilled as ‘World-famous Hypnotist’
URL:https://liveonstage.guide/event/andrew-newton-hypnotist-show-at-city-varieties-leeds-ls1-6lw/
LOCATION:City Varieties Music Hall\, Swan Street\,\, Leeds\, West Yorkshire\, LS1 6LW
CATEGORIES:Theatre Show
END:VEVENT
END:VCALENDAR