BEGIN:VCALENDAR
VERSION:2.0
PRODID:-//Liveonstage.Guide - ECPv6.15.17.1//NONSGML v1.0//EN
CALSCALE:GREGORIAN
METHOD:PUBLISH
X-WR-CALNAME:Liveonstage.Guide
X-ORIGINAL-URL:https://liveonstage.guide
X-WR-CALDESC:Events for Liveonstage.Guide
REFRESH-INTERVAL;VALUE=DURATION:PT1H
X-Robots-Tag:noindex
X-PUBLISHED-TTL:PT1H
BEGIN:VTIMEZONE
TZID:Europe/London
BEGIN:DAYLIGHT
TZOFFSETFROM:+0000
TZOFFSETTO:+0100
TZNAME:BST
DTSTART:20250330T010000
END:DAYLIGHT
BEGIN:STANDARD
TZOFFSETFROM:+0100
TZOFFSETTO:+0000
TZNAME:GMT
DTSTART:20251026T010000
END:STANDARD
BEGIN:DAYLIGHT
TZOFFSETFROM:+0000
TZOFFSETTO:+0100
TZNAME:BST
DTSTART:20260329T010000
END:DAYLIGHT
BEGIN:STANDARD
TZOFFSETFROM:+0100
TZOFFSETTO:+0000
TZNAME:GMT
DTSTART:20261025T010000
END:STANDARD
BEGIN:DAYLIGHT
TZOFFSETFROM:+0000
TZOFFSETTO:+0100
TZNAME:BST
DTSTART:20270328T010000
END:DAYLIGHT
BEGIN:STANDARD
TZOFFSETFROM:+0100
TZOFFSETTO:+0000
TZNAME:GMT
DTSTART:20271031T010000
END:STANDARD
END:VTIMEZONE
BEGIN:VEVENT
DTSTART;TZID=Europe/London:20260124T120000
DTEND;TZID=Europe/London:20260124T150000
DTSTAMP:20260420T233847
CREATED:20260119T064148Z
LAST-MODIFIED:20260119T064349Z
UID:3675-1769256000-1769266800@liveonstage.guide
SUMMARY:LIDOS present Pinocchio at Carriageworks Theatre\, Leeds LS2 3AD
DESCRIPTION:Situated in The Electric Press building\, at the heart of Millennium Square in Leeds City Centre\, the Carriageworks Theatre showcases the best of National and International touring productions and have established themselves as a key destination for audiences seeking an entertaining experience. \nWhen Insurevue disbanded in 1973\, a team of enthusiastic members from the Leeds Insurance Industry’s amateur dramatic community came together to create a new performing company.  On the 14th of January 1974\, ‘LIDOS‘ was born as the company took to the stage with the opening night of Gershwin’s musical\, “Lady Be Good”. Since parting from the Insurance Industry in 1978\, LIDOS has continued to go from strength to strength\, producing Amateur Theatre to the highest standards of best practice and performance through teamwork and cooperation. \nFrom 20th to 24th January\, LIDOS present Pinocchio at The Carriageworks Theatre\nGeppetto\, an old toy maker\, always longed for a son of his own. One starry night\, with a little help from the Blue Fairy and a cheeky little cricket\, his wish was finally granted\, and his latest creation\, a puppet called Pinocchio\, came to life! \nHowever\, the magical puppet who can move\, talk\, and dance with no strings catches the eye of the evil showman Stromboli\, who will stop at nothing to get his hands on the enchanted toy. With the help of Dame Mamma Mia and her hapless son Lampwick from the local pizzeria\, will Pinocchio learn in time what it takes to be a “real boy’”?
URL:https://liveonstage.guide/event/lidos-present-pinocchio-at-carriageworks-theatre-leeds-ls2-3ad-5/
LOCATION:Carriageworks Theatre\, The Electric Press\, 3 Millenium Square\, Leeds\, West Yorkshire\, LS2 3AD
CATEGORIES:Theatre Show
END:VEVENT
BEGIN:VEVENT
DTSTART;TZID=Europe/London:20260124T190000
DTEND;TZID=Europe/London:20260124T220000
DTSTAMP:20260420T233847
CREATED:20260119T064537Z
LAST-MODIFIED:20260121T012549Z
UID:3677-1769281200-1769292000@liveonstage.guide
SUMMARY:LIDOS present Pinocchio at Carriageworks Theatre\, Leeds LS2 3AD
DESCRIPTION:Situated in The Electric Press building\, at the heart of Millennium Square in Leeds City Centre\, the Carriageworks Theatre showcases the best of National and International touring productions and have established themselves as a key destination for audiences seeking an entertaining experience. \nWhen Insurevue disbanded in 1973\, a team of enthusiastic members from the Leeds Insurance Industry’s amateur dramatic community came together to create a new performing company.  On the 14th of January 1974\, ‘LIDOS‘ was born as the company took to the stage with the opening night of Gershwin’s musical\, “Lady Be Good”. Since parting from the Insurance Industry in 1978\, LIDOS has continued to go from strength to strength\, producing Amateur Theatre to the highest standards of best practice and performance through teamwork and cooperation. \nOn 24th January\, LIDOS present Pinocchio at The Carriageworks Theatre\nGeppetto\, an old toy maker\, always longed for a son of his own. One starry night\, with a little help from the Blue Fairy and a cheeky little cricket\, his wish was finally granted\, and his latest creation\, a puppet called Pinocchio\, came to life! \nHowever\, the magical puppet who can move\, talk\, and dance with no strings catches the eye of the evil showman Stromboli\, who will stop at nothing to get his hands on the enchanted toy. With the help of Dame Mamma Mia and her hapless son Lampwick from the local pizzeria\, will Pinocchio learn in time what it takes to be a “real boy’”?
URL:https://liveonstage.guide/event/lidos-present-pinocchio-at-carriageworks-theatre-leeds-ls2-3ad-6/
LOCATION:Carriageworks Theatre\, The Electric Press\, 3 Millenium Square\, Leeds\, West Yorkshire\, LS2 3AD
CATEGORIES:Theatre Show
END:VEVENT
END:VCALENDAR