BEGIN:VCALENDAR
VERSION:2.0
PRODID:-//Liveonstage.Guide - ECPv6.15.17.1//NONSGML v1.0//EN
CALSCALE:GREGORIAN
METHOD:PUBLISH
X-ORIGINAL-URL:https://liveonstage.guide
X-WR-CALDESC:Events for Liveonstage.Guide
REFRESH-INTERVAL;VALUE=DURATION:PT1H
X-Robots-Tag:noindex
X-PUBLISHED-TTL:PT1H
BEGIN:VTIMEZONE
TZID:Europe/London
BEGIN:DAYLIGHT
TZOFFSETFROM:+0000
TZOFFSETTO:+0100
TZNAME:BST
DTSTART:20250330T010000
END:DAYLIGHT
BEGIN:STANDARD
TZOFFSETFROM:+0100
TZOFFSETTO:+0000
TZNAME:GMT
DTSTART:20251026T010000
END:STANDARD
BEGIN:DAYLIGHT
TZOFFSETFROM:+0000
TZOFFSETTO:+0100
TZNAME:BST
DTSTART:20260329T010000
END:DAYLIGHT
BEGIN:STANDARD
TZOFFSETFROM:+0100
TZOFFSETTO:+0000
TZNAME:GMT
DTSTART:20261025T010000
END:STANDARD
BEGIN:DAYLIGHT
TZOFFSETFROM:+0000
TZOFFSETTO:+0100
TZNAME:BST
DTSTART:20270328T010000
END:DAYLIGHT
BEGIN:STANDARD
TZOFFSETFROM:+0100
TZOFFSETTO:+0000
TZNAME:GMT
DTSTART:20271031T010000
END:STANDARD
END:VTIMEZONE
BEGIN:VEVENT
DTSTART;TZID=Europe/London:20260131T190000
DTEND;TZID=Europe/London:20260131T230000
DTSTAMP:20260419T174229
CREATED:20260125T062328Z
LAST-MODIFIED:20260125T062717Z
UID:3719-1769886000-1769900400@liveonstage.guide
SUMMARY:Dottie Mai at The Thorpe Park Hotel & Spa\, Leeds LS15 8ZB
DESCRIPTION:According to their own publicity: ‘The Thorpe Park Hotel is conveniently placed to enjoy Leeds and surrounding towns. Discover the charming hospitality\, Luxurious Spa\, Rosette Dining and modern business spaces. Perfect for a staycation in Yorkshire\, popping in for a delicious meal\, finding a space to work or impressing a client.’\nThorpe Park stage Live Entertainment on a Saturday Evening. \nDottie Mae\, originally from Stafford\,  is a Leeds – based Electro-Pop Singer/Songwriter known for her dreamy\, nostalgic sound. \nDottie Mai  appears at Thorpe Park Hotel on Saturday 31st January
URL:https://liveonstage.guide/event/dottie-mai-at-the-thorpe-park-hotel-spa-leeds-ls15-8zb/
LOCATION:Thorpe Park Hotel & Spa\,\, 1150 Century Way\,\, Leeds LS15 8ZB\, West Yorkshire\, LS15 8ZB
CATEGORIES:Musical Cabaret
END:VEVENT
END:VCALENDAR