BEGIN:VCALENDAR
VERSION:2.0
PRODID:-//Liveonstage.Guide - ECPv6.15.17.1//NONSGML v1.0//EN
CALSCALE:GREGORIAN
METHOD:PUBLISH
X-ORIGINAL-URL:https://liveonstage.guide
X-WR-CALDESC:Events for Liveonstage.Guide
REFRESH-INTERVAL;VALUE=DURATION:PT1H
X-Robots-Tag:noindex
X-PUBLISHED-TTL:PT1H
BEGIN:VTIMEZONE
TZID:Europe/London
BEGIN:DAYLIGHT
TZOFFSETFROM:+0000
TZOFFSETTO:+0100
TZNAME:BST
DTSTART:20250330T010000
END:DAYLIGHT
BEGIN:STANDARD
TZOFFSETFROM:+0100
TZOFFSETTO:+0000
TZNAME:GMT
DTSTART:20251026T010000
END:STANDARD
BEGIN:DAYLIGHT
TZOFFSETFROM:+0000
TZOFFSETTO:+0100
TZNAME:BST
DTSTART:20260329T010000
END:DAYLIGHT
BEGIN:STANDARD
TZOFFSETFROM:+0100
TZOFFSETTO:+0000
TZNAME:GMT
DTSTART:20261025T010000
END:STANDARD
BEGIN:DAYLIGHT
TZOFFSETFROM:+0000
TZOFFSETTO:+0100
TZNAME:BST
DTSTART:20270328T010000
END:DAYLIGHT
BEGIN:STANDARD
TZOFFSETFROM:+0100
TZOFFSETTO:+0000
TZNAME:GMT
DTSTART:20271031T010000
END:STANDARD
END:VTIMEZONE
BEGIN:VEVENT
DTSTART;TZID=Europe/London:20260405T160000
DTEND;TZID=Europe/London:20260405T210000
DTSTAMP:20260423T123249
CREATED:20260329T220034Z
LAST-MODIFIED:20260329T220034Z
UID:4376-1775404800-1775422800@liveonstage.guide
SUMMARY:Sam Lyons Fun Show at La Plata Club\, Sheffield S6 2PB
DESCRIPTION:Situated in Hillsborough\, La Plata Social Club strives to be a warm and welcoming Club\, and offer a varied range of entertainment throughout the week\, including sessions of Bingo\, and Live Entertainment every Saturday Night. \nAs an extra treat for Members\, the Club are staging a special Easter Sunday Show\, and what a show it will be! \nSam Lyons appears on  Easter Sunday 5th April\nNon stop Comedy Entertainer – Live from 4pm\nLa Plata Social Club\, Hillsborough\, Sheffield\, Easter Sunday\, 5th April\, Comedy Show\, Afternoon Entertainment\, Little Legs\,
URL:https://liveonstage.guide/event/sam-lyons-fun-show-at-la-plata-club-sheffield-s6-2pb/
LOCATION:La Plata Social Club\, 353-355 Walkley Lane\, Sheffield\, South Yorkshire\, S6 2PB
CATEGORIES:Afternoon Show,Comedy Show
END:VEVENT
END:VCALENDAR