BEGIN:VCALENDAR
VERSION:2.0
PRODID:-//Liveonstage.Guide - ECPv6.15.17.1//NONSGML v1.0//EN
CALSCALE:GREGORIAN
METHOD:PUBLISH
X-WR-CALNAME:Liveonstage.Guide
X-ORIGINAL-URL:https://liveonstage.guide
X-WR-CALDESC:Events for Liveonstage.Guide
REFRESH-INTERVAL;VALUE=DURATION:PT1H
X-Robots-Tag:noindex
X-PUBLISHED-TTL:PT1H
BEGIN:VTIMEZONE
TZID:Europe/London
BEGIN:DAYLIGHT
TZOFFSETFROM:+0000
TZOFFSETTO:+0100
TZNAME:BST
DTSTART:20250330T010000
END:DAYLIGHT
BEGIN:STANDARD
TZOFFSETFROM:+0100
TZOFFSETTO:+0000
TZNAME:GMT
DTSTART:20251026T010000
END:STANDARD
BEGIN:DAYLIGHT
TZOFFSETFROM:+0000
TZOFFSETTO:+0100
TZNAME:BST
DTSTART:20260329T010000
END:DAYLIGHT
BEGIN:STANDARD
TZOFFSETFROM:+0100
TZOFFSETTO:+0000
TZNAME:GMT
DTSTART:20261025T010000
END:STANDARD
BEGIN:DAYLIGHT
TZOFFSETFROM:+0000
TZOFFSETTO:+0100
TZNAME:BST
DTSTART:20270328T010000
END:DAYLIGHT
BEGIN:STANDARD
TZOFFSETFROM:+0100
TZOFFSETTO:+0000
TZNAME:GMT
DTSTART:20271031T010000
END:STANDARD
END:VTIMEZONE
BEGIN:VEVENT
DTSTART;TZID=Europe/London:20260322T200000
DTEND;TZID=Europe/London:20260322T230000
DTSTAMP:20260420T172015
CREATED:20260315T002201Z
LAST-MODIFIED:20260315T083932Z
UID:4217-1774209600-1774220400@liveonstage.guide
SUMMARY:Andy Taylor at Darfield Road WMC\, Cudworth\, S72 8RL
DESCRIPTION:Cudworth is an urban village with a population of around 10\,000\, situated about 4 miles North East of Barnsley in South Yorkshire. Despite the perception that the areas around Barnsley are simply redundant former Coal Mines\, the village of Cudworth is mainly surrounded by regenerated Open Spaces. much Green Belt and the South and South East of Cudworth in particular still remains mainly Agricultural. It is also home to the Dorothy Hyman Sports Centre\, and was the birthplace of the late TV Presenter\, Journalist and Author\, Sir Michael Parkinson. \nAlthough Darfield Road W. M. C. is a Committee run Member’s Club\, Affiliated Club Members and Bona Fide Guests are always welcome. Live Entertainment is staged every Sunday Evening\, accompanied with a session of Cash Bingo. Drinks prices are very reasonable. \nAndy Taylor appears on Sunday 22nd March\nbilled as a ‘Great Male Vocal Entertainer’
URL:https://liveonstage.guide/event/andy-taylor-at-darfield-road-wmc-cudworth-s72-8rl/
LOCATION:Darfield Road W. M. C. \,\, Darfield Road\, Cudworth\, Barnsley\, South Yorkshire\, S72 8RL
CATEGORIES:Social Club Entertainment Night - with Bingo!
END:VEVENT
END:VCALENDAR