BEGIN:VCALENDAR
VERSION:2.0
PRODID:-//Liveonstage.Guide - ECPv6.15.17.1//NONSGML v1.0//EN
CALSCALE:GREGORIAN
METHOD:PUBLISH
X-WR-CALNAME:Liveonstage.Guide
X-ORIGINAL-URL:https://liveonstage.guide
X-WR-CALDESC:Events for Liveonstage.Guide
REFRESH-INTERVAL;VALUE=DURATION:PT1H
X-Robots-Tag:noindex
X-PUBLISHED-TTL:PT1H
BEGIN:VTIMEZONE
TZID:Europe/London
BEGIN:DAYLIGHT
TZOFFSETFROM:+0000
TZOFFSETTO:+0100
TZNAME:BST
DTSTART:20250330T010000
END:DAYLIGHT
BEGIN:STANDARD
TZOFFSETFROM:+0100
TZOFFSETTO:+0000
TZNAME:GMT
DTSTART:20251026T010000
END:STANDARD
BEGIN:DAYLIGHT
TZOFFSETFROM:+0000
TZOFFSETTO:+0100
TZNAME:BST
DTSTART:20260329T010000
END:DAYLIGHT
BEGIN:STANDARD
TZOFFSETFROM:+0100
TZOFFSETTO:+0000
TZNAME:GMT
DTSTART:20261025T010000
END:STANDARD
BEGIN:DAYLIGHT
TZOFFSETFROM:+0000
TZOFFSETTO:+0100
TZNAME:BST
DTSTART:20270328T010000
END:DAYLIGHT
BEGIN:STANDARD
TZOFFSETFROM:+0100
TZOFFSETTO:+0000
TZNAME:GMT
DTSTART:20271031T010000
END:STANDARD
END:VTIMEZONE
BEGIN:VEVENT
DTSTART;TZID=Europe/London:20260214T200000
DTEND;TZID=Europe/London:20260214T230000
DTSTAMP:20260420T173158
CREATED:20260121T015432Z
LAST-MODIFIED:20260121T031107Z
UID:3680-1771099200-1771110000@liveonstage.guide
SUMMARY:Vanquish97 at Hoyland Belmont Club\, Barnsley S74 9AH
DESCRIPTION:Popular Working Men’s Club in Hoyland\, near Barnsley offering Live Entertainment weekly on Saturday Nights\, and Sunday Afternoons. The Club serve a wide selection of reasonably priced Beers and Lagers. Visitors and New Members welcome. \nEntertainment provided through the agency of Ocean Leisure of Barnsley\nSaturday 14th February Hoyland Belmont welcome superb local band VANQUISH97 back to BELMONT.\nJoin them  for a cracking evening and share memories from when Hoyland was a top place for nights out!\nLive & free at THE BELMONT Hoyland’s Premier Live Music/Event Venue.\nVanquish97 appear at Hoyland Belmont on Saturday 14th February
URL:https://liveonstage.guide/event/vanquish97-at-hoyland-belmont-club/
LOCATION:Hoyland Belmont W. M. C.\, Off West Street\, Hoyland\, Barnsley\, South Yorkshire\, S74 9AH
CATEGORIES:Live Band on Stage
END:VEVENT
END:VCALENDAR