BEGIN:VCALENDAR
VERSION:2.0
PRODID:-//Liveonstage.Guide - ECPv6.15.17.1//NONSGML v1.0//EN
CALSCALE:GREGORIAN
METHOD:PUBLISH
X-ORIGINAL-URL:https://liveonstage.guide
X-WR-CALDESC:Events for Liveonstage.Guide
REFRESH-INTERVAL;VALUE=DURATION:PT1H
X-Robots-Tag:noindex
X-PUBLISHED-TTL:PT1H
BEGIN:VTIMEZONE
TZID:Europe/London
BEGIN:DAYLIGHT
TZOFFSETFROM:+0000
TZOFFSETTO:+0100
TZNAME:BST
DTSTART:20250330T010000
END:DAYLIGHT
BEGIN:STANDARD
TZOFFSETFROM:+0100
TZOFFSETTO:+0000
TZNAME:GMT
DTSTART:20251026T010000
END:STANDARD
BEGIN:DAYLIGHT
TZOFFSETFROM:+0000
TZOFFSETTO:+0100
TZNAME:BST
DTSTART:20260329T010000
END:DAYLIGHT
BEGIN:STANDARD
TZOFFSETFROM:+0100
TZOFFSETTO:+0000
TZNAME:GMT
DTSTART:20261025T010000
END:STANDARD
BEGIN:DAYLIGHT
TZOFFSETFROM:+0000
TZOFFSETTO:+0100
TZNAME:BST
DTSTART:20270328T010000
END:DAYLIGHT
BEGIN:STANDARD
TZOFFSETFROM:+0100
TZOFFSETTO:+0000
TZNAME:GMT
DTSTART:20271031T010000
END:STANDARD
END:VTIMEZONE
BEGIN:VEVENT
DTSTART;TZID=Europe/London:20260306T193000
DTEND;TZID=Europe/London:20260306T230000
DTSTAMP:20260420T023215
CREATED:20260113T005453Z
LAST-MODIFIED:20260113T005453Z
UID:3544-1772825400-1772838000@liveonstage.guide
SUMMARY:Open Mic Night at The Crooked Tap\, Driffield YO25 6AR
DESCRIPTION:Set right in the Centre of Driffield\, The Crooked Tap occupies an impressive building which was once the home of a Bank: \nOnce a bank\, The Crooked Tap Driffield reinvents the term over-draft.\nWith a curated beer selection of craft beers from our own brewery and other legends in the brewing world.\nWe keep our bank of booze stocked with hand-picked spirits\, wines and ciders to get you investing!\nWeekly events like Bingo\, Music\, Craft fairs and food there’s always something for you and your friends.\nThere is an Open Mic Night on the first Friday of each month\, starting from 7.30pm
URL:https://liveonstage.guide/event/open-mic-night-at-the-crooked-tap-driffield-yo25-6ar-3/
LOCATION:The Crooked Tap\, Market Place\, Driffield\, East Riding of Yorkshire\, YO25 6AR
CATEGORIES:Open Mic Night
END:VEVENT
END:VCALENDAR