BEGIN:VCALENDAR
VERSION:2.0
PRODID:-//Liveonstage.Guide - ECPv6.15.17.1//NONSGML v1.0//EN
CALSCALE:GREGORIAN
METHOD:PUBLISH
X-ORIGINAL-URL:https://liveonstage.guide
X-WR-CALDESC:Events for Liveonstage.Guide
REFRESH-INTERVAL;VALUE=DURATION:PT1H
X-Robots-Tag:noindex
X-PUBLISHED-TTL:PT1H
BEGIN:VTIMEZONE
TZID:Europe/London
BEGIN:DAYLIGHT
TZOFFSETFROM:+0000
TZOFFSETTO:+0100
TZNAME:BST
DTSTART:20250330T010000
END:DAYLIGHT
BEGIN:STANDARD
TZOFFSETFROM:+0100
TZOFFSETTO:+0000
TZNAME:GMT
DTSTART:20251026T010000
END:STANDARD
BEGIN:DAYLIGHT
TZOFFSETFROM:+0000
TZOFFSETTO:+0100
TZNAME:BST
DTSTART:20260329T010000
END:DAYLIGHT
BEGIN:STANDARD
TZOFFSETFROM:+0100
TZOFFSETTO:+0000
TZNAME:GMT
DTSTART:20261025T010000
END:STANDARD
BEGIN:DAYLIGHT
TZOFFSETFROM:+0000
TZOFFSETTO:+0100
TZNAME:BST
DTSTART:20270328T010000
END:DAYLIGHT
BEGIN:STANDARD
TZOFFSETFROM:+0100
TZOFFSETTO:+0000
TZNAME:GMT
DTSTART:20271031T010000
END:STANDARD
END:VTIMEZONE
BEGIN:VEVENT
DTSTART;TZID=Europe/London:20260210T193000
DTEND;TZID=Europe/London:20260210T223000
DTSTAMP:20260422T105346
CREATED:20260210T024628Z
LAST-MODIFIED:20260210T025930Z
UID:3848-1770751800-1770762600@liveonstage.guide
SUMMARY:All Killa\, No Filla at City Varieties\, Leeds LS1 6LW
DESCRIPTION:Leeds City Varieties is Leeds’ hidden gem\, now regarded as one of the UK’s finest venues for live Comedy\, Music\, Variety and the home of Leeds’ favourite Rock’n’ Roll Panto! \nPower (podcasting) couple Kiri Pritchard-McLean (Have I Got News for You) and Rachel Fairburn (Live at the Apollo) are bringing all you (podcast) lovers a very bloody Valentine’s edition of their smash-hit true crime comedy show All Killa No Filla – live in Leeds and with a brand new case! \nCelebrate the most sickly-sweet time of year with an appropriately morbid evening of murderous discussion between two best friends and superstar stand-ups. True love is out. True crime is in. \nNever heard All Killa No Filla before? No revision required. With your best friend\, boyfriend who doesn’t know what he’s coming to\, or on a solo pre-Valentine’s trip\, prepare to see two hilarious and outspoken comics at the top of their game. \n‘All Killa\, No Filla’ Show on Tuesday 10th February\n‘Live at Valentine’s Day’
URL:https://liveonstage.guide/event/all-killa-no-filla-at-city-varieties-leeds-ls1-6lw/
LOCATION:City Varieties Music Hall\, Swan Street\,\, Leeds\, West Yorkshire\, LS1 6LW
CATEGORIES:Comedy Show,Theatre Show
END:VEVENT
BEGIN:VEVENT
DTSTART;TZID=Europe/London:20260210T210000
DTEND;TZID=Europe/London:20260210T233000
DTSTAMP:20260422T105346
CREATED:20260206T160141Z
LAST-MODIFIED:20260206T160141Z
UID:3779-1770757200-1770766200@liveonstage.guide
SUMMARY:Acoustic Sessions at Blues Bar\, Harrogate HG1 2TJ
DESCRIPTION:The Blues Bar in Harrogate is a “Rollicking night-time Blues Music Hangout and relaxed Daytime Café and Bar with a Funky Décor” according to their web site\, and it’s difficult to improve upon that exact description. \nIt’s a small Café style venue in Harrogate Town Centre\, literally a few seconds walk from the world famous Betty’s Tea Room & Café\, with a small stage\, probably fewer than 30 seats\, but with a fantastic intimate atmosphere\, and with an exceptional program of Live Entertainment every night of the week. \nCheck for occasional variations\, but Martin Rose hosts a Jam Night every Monday and also the Acoustic Sessions every Tuesday\, the fabulous Maurice Grumbleweed presents his relaxed Blues Night every Wednesday\, with more than a touch of the humour that made him and his fellow Grumbleweeds into National Treasures\, and Guest Bands / Artistes on Thursday\, Friday\, Saturday and double or occasionally treble up Bands all day on Sunday. \n[Strongly recommended] \nTuesday 10th February is Acoustic Sessions hosted by Martin Rose \n(from 9.00pm)
URL:https://liveonstage.guide/event/acoustic-sessions-at-blues-bar-harrogate-hg1-2tj-6/
LOCATION:Blues Bar\, 4 Montpellier Parade\, Harrogate\, North Yorkshire\, HG1 2TJ
CATEGORIES:Acoustic Sessions
END:VEVENT
END:VCALENDAR