BEGIN:VCALENDAR
VERSION:2.0
PRODID:-//Liveonstage.Guide - ECPv6.15.17.1//NONSGML v1.0//EN
CALSCALE:GREGORIAN
METHOD:PUBLISH
X-ORIGINAL-URL:https://liveonstage.guide
X-WR-CALDESC:Events for Liveonstage.Guide
REFRESH-INTERVAL;VALUE=DURATION:PT1H
X-Robots-Tag:noindex
X-PUBLISHED-TTL:PT1H
BEGIN:VTIMEZONE
TZID:Europe/London
BEGIN:DAYLIGHT
TZOFFSETFROM:+0000
TZOFFSETTO:+0100
TZNAME:BST
DTSTART:20250330T010000
END:DAYLIGHT
BEGIN:STANDARD
TZOFFSETFROM:+0100
TZOFFSETTO:+0000
TZNAME:GMT
DTSTART:20251026T010000
END:STANDARD
BEGIN:DAYLIGHT
TZOFFSETFROM:+0000
TZOFFSETTO:+0100
TZNAME:BST
DTSTART:20260329T010000
END:DAYLIGHT
BEGIN:STANDARD
TZOFFSETFROM:+0100
TZOFFSETTO:+0000
TZNAME:GMT
DTSTART:20261025T010000
END:STANDARD
BEGIN:DAYLIGHT
TZOFFSETFROM:+0000
TZOFFSETTO:+0100
TZNAME:BST
DTSTART:20270328T010000
END:DAYLIGHT
BEGIN:STANDARD
TZOFFSETFROM:+0100
TZOFFSETTO:+0000
TZNAME:GMT
DTSTART:20271031T010000
END:STANDARD
END:VTIMEZONE
BEGIN:VEVENT
DTSTART;TZID=Europe/London:20260404T130000
DTEND;TZID=Europe/London:20260404T180000
DTSTAMP:20260420T075512
CREATED:20260316T144744Z
LAST-MODIFIED:20260316T144744Z
UID:4256-1775307600-1775325600@liveonstage.guide
SUMMARY:Elvis Legacy Afternoon Show at Venue23\, Wakefield WF1 1ED
DESCRIPTION:“Keeping Live Entertainment Alive in Wakefield”\nVenue 23 in Wakefield has an fabulous line-up of Live Entertainment located right in the heart of the West Yorkshire City of Wakefield. \nThe majority of Shows are Tribute Bands\, but these include some of the very best Tribute Acts in the UK. Venue23 has VIP tables available for 2\, 4 or 6 persons\, as well as affordable single Early Bird General Admission tickets. All ticket prices are subject to a booking fee\, and can be purchased via the Venue’s web page or at WWW.TicketSource.co.uk with whom we have no involvement. \nThere is a strict Age limit\, with a minimum admission age of 14 (unless otherwise stated)\, and photographic ID must be produced upon arrival\, even by  persons who are over 18\, but may look younger. Persons under the age of 18 must be accompanied by a responsible adult at all times. \nElvis Legacy appears on Afternoon of Saturday 4th April\nMark Summers presents his Tribute to The King of Rock’n’Roll with Full Live Band. Starting from 1pm.
URL:https://liveonstage.guide/event/elvis-legacy-afternoon-show-at-venue23-wakefield-wf1-1ed/
LOCATION:Venue 23\, 23 Smyth Street\, Wakefield\, West Yorkshire\, WF1 1ED
CATEGORIES:Afternoon Show,Live Band on Stage,Tribute Show
END:VEVENT
BEGIN:VEVENT
DTSTART;TZID=Europe/London:20260404T190000
DTEND;TZID=Europe/London:20260404T233000
DTSTAMP:20260420T075512
CREATED:20260316T150537Z
LAST-MODIFIED:20260316T164823Z
UID:4258-1775329200-1775345400@liveonstage.guide
SUMMARY:Triple Rock Night Tribute at Venue23\, Wakefield WF1 1ED
DESCRIPTION:“Keeping Live Entertainment Alive in Wakefield”\nVenue 23 in Wakefield has an fabulous line-up of Live Entertainment located right in the heart of the West Yorkshire City of Wakefield. \nThe majority of Shows are Tribute Bands\, but these include some of the very best Tribute Acts in the UK. Venue23 has VIP tables available for 2\, 4 or 6 persons\, as well as affordable single Early Bird General Admission tickets. All ticket prices are subject to a booking fee\, and can be purchased via the Venue’s web page or at WWW.TicketSource.co.uk with whom we have no involvement. \nThere is a strict Age limit\, with a minimum admission age of 14 (unless otherwise stated)\, and photographic ID must be produced upon arrival\, even by  persons who are over 18\, but may look younger. Persons under the age of 18 must be accompanied by a responsible adult at all times. \nTriple Header Rock Tribute on Saturday 4th April\nThe Fore Fighters (Foo Fighters)\, Not Green Day UK (Green Day) Alanish (Alanis Morissette Tribute Shows  Starting from 7pm.
URL:https://liveonstage.guide/event/triple-rock-night-tribute-at-venue23-wakefield-wf1-1ed/
LOCATION:Venue 23\, 23 Smyth Street\, Wakefield\, West Yorkshire\, WF1 1ED
CATEGORIES:Live Band on Stage,Tribute Show
END:VEVENT
BEGIN:VEVENT
DTSTART;TZID=Europe/London:20260404T200000
DTEND;TZID=Europe/London:20260404T230000
DTSTAMP:20260420T075512
CREATED:20251125T183330Z
LAST-MODIFIED:20260329T222617Z
UID:2995-1775332800-1775343600@liveonstage.guide
SUMMARY:Tony Walsh at Denison Hall Club\, Armley LS12 3LL
DESCRIPTION:Armley is a suburb of Leeds\, situated about 2 miles west of Leeds Centre\, along the A647 towards Bradford. The Denison Hall Club is actually situated on the main street right in the Centre of Armley. Although Denison Hall Club is a Member’s Club\, members of Affiliated CIU Clubs\, and Bona Fide Guests are very welcome. \n\n\n\nTop Live Entertainment is staged at Denison Hall Club  every Saturday Night\, there’s a Quiz Night in the lounge on Tuesday Evening and a Ladies Section Bingo Night each Thursday. \nEntertainment is supplied by Ricky Graham Leisure Entertainment Agency. \nTony Walsh appears on Saturday 4th April\n– billed as a ‘Superb Male Vocalist’
URL:https://liveonstage.guide/event/craig-michael-at-denison-hall-club-armley-ls12-3ll/
LOCATION:Denison Hall Club\, Town Street\, Armley\, West Yorkshire\, LS12 3LL
CATEGORIES:Social Club Entertainment Night - with Bingo!
END:VEVENT
BEGIN:VEVENT
DTSTART;TZID=Europe/London:20260404T200000
DTEND;TZID=Europe/London:20260404T230000
DTSTAMP:20260420T075512
CREATED:20260115T014903Z
LAST-MODIFIED:20260401T205554Z
UID:3560-1775332800-1775343600@liveonstage.guide
SUMMARY:Mike Gee at Jubilee Social Club\, Leeds LS6 2LZ
DESCRIPTION:The Jubilee Social Club is located in Woodhouse\, an area just to the north of Leeds City Centre\, probably best known for the Woodhouse Moor and being close to the University of Leeds. \nThe Club has been a Community Hub for many years\, and provides a great choice of Live Entertainment for it’s Members\, Affiliated CIU Members and Bona Fide Guests alike. Besides presenting Guest Artists every Saturday and Sunday Evenings\, there are sessions of Cash Bingo during the week\, together of course with  a wide choice of very reasonably priced drinks. A Function Room is for hire\, by arrangement with the Club. \nEntertainment is provided by The Ashley Wheelhouse Agency.\nThe Artist on Saturday 4th April is Mike Gee\nbilled as a ‘Top Guitar Vocalist’
URL:https://liveonstage.guide/event/rob-johnson-at-jubilee-social-club-leeds-ls6-2lz/
LOCATION:Jubilee Social Club\, Melville Place\, Woodhouse\,\, Leeds\, West Yorkshire\, LS6 2LZ
CATEGORIES:Social Club Entertainment Night - with Bingo!
END:VEVENT
BEGIN:VEVENT
DTSTART;TZID=Europe/London:20260404T200000
DTEND;TZID=Europe/London:20260404T230000
DTSTAMP:20260420T075512
CREATED:20260331T232108Z
LAST-MODIFIED:20260331T232108Z
UID:4461-1775332800-1775343600@liveonstage.guide
SUMMARY:Tony Munro at The Angler's Club\, Leeds LS9 7TB
DESCRIPTION:The Anglers Club is located in Burmantofts\, Leeds 9 just a short distance from Leeds City Centre and home to St. James’s Hospital\, referred to locally as ‘Jimmies’. Celebrities born in this area include the late Actress & Comedienne Liz Dawn (Vera from Coronation Street) and Nicola Adams the Olympic Gold Medal Boxer. \nThe Club is a good size\, and besides the Concert Room with a large Stage and Dance Floor\, it also has a Games Room with 2 Snooker Tables\, a Pool Table\, Dart Board and Wide Screen Televisions\, while for those wanting a quieter evening\, the Lounge Bar offers comfortable accommodation for up to 100 people. The Club are happy to offer Room Hire\, which is particularly popular due to it’s central location and the Large and Secure Car Park. Although a Member’s Club\, Affiliated CIU members and Bona Fide Guests are welcome\, although only Member’s Children are allowed in\, and must be under strict parental control. \nThere is Live Entertainment every  Saturday Night with Artists provided by Ashley Wheelhouse Agency\, but the Club is also well known as home to Live Country Music and Line Dancing every Monday Night. The Country Artists are supplied by The Black Cat Agency. There is a small admission price for the Country Shows (Cash only please)\, as well as a few houses of Cash Bingo. Great value and fun to watch for non-dancers! \nThere is a large\, secure Car Park\, and the Club is fairly close to the City Centre\, and several main Bus routes\, and is available for Private Parties or Room Hire. \nThe Artist on Saturday 4th April is Tony Munro\,\nbilled as a ‘Top Male Vocalist’
URL:https://liveonstage.guide/event/tony-munro-at-the-anglers-club-leeds-ls9-7tb/
LOCATION:Angler’s Club\, Leeds\, 75 Stoney Rock Lane\,\, Leeds\, West Yorkshire\, LS9 7TB
CATEGORIES:Social Club Entertainment Night - with Bingo!
END:VEVENT
BEGIN:VEVENT
DTSTART;TZID=Europe/London:20260404T200000
DTEND;TZID=Europe/London:20260404T230000
DTSTAMP:20260420T075512
CREATED:20260402T064238Z
LAST-MODIFIED:20260402T065515Z
UID:4506-1775332800-1775343600@liveonstage.guide
SUMMARY:Skyline at Bramley Band Club\, Leeds LS13 2BG
DESCRIPTION:Bramley is a suburb of Leeds about 3 miles West of Leeds City Centre\, bordered by Armley\, Stanningley\, Farsley and Kirkstall in West Yorkshire and well served by local Bus Services. It should NOT be confused with the area of the same name in South Yorkshire\, which is an hours drive away! \nBramley Band Club has long been one of the top Entertainment Venues in the area\, and is located on Snowden Lawn\, just off  Town Street. As well as reasonably priced drinks\, the Band Club also has Snooker and Pool Tables\, a Dart Board and show most Major Sports on Large Screen TV. \nThere is Prize Bingo on Thursdays\, and Live Entertainment every Friday and Saturday Nights and although Bramley Band is a Member’s Club\, members of Affiliated Clubs\, and Bona Fide Guests are welcome. \nLive Entertainment is provided through the Ashley Wheelhouse Agency.\nSkyline appear at Bramley Band on Saturday 4th April\nbilled as a ‘Top Vocal Instrumental Duo’
URL:https://liveonstage.guide/event/skyline-at-bramley-band-club-leeds-ls13-2bg/
LOCATION:Bramley Band Club\, Snowden Lawn\, off Town Street\,\, Bramley\, West Yorkshire\, LS13 2BG
CATEGORIES:Social Club Entertainment Night - with Bingo!
END:VEVENT
BEGIN:VEVENT
DTSTART;TZID=Europe/London:20260404T200000
DTEND;TZID=Europe/London:20260404T230000
DTSTAMP:20260420T075512
CREATED:20260403T214241Z
LAST-MODIFIED:20260403T214241Z
UID:4524-1775332800-1775343600@liveonstage.guide
SUMMARY:Sam Lyons at Handsworth Social Club\, Sheffield S13 9AG
DESCRIPTION:Sam Lyons at Handsworth Social Club\, Sheffield S13 9AG \nHandsworth Social Club\, Sheffield\, Sam Lyons\, Little Legs\, Comedy Show\, LiveonStage.Guide\, Gig Guide\, What’s on in Sheffield\,
URL:https://liveonstage.guide/event/sam-lyons-at-handsworth-social-club-sheffield-s13-9ag/
LOCATION:Handsworth Social Club\, 13 Hall Road\, Sheffield\, South Yorkshire\, S13 9AG
CATEGORIES:Comedy Show
END:VEVENT
BEGIN:VEVENT
DTSTART;TZID=Europe/London:20260404T200000
DTEND;TZID=Europe/London:20260404T230000
DTSTAMP:20260420T075512
CREATED:20260404T011948Z
LAST-MODIFIED:20260404T011948Z
UID:4534-1775332800-1775343600@liveonstage.guide
SUMMARY:Vinni at Elland WMC\, Elland HX5 0HT
DESCRIPTION:Elland is a Market Town in West Yorkshire\, situated south of Halifax and lies along the River Calder\, explaining it’s connection with Calderdale and The Calder Valley. In truth the name is most commonly recognised from the home Ground of The Premier Football League Team of Leeds United\, which is commonly called the Elland Road Stadium\, even though they are almost 20 miles apart! \nElland Working Men’s Club is described as a Premier Social Venue\, known for it’s friendly atmosphere and Community Activities. The quality and popularity of the Saturday Night Entertainment is such\, that priority has to be given to Members\, although new Members are always welcome. \nVinni appears on Saturday 4th April\nbilled as ‘The Ultimate Pop / Party Performer’
URL:https://liveonstage.guide/event/vinni-at-elland-wmc-elland-hx5-0ht/
LOCATION:Elland WMC\, Roseberry Street\, Elland\, West Yorkshire\, HX5 0HT
CATEGORIES:Social Club Entertainment Night - with Bingo!
END:VEVENT
END:VCALENDAR