BEGIN:VCALENDAR
VERSION:2.0
PRODID:-//Liveonstage.Guide - ECPv6.15.17.1//NONSGML v1.0//EN
CALSCALE:GREGORIAN
METHOD:PUBLISH
X-ORIGINAL-URL:https://liveonstage.guide
X-WR-CALDESC:Events for Liveonstage.Guide
REFRESH-INTERVAL;VALUE=DURATION:PT1H
X-Robots-Tag:noindex
X-PUBLISHED-TTL:PT1H
BEGIN:VTIMEZONE
TZID:Europe/London
BEGIN:DAYLIGHT
TZOFFSETFROM:+0000
TZOFFSETTO:+0100
TZNAME:BST
DTSTART:20250330T010000
END:DAYLIGHT
BEGIN:STANDARD
TZOFFSETFROM:+0100
TZOFFSETTO:+0000
TZNAME:GMT
DTSTART:20251026T010000
END:STANDARD
BEGIN:DAYLIGHT
TZOFFSETFROM:+0000
TZOFFSETTO:+0100
TZNAME:BST
DTSTART:20260329T010000
END:DAYLIGHT
BEGIN:STANDARD
TZOFFSETFROM:+0100
TZOFFSETTO:+0000
TZNAME:GMT
DTSTART:20261025T010000
END:STANDARD
BEGIN:DAYLIGHT
TZOFFSETFROM:+0000
TZOFFSETTO:+0100
TZNAME:BST
DTSTART:20270328T010000
END:DAYLIGHT
BEGIN:STANDARD
TZOFFSETFROM:+0100
TZOFFSETTO:+0000
TZNAME:GMT
DTSTART:20271031T010000
END:STANDARD
END:VTIMEZONE
BEGIN:VEVENT
DTSTART;TZID=Europe/London:20260408T200000
DTEND;TZID=Europe/London:20260408T230000
DTSTAMP:20260420T075522
CREATED:20260309T230956Z
LAST-MODIFIED:20260309T230956Z
UID:4115-1775678400-1775689200@liveonstage.guide
SUMMARY:Otley Folk Club Singer's Night at Black Horse\, Otley LS21 3AS
DESCRIPTION:Otley Folk Club meets every Wednesday evening at the Black Horse on Westgate in Otley. The Black Horse is a 2 minute walk from Otley Bus Station\, which has regular services to Leeds\, Headingley\, Menston\, Guiseley and other nearby Villages. There is a singers’ night every fortnight\, and normally a Guest Artist in the intervening weeks. \nWednesday 8th April is a Singer’s Night.
URL:https://liveonstage.guide/event/otley-folk-club-singers-night-at-black-horse-otley-ls21-3as-6/
LOCATION:Black Horse\, 16-18 High Street\,\, Skipton\, North Yorkshire\, BD23 1JZ
END:VEVENT
BEGIN:VEVENT
DTSTART;TZID=Europe/London:20260408T200000
DTEND;TZID=Europe/London:20260408T230000
DTSTAMP:20260420T075522
CREATED:20260408T032345Z
LAST-MODIFIED:20260408T032345Z
UID:4594-1775678400-1775689200@liveonstage.guide
SUMMARY:Kerry Anne at Guisborough Territorial Club\, TS14 6QH
DESCRIPTION:Guisborough is a Market Town in North Yorkshire\, lying just to the North of the North Yorkshire Moors National Park. \nGuisborough Territorial Club (often referred to as the T A Club) is located on Rectory Lane\, and shows Live Country Music every Wednesday Night. \nCountry Music Artists supplied through the Agency of Black Cat Promotions\nKerry Anne appears on Wednesday 8th April\nbilled as a ‘Popular Country Music Artist’
URL:https://liveonstage.guide/event/kerry-anne-at-guisborough-territorial-club-ts14-6qh/
LOCATION:Guisborough Territorial Club\, Rectory Lane\, Guisborough\, North Yorkshire\, TS14 6QH
CATEGORIES:Live Country Music and Line Dancing
END:VEVENT
END:VCALENDAR