BEGIN:VCALENDAR
VERSION:2.0
PRODID:-//Liveonstage.Guide - ECPv6.15.17.1//NONSGML v1.0//EN
CALSCALE:GREGORIAN
METHOD:PUBLISH
X-WR-CALNAME:Liveonstage.Guide
X-ORIGINAL-URL:https://liveonstage.guide
X-WR-CALDESC:Events for Liveonstage.Guide
REFRESH-INTERVAL;VALUE=DURATION:PT1H
X-Robots-Tag:noindex
X-PUBLISHED-TTL:PT1H
BEGIN:VTIMEZONE
TZID:Europe/London
BEGIN:DAYLIGHT
TZOFFSETFROM:+0000
TZOFFSETTO:+0100
TZNAME:BST
DTSTART:20250330T010000
END:DAYLIGHT
BEGIN:STANDARD
TZOFFSETFROM:+0100
TZOFFSETTO:+0000
TZNAME:GMT
DTSTART:20251026T010000
END:STANDARD
BEGIN:DAYLIGHT
TZOFFSETFROM:+0000
TZOFFSETTO:+0100
TZNAME:BST
DTSTART:20260329T010000
END:DAYLIGHT
BEGIN:STANDARD
TZOFFSETFROM:+0100
TZOFFSETTO:+0000
TZNAME:GMT
DTSTART:20261025T010000
END:STANDARD
BEGIN:DAYLIGHT
TZOFFSETFROM:+0000
TZOFFSETTO:+0100
TZNAME:BST
DTSTART:20270328T010000
END:DAYLIGHT
BEGIN:STANDARD
TZOFFSETFROM:+0100
TZOFFSETTO:+0000
TZNAME:GMT
DTSTART:20271031T010000
END:STANDARD
END:VTIMEZONE
BEGIN:VEVENT
DTSTART;TZID=Europe/London:20260118T170000
DTEND;TZID=Europe/London:20260118T210000
DTSTAMP:20260419T192653
CREATED:20260117T082803Z
LAST-MODIFIED:20260117T084238Z
UID:3640-1768755600-1768770000@liveonstage.guide
SUMMARY:Mike K at Hoyland Belmont W. M. C.\, Barnsley S74 9AH
DESCRIPTION:Popular Working Men’s Club in Hoyland\, near Barnsley offering Live Entertainment weekly on Saturday Nights\, and Sunday Afternoons. The Club serve a wide selection of reasonably priced Beers and Lagers. Visitors and New Members welcome. \nGuest Artist for Sunday Afternoon\, 18th January is Mike K\nbilled as a ‘Top Male Vocalist’\nEntertainment provided through the agency of Ocean Leisure of Barnsley\nMike K at Hoyland Belmont W. M. C.\, Barnsley S74 9AH \nHoyland Belmont WMC\, Barnsley\, South Yorkshire\, Sunday Afternoon\, 18th January\, Mike K\, Bingo\,
URL:https://liveonstage.guide/event/mike-k-at-hoyland-belmont-w-m-c-barnsley-s74-9ah/
LOCATION:Hoyland Belmont W. M. C.\, Off West Street\, Hoyland\, Barnsley\, South Yorkshire\, S74 9AH
CATEGORIES:Afternoon Show
END:VEVENT
BEGIN:VEVENT
DTSTART;TZID=Europe/London:20260124T210000
DTEND;TZID=Europe/London:20260124T230000
DTSTAMP:20260419T192653
CREATED:20260117T081543Z
LAST-MODIFIED:20260121T015644Z
UID:3635-1769288400-1769295600@liveonstage.guide
SUMMARY:Good Question at Hoyland Belmont W. M. C.\, Barnsley S74 9AH
DESCRIPTION:Popular Working Men’s Club in Hoyland\, near Barnsley offering Live Entertainment weekly on Saturday Nights\, and Sunday Afternoons. The Club serve a wide selection of reasonably priced Beers and Lagers. Visitors and New Members welcome. \nGuest Artist for Saturday 24th January is Good Question\nbilled as an ‘Excellent Party Duo’\nEntertainment provided through the agency of Ocean Leisure of Barnsley
URL:https://liveonstage.guide/event/good-question-at-hoyland-belmont-w-m-c-barnsley-s74-9ah/
LOCATION:Hoyland Belmont W. M. C.\, Off West Street\, Hoyland\, Barnsley\, South Yorkshire\, S74 9AH
CATEGORIES:Social Club Entertainment Night - with Bingo!
END:VEVENT
BEGIN:VEVENT
DTSTART;TZID=Europe/London:20260125T170000
DTEND;TZID=Europe/London:20260125T210000
DTSTAMP:20260419T192653
CREATED:20260117T084524Z
LAST-MODIFIED:20260117T163037Z
UID:3644-1769360400-1769374800@liveonstage.guide
SUMMARY:Stereo Love at Hoyland Belmont W. M. C.\, Barnsley S74 9AH
DESCRIPTION:Popular Working Men’s Club in Hoyland\, near Barnsley offering Live Entertainment weekly on Saturday Nights\, and Sunday Afternoons. The Club serve a wide selection of reasonably priced Beers and Lagers. Visitors and New Members welcome. \nGuest Artist for Sunday Afternoon\, 25th January is Stereo Love\nbilled as a ‘Top Boy / Girl Party Duo’\nEntertainment provided through the agency of Ocean Leisure of Barnsley\nStereo Love at Hoyland Belmont W. M. C.\, Barnsley S74 9AH \nHoyland Belmont WMC\, Barnsley\, South Yorkshire\, Sunday Afternoon\, 25th January\, Stereo Love\, Bingo\,
URL:https://liveonstage.guide/event/3644/
LOCATION:Hoyland Belmont W. M. C.\, Off West Street\, Hoyland\, Barnsley\, South Yorkshire\, S74 9AH
CATEGORIES:Afternoon Show
END:VEVENT
BEGIN:VEVENT
DTSTART;TZID=Europe/London:20260131T210000
DTEND;TZID=Europe/London:20260131T233000
DTSTAMP:20260419T192653
CREATED:20260117T082138Z
LAST-MODIFIED:20260117T082418Z
UID:3638-1769893200-1769902200@liveonstage.guide
SUMMARY:Burning Love at Hoyland Belmont W. M. C.\, Barnsley S74 9AH
DESCRIPTION:Popular Working Men’s Club in Hoyland\, near Barnsley offering Live Entertainment weekly on Saturday Nights\, and Sunday Afternoons. The Club serve a wide selection of reasonably priced Beers and Lagers. Visitors and New Members welcome. \nGuest Artist for Saturday 31st January is Burning Love\nbilled as a ‘Top Trio’\nEntertainment provided through the agency of Ocean Leisure of Barnsley
URL:https://liveonstage.guide/event/burning-love-at-hoyland-belmont-w-m-c-barnsley-s74-9ah/
LOCATION:Hoyland Belmont W. M. C.\, Off West Street\, Hoyland\, Barnsley\, South Yorkshire\, S74 9AH
END:VEVENT
END:VCALENDAR