BEGIN:VCALENDAR
VERSION:2.0
PRODID:-//Liveonstage.Guide - ECPv6.15.17.1//NONSGML v1.0//EN
CALSCALE:GREGORIAN
METHOD:PUBLISH
X-ORIGINAL-URL:https://liveonstage.guide
X-WR-CALDESC:Events for Liveonstage.Guide
REFRESH-INTERVAL;VALUE=DURATION:PT1H
X-Robots-Tag:noindex
X-PUBLISHED-TTL:PT1H
BEGIN:VTIMEZONE
TZID:Europe/London
BEGIN:DAYLIGHT
TZOFFSETFROM:+0000
TZOFFSETTO:+0100
TZNAME:BST
DTSTART:20250330T010000
END:DAYLIGHT
BEGIN:STANDARD
TZOFFSETFROM:+0100
TZOFFSETTO:+0000
TZNAME:GMT
DTSTART:20251026T010000
END:STANDARD
BEGIN:DAYLIGHT
TZOFFSETFROM:+0000
TZOFFSETTO:+0100
TZNAME:BST
DTSTART:20260329T010000
END:DAYLIGHT
BEGIN:STANDARD
TZOFFSETFROM:+0100
TZOFFSETTO:+0000
TZNAME:GMT
DTSTART:20261025T010000
END:STANDARD
BEGIN:DAYLIGHT
TZOFFSETFROM:+0000
TZOFFSETTO:+0100
TZNAME:BST
DTSTART:20270328T010000
END:DAYLIGHT
BEGIN:STANDARD
TZOFFSETFROM:+0100
TZOFFSETTO:+0000
TZNAME:GMT
DTSTART:20271031T010000
END:STANDARD
END:VTIMEZONE
BEGIN:VEVENT
DTSTART;TZID=Europe/London:20260125T170000
DTEND;TZID=Europe/London:20260125T210000
DTSTAMP:20260423T143237
CREATED:20260117T084524Z
LAST-MODIFIED:20260117T163037Z
UID:3644-1769360400-1769374800@liveonstage.guide
SUMMARY:Stereo Love at Hoyland Belmont W. M. C.\, Barnsley S74 9AH
DESCRIPTION:Popular Working Men’s Club in Hoyland\, near Barnsley offering Live Entertainment weekly on Saturday Nights\, and Sunday Afternoons. The Club serve a wide selection of reasonably priced Beers and Lagers. Visitors and New Members welcome. \nGuest Artist for Sunday Afternoon\, 25th January is Stereo Love\nbilled as a ‘Top Boy / Girl Party Duo’\nEntertainment provided through the agency of Ocean Leisure of Barnsley\nStereo Love at Hoyland Belmont W. M. C.\, Barnsley S74 9AH \nHoyland Belmont WMC\, Barnsley\, South Yorkshire\, Sunday Afternoon\, 25th January\, Stereo Love\, Bingo\,
URL:https://liveonstage.guide/event/3644/
LOCATION:Hoyland Belmont W. M. C.\, Off West Street\, Hoyland\, Barnsley\, South Yorkshire\, S74 9AH
CATEGORIES:Afternoon Show
END:VEVENT
END:VCALENDAR