BEGIN:VCALENDAR
VERSION:2.0
PRODID:-//Liveonstage.Guide - ECPv6.15.17.1//NONSGML v1.0//EN
CALSCALE:GREGORIAN
METHOD:PUBLISH
X-WR-CALNAME:Liveonstage.Guide
X-ORIGINAL-URL:https://liveonstage.guide
X-WR-CALDESC:Events for Liveonstage.Guide
REFRESH-INTERVAL;VALUE=DURATION:PT1H
X-Robots-Tag:noindex
X-PUBLISHED-TTL:PT1H
BEGIN:VTIMEZONE
TZID:Europe/London
BEGIN:DAYLIGHT
TZOFFSETFROM:+0000
TZOFFSETTO:+0100
TZNAME:BST
DTSTART:20250330T010000
END:DAYLIGHT
BEGIN:STANDARD
TZOFFSETFROM:+0100
TZOFFSETTO:+0000
TZNAME:GMT
DTSTART:20251026T010000
END:STANDARD
BEGIN:DAYLIGHT
TZOFFSETFROM:+0000
TZOFFSETTO:+0100
TZNAME:BST
DTSTART:20260329T010000
END:DAYLIGHT
BEGIN:STANDARD
TZOFFSETFROM:+0100
TZOFFSETTO:+0000
TZNAME:GMT
DTSTART:20261025T010000
END:STANDARD
BEGIN:DAYLIGHT
TZOFFSETFROM:+0000
TZOFFSETTO:+0100
TZNAME:BST
DTSTART:20270328T010000
END:DAYLIGHT
BEGIN:STANDARD
TZOFFSETFROM:+0100
TZOFFSETTO:+0000
TZNAME:GMT
DTSTART:20271031T010000
END:STANDARD
END:VTIMEZONE
BEGIN:VEVENT
DTSTART;TZID=Europe/London:20260312T193000
DTEND;TZID=Europe/London:20260312T234500
DTSTAMP:20260421T212324
CREATED:20251211T052751Z
LAST-MODIFIED:20260312T035959Z
UID:3268-1773343800-1773359100@liveonstage.guide
SUMMARY:Open Mic Night at The Pack Horse\, Leeds LS2 9DX
DESCRIPTION:The Pack Horse on Woodhouse Lane in Leeds is a Grade II listed building which has been recently renovated. Situated close to Leeds University\, it offers a wide variety of Entertainment through the week\, as well Pub Grub and a great outside area! \nThe Mos Eisley Open Mic Night every Thursday Night from 7.30pm\nAn eclectic night of Grassroots Live Music run by local Music and Well-Being Charity Cloth Cat.
URL:https://liveonstage.guide/event/open-mic-night-at-the-pack-horse-leeds-ls2-9dx/
LOCATION:The Pack Horse\, 208 Woodhouse Lane\, Leeds\, West Yorkshire\, LS2 7DX
CATEGORIES:Open Mic Night
END:VEVENT
BEGIN:VEVENT
DTSTART;TZID=Europe/London:20260314T200000
DTEND;TZID=Europe/London:20260314T230000
DTSTAMP:20260421T212324
CREATED:20260306T231105Z
LAST-MODIFIED:20260306T231349Z
UID:4025-1773518400-1773529200@liveonstage.guide
SUMMARY:Kirsty Wright at Jubilee Social Club\, Leeds LS6 2LZ
DESCRIPTION:The Jubilee Social Club is located in Woodhouse\, an area just to the north of Leeds City Centre\, probably best known for the Woodhouse Moor and being close to the University of Leeds. \nThe Club has been a Community Hub for many years\, and provides a great choice of Live Entertainment for it’s Members\, Affiliated CIU Members and Bona Fide Guests alike. Besides presenting Guest Artists every Saturday and Sunday Evenings\, there are sessions of Cash Bingo during the week\, together of course with  a wide choice of very reasonably priced drinks. \nA Function Room is for hire\, by arrangement with the Club. \nEntertainment provided through the Crossland Entertainment Agency\nThe Artist on Saturday 14th March is Kirsty Wright\nbilled as a ‘Terrific Young Female Pop Vocalist’
URL:https://liveonstage.guide/event/kirsty-wright-at-jubilee-social-club-leeds-ls6-2lz/
LOCATION:Jubilee Social Club\, Melville Place\, Woodhouse\,\, Leeds\, West Yorkshire\, LS6 2LZ
CATEGORIES:Social Club Entertainment Night - with Bingo!
END:VEVENT
BEGIN:VEVENT
DTSTART;TZID=Europe/London:20260319T193000
DTEND;TZID=Europe/London:20260319T233000
DTSTAMP:20260421T212324
CREATED:20260312T044241Z
LAST-MODIFIED:20260312T044241Z
UID:4167-1773948600-1773963000@liveonstage.guide
SUMMARY:Open Mic Night at The Pack Horse\, Leeds LS2 9DX
DESCRIPTION:The Pack Horse on Woodhouse Lane in Leeds is a Grade II listed building which has been recently renovated. Situated close to Leeds University\, it offers a wide variety of Entertainment through the week\, as well Pub Grub and a great outside area! \nThe Mos Eisley Open Mic Night every Thursday Night from 7.30pm\nAn eclectic night of Grassroots Live Music run by local Music and Well-Being Charity Cloth Cat.
URL:https://liveonstage.guide/event/open-mic-night-at-the-pack-horse-leeds-ls2-9dx-2/
LOCATION:The Pack Horse\, 208 Woodhouse Lane\, Leeds\, West Yorkshire\, LS2 7DX
CATEGORIES:Open Mic Night
END:VEVENT
BEGIN:VEVENT
DTSTART;TZID=Europe/London:20260321T200000
DTEND;TZID=Europe/London:20260321T230000
DTSTAMP:20260421T212324
CREATED:20260306T232138Z
LAST-MODIFIED:20260308T132825Z
UID:4029-1774123200-1774134000@liveonstage.guide
SUMMARY:April Louise at Jubilee Social Club\, Leeds LS6 2LZ
DESCRIPTION:The Jubilee Social Club is located in Woodhouse\, an area just to the north of Leeds City Centre\, probably best known for the Woodhouse Moor and being close to the University of Leeds. \nThe Club has been a Community Hub for many years\, and provides a great choice of Live Entertainment for it’s Members\, Affiliated CIU Members and Bona Fide Guests alike. Besides presenting Guest Artists every Saturday and Sunday Evenings\, there are sessions of Cash Bingo during the week\, together of course with  a wide choice of very reasonably priced drinks. \nA Function Room is for hire\, by arrangement with the Club. \nEntertainment provided through the Crossland Entertainment Agency\nThe Artist on Saturday 21st March is April Louise\nbilled as ‘Welcome return of this Top Act’\n 
URL:https://liveonstage.guide/event/april-louise-at-jubilee-social-club-leeds-ls6-2lz/
LOCATION:Jubilee Social Club\, Melville Place\, Woodhouse\,\, Leeds\, West Yorkshire\, LS6 2LZ
CATEGORIES:Social Club Entertainment Night - with Bingo!
END:VEVENT
BEGIN:VEVENT
DTSTART;TZID=Europe/London:20260326T193000
DTEND;TZID=Europe/London:20260326T233000
DTSTAMP:20260421T212324
CREATED:20260312T044549Z
LAST-MODIFIED:20260312T044708Z
UID:4169-1774553400-1774567800@liveonstage.guide
SUMMARY:Open Mic Night at The Pack Horse\, Leeds LS2 9DX
DESCRIPTION:The Pack Horse on Woodhouse Lane in Leeds is a Grade II listed building which has been recently renovated. Situated close to Leeds University\, it offers a wide variety of Entertainment through the week\, as well Pub Grub and a great outside area! \nThe Mos Eisley Open Mic Night every Thursday Night from 7.30pm\nAn eclectic night of Grassroots Live Music run by local Music and Well-Being Charity Cloth Cat.
URL:https://liveonstage.guide/event/open-mic-night-at-the-pack-horse-leeds-ls2-9dx-3/
LOCATION:The Pack Horse\, 208 Woodhouse Lane\, Leeds\, West Yorkshire\, LS2 7DX
CATEGORIES:Open Mic Night
END:VEVENT
BEGIN:VEVENT
DTSTART;TZID=Europe/London:20260328T200000
DTEND;TZID=Europe/London:20260328T230000
DTSTAMP:20260421T212324
CREATED:20260306T232538Z
LAST-MODIFIED:20260306T232828Z
UID:4031-1774728000-1774738800@liveonstage.guide
SUMMARY:Phil McCluskey at Jubilee Social Club\, Leeds LS6 2LZ
DESCRIPTION:The Jubilee Social Club is located in Woodhouse\, an area just to the north of Leeds City Centre\, probably best known for the Woodhouse Moor and being close to the University of Leeds. \nThe Club has been a Community Hub for many years\, and provides a great choice of Live Entertainment for it’s Members\, Affiliated CIU Members and Bona Fide Guests alike. Besides presenting Guest Artists every Saturday and Sunday Evenings\, there are sessions of Cash Bingo during the week\, together of course with  a wide choice of very reasonably priced drinks. \nA Function Room is for hire\, by arrangement with the Club. \nEntertainment provided through the Crossland Entertainment Agency\nThe Artist on Saturday 28th March is Phil McCluskey\nbilled as ‘Top Class Male Vocal Entertainer’
URL:https://liveonstage.guide/event/phil-mccluskey-at-jubilee-social-club-leeds-ls6-2lz/
LOCATION:Jubilee Social Club\, Melville Place\, Woodhouse\,\, Leeds\, West Yorkshire\, LS6 2LZ
CATEGORIES:Social Club Entertainment Night - with Bingo!
END:VEVENT
END:VCALENDAR