BEGIN:VCALENDAR
VERSION:2.0
PRODID:-//Liveonstage.Guide - ECPv6.15.17.1//NONSGML v1.0//EN
CALSCALE:GREGORIAN
METHOD:PUBLISH
X-ORIGINAL-URL:https://liveonstage.guide
X-WR-CALDESC:Events for Liveonstage.Guide
REFRESH-INTERVAL;VALUE=DURATION:PT1H
X-Robots-Tag:noindex
X-PUBLISHED-TTL:PT1H
BEGIN:VTIMEZONE
TZID:Europe/London
BEGIN:DAYLIGHT
TZOFFSETFROM:+0000
TZOFFSETTO:+0100
TZNAME:BST
DTSTART:20250330T010000
END:DAYLIGHT
BEGIN:STANDARD
TZOFFSETFROM:+0100
TZOFFSETTO:+0000
TZNAME:GMT
DTSTART:20251026T010000
END:STANDARD
BEGIN:DAYLIGHT
TZOFFSETFROM:+0000
TZOFFSETTO:+0100
TZNAME:BST
DTSTART:20260329T010000
END:DAYLIGHT
BEGIN:STANDARD
TZOFFSETFROM:+0100
TZOFFSETTO:+0000
TZNAME:GMT
DTSTART:20261025T010000
END:STANDARD
BEGIN:DAYLIGHT
TZOFFSETFROM:+0000
TZOFFSETTO:+0100
TZNAME:BST
DTSTART:20270328T010000
END:DAYLIGHT
BEGIN:STANDARD
TZOFFSETFROM:+0100
TZOFFSETTO:+0000
TZNAME:GMT
DTSTART:20271031T010000
END:STANDARD
END:VTIMEZONE
BEGIN:VEVENT
DTSTART;TZID=Europe/London:20260124T200000
DTEND;TZID=Europe/London:20260124T230000
DTSTAMP:20260419T204608
CREATED:20250308T040830Z
LAST-MODIFIED:20260116T071118Z
UID:1114-1769284800-1769295600@liveonstage.guide
SUMMARY:Tony Walsh at Rowland Road WMC\, Leeds LS11 6ED
DESCRIPTION:Rowland Road is located off the A653 (Dewsbury Road) in Beeston\, Leeds. The Club is situated quite near to Elland Road\, home of Leeds United and also close to M621 Motorway. The Working Men’s Club presents Live Entertainment every Saturday Night as well as Bingo\, Quiz and Karaoke on Sunday Afternoon from 4pm. The Club welcomes Coach Parties by arrangement and also has the Concert Room available for midweek hire. \nEntertainment is supplied by the Ashley Wheelhouse Agency.\nThe Guest Artist on Saturday 24th January is Tony Walsh\nbilled as a ‘Superb Male Vocalist’.
URL:https://liveonstage.guide/event/andy-taylor-at-rowland-road-wmc-leeds-ls11-6ed/
LOCATION:Rowland Road Working Men’s Club\, 38 Rowland Road\, Leeds\, West Yorkshire\, LS11 6ED
CATEGORIES:Social Club Entertainment Night - with Bingo!
END:VEVENT
END:VCALENDAR