BEGIN:VCALENDAR
VERSION:2.0
PRODID:-//Liveonstage.Guide - ECPv6.15.17.1//NONSGML v1.0//EN
CALSCALE:GREGORIAN
METHOD:PUBLISH
X-ORIGINAL-URL:https://liveonstage.guide
X-WR-CALDESC:Events for Liveonstage.Guide
REFRESH-INTERVAL;VALUE=DURATION:PT1H
X-Robots-Tag:noindex
X-PUBLISHED-TTL:PT1H
BEGIN:VTIMEZONE
TZID:Europe/London
BEGIN:DAYLIGHT
TZOFFSETFROM:+0000
TZOFFSETTO:+0100
TZNAME:BST
DTSTART:20250330T010000
END:DAYLIGHT
BEGIN:STANDARD
TZOFFSETFROM:+0100
TZOFFSETTO:+0000
TZNAME:GMT
DTSTART:20251026T010000
END:STANDARD
BEGIN:DAYLIGHT
TZOFFSETFROM:+0000
TZOFFSETTO:+0100
TZNAME:BST
DTSTART:20260329T010000
END:DAYLIGHT
BEGIN:STANDARD
TZOFFSETFROM:+0100
TZOFFSETTO:+0000
TZNAME:GMT
DTSTART:20261025T010000
END:STANDARD
BEGIN:DAYLIGHT
TZOFFSETFROM:+0000
TZOFFSETTO:+0100
TZNAME:BST
DTSTART:20270328T010000
END:DAYLIGHT
BEGIN:STANDARD
TZOFFSETFROM:+0100
TZOFFSETTO:+0000
TZNAME:GMT
DTSTART:20271031T010000
END:STANDARD
END:VTIMEZONE
BEGIN:VEVENT
DTSTART;TZID=Europe/London:20260425T200000
DTEND;TZID=Europe/London:20260425T230000
DTSTAMP:20260423T224837
CREATED:20260416T073209Z
LAST-MODIFIED:20260416T073209Z
UID:4688-1777147200-1777158000@liveonstage.guide
SUMMARY:The Manhattans at Barnsley Trades Council Club S70 6AA
DESCRIPTION:Located on Racecommon Road in Barnsley\, the Trades Council Club offers Live Entertainment every Saturday Evening\, with only a nominal Cover Charge on the Door. \nThe Club is also Family friendly\, with occasionally Family Nights\, Kid’s Discos and Karaoke Nights as advertised. \nEntertainment is provided through the Agency of Ocean Leisure of Barnsley\nThe Manhattans appear on Saturday 25th April\nbilled as a ‘Superb Soul & Motown Trio’\nThe Manhattans at Barnsley Trades Council Club S70 6AA \nBarnsley Trades Council Club\, Live Music\, Trades Club\, The Manhattans\, Ocean Leisure\, What’s on in Barnsley\, Gig Guide\, LiveOnStage.Guide\,
URL:https://liveonstage.guide/event/the-manhattans-at-barnsley-trades-council-club-s70-6aa/
LOCATION:Barnsley Trades Council Club\, 33 Racecommon Road\,\, Barnsley\, South Yorkshire\, S70 6AA
CATEGORIES:Live Music,Social Club Entertainment Night - with Bingo!
END:VEVENT
END:VCALENDAR