BEGIN:VCALENDAR
VERSION:2.0
PRODID:-//Liveonstage.Guide - ECPv6.15.17.1//NONSGML v1.0//EN
CALSCALE:GREGORIAN
METHOD:PUBLISH
X-WR-CALNAME:Liveonstage.Guide
X-ORIGINAL-URL:https://liveonstage.guide
X-WR-CALDESC:Events for Liveonstage.Guide
REFRESH-INTERVAL;VALUE=DURATION:PT1H
X-Robots-Tag:noindex
X-PUBLISHED-TTL:PT1H
BEGIN:VTIMEZONE
TZID:Europe/London
BEGIN:DAYLIGHT
TZOFFSETFROM:+0000
TZOFFSETTO:+0100
TZNAME:BST
DTSTART:20250330T010000
END:DAYLIGHT
BEGIN:STANDARD
TZOFFSETFROM:+0100
TZOFFSETTO:+0000
TZNAME:GMT
DTSTART:20251026T010000
END:STANDARD
BEGIN:DAYLIGHT
TZOFFSETFROM:+0000
TZOFFSETTO:+0100
TZNAME:BST
DTSTART:20260329T010000
END:DAYLIGHT
BEGIN:STANDARD
TZOFFSETFROM:+0100
TZOFFSETTO:+0000
TZNAME:GMT
DTSTART:20261025T010000
END:STANDARD
BEGIN:DAYLIGHT
TZOFFSETFROM:+0000
TZOFFSETTO:+0100
TZNAME:BST
DTSTART:20270328T010000
END:DAYLIGHT
BEGIN:STANDARD
TZOFFSETFROM:+0100
TZOFFSETTO:+0000
TZNAME:GMT
DTSTART:20271031T010000
END:STANDARD
END:VTIMEZONE
BEGIN:VEVENT
DTSTART;TZID=Europe/London:20260410T193000
DTEND;TZID=Europe/London:20260410T233000
DTSTAMP:20260420T043222
CREATED:20250123T050341Z
LAST-MODIFIED:20260406T173058Z
UID:131-1775849400-1775863800@liveonstage.guide
SUMMARY:Open Mic Night at Falcon Club\, Otley
DESCRIPTION:A friendly and welcoming Club\, just a few minutes walk from Otley Bus Station\, and with a large Car Park alongside\, which is free after 7pm. As a Member’s Club\, the drinks prices are generally lower than Pub prices\, and although non-members have to be “signed in” this should not present a problem. The Club is ideally situated for Private Functions\, and there is an Open Mic Night every Friday\, a quiz every 2nd Wednesday and a full-size Snooker Table. \nOpen Mic Night every Friday Night from 7.30pm
URL:https://liveonstage.guide/event/open-mic-night-at-falcon-club-otley/
LOCATION:Falcon Sports & Social Club\, Westgate\,\, Otley\, West Yorkshire\, LS21 3AT
CATEGORIES:Open Mic Night
END:VEVENT
END:VCALENDAR