BEGIN:VCALENDAR
VERSION:2.0
PRODID:-//Liveonstage.Guide - ECPv6.15.17.1//NONSGML v1.0//EN
CALSCALE:GREGORIAN
METHOD:PUBLISH
X-ORIGINAL-URL:https://liveonstage.guide
X-WR-CALDESC:Events for Liveonstage.Guide
REFRESH-INTERVAL;VALUE=DURATION:PT1H
X-Robots-Tag:noindex
X-PUBLISHED-TTL:PT1H
BEGIN:VTIMEZONE
TZID:Europe/London
BEGIN:DAYLIGHT
TZOFFSETFROM:+0000
TZOFFSETTO:+0100
TZNAME:BST
DTSTART:20250330T010000
END:DAYLIGHT
BEGIN:STANDARD
TZOFFSETFROM:+0100
TZOFFSETTO:+0000
TZNAME:GMT
DTSTART:20251026T010000
END:STANDARD
BEGIN:DAYLIGHT
TZOFFSETFROM:+0000
TZOFFSETTO:+0100
TZNAME:BST
DTSTART:20260329T010000
END:DAYLIGHT
BEGIN:STANDARD
TZOFFSETFROM:+0100
TZOFFSETTO:+0000
TZNAME:GMT
DTSTART:20261025T010000
END:STANDARD
BEGIN:DAYLIGHT
TZOFFSETFROM:+0000
TZOFFSETTO:+0100
TZNAME:BST
DTSTART:20270328T010000
END:DAYLIGHT
BEGIN:STANDARD
TZOFFSETFROM:+0100
TZOFFSETTO:+0000
TZNAME:GMT
DTSTART:20271031T010000
END:STANDARD
END:VTIMEZONE
BEGIN:VEVENT
DTSTART;TZID=Europe/London:20260315T200000
DTEND;TZID=Europe/London:20260315T230000
DTSTAMP:20260421T172435
CREATED:20260308T015835Z
LAST-MODIFIED:20260308T015835Z
UID:4069-1773604800-1773615600@liveonstage.guide
SUMMARY:Ant Green at Garforth W. M. C.\, Leeds LS25 1AU
DESCRIPTION:Garforth is a town within the Metropolitan Borough of Leeds in West Yorkshire. It boasts a population of about 15\,000\, is situated about 7 miles to the east of Leeds centre\, 10 miles north of Wakefield\, and 15 miles south-west of York. It is conveniently located for easy access to the M1 and M62 motorways and the A1 (Great North Road). \nGarforth Working Men’s Club was founded in 1907\, and is a Member’s Club. It is home to Garforth Tigers Junior Football Team\, and has a range of Entertainment events including Line Dancing on a Thursday\, Karaoke and Bingo on a Friday and Live Entertainment every Sunday evening. The Concert Room is available to Members for Private Functions on other days. \nAnt Green appears on Sunday 15th March\nbilled as a “Super Talented Male Vocal Entertainer”
URL:https://liveonstage.guide/event/ant-green-at-garforth-w-m-c-leeds-ls25-1au/
LOCATION:Garforth Working Men’s Club\, Barley Hill Road\, Garforth\, West Yorkshire\, LS25 1AU
CATEGORIES:Social Club Entertainment Night - with Bingo!
END:VEVENT
BEGIN:VEVENT
DTSTART;TZID=Europe/London:20260315T200000
DTEND;TZID=Europe/London:20260315T230000
DTSTAMP:20260421T172435
CREATED:20260312T230429Z
LAST-MODIFIED:20260312T230429Z
UID:4192-1773604800-1773615600@liveonstage.guide
SUMMARY:Seaside Rendezvous at Barnsley Central W. M. C.\, Kendray S70 3AL
DESCRIPTION:Barnsley Central WMC is located in Kendray\, Barnsley in South Yorkshire and have Live Entertainment every Saturday Night\, and an occasional Sunday Night\, as advertised. Karaoke is also staged on alternate Sunday afternoons from 3pm (8th & 22nd in March) Room Hire is available on certain times and dates\, but subject to £50 cash deposit. \nBooking control from Angle Entertainments\nSeaside Rendezvous appear on Sunday 15th March\nbilled as ‘Sensational Husband & Wife Comedy Duo’\nSeaside Rendezvous at Barnsley Central W. M. C.\, Kendray S70 3AL \nBarnsley Central WMC\, Kendray\, Barnsley\, Seaside Rendezvous\, Room Hire\, Karaoke\, Sunday 15th March\, Mother’s Day\,
URL:https://liveonstage.guide/event/seaside-rendezvous-at-barnsley-central-w-m-c-kendray-s70-3al/
LOCATION:Barnsley Central Working Men’s Club\, Birk Avenue\, Kendray\, Barnsley\, South Yorkshire\, S70 3AL
CATEGORIES:Social Club Entertainment Night - with Bingo!
END:VEVENT
END:VCALENDAR