BEGIN:VCALENDAR
VERSION:2.0
PRODID:-//Liveonstage.Guide - ECPv6.15.17.1//NONSGML v1.0//EN
CALSCALE:GREGORIAN
METHOD:PUBLISH
X-WR-CALNAME:Liveonstage.Guide
X-ORIGINAL-URL:https://liveonstage.guide
X-WR-CALDESC:Events for Liveonstage.Guide
REFRESH-INTERVAL;VALUE=DURATION:PT1H
X-Robots-Tag:noindex
X-PUBLISHED-TTL:PT1H
BEGIN:VTIMEZONE
TZID:Europe/London
BEGIN:DAYLIGHT
TZOFFSETFROM:+0000
TZOFFSETTO:+0100
TZNAME:BST
DTSTART:20250330T010000
END:DAYLIGHT
BEGIN:STANDARD
TZOFFSETFROM:+0100
TZOFFSETTO:+0000
TZNAME:GMT
DTSTART:20251026T010000
END:STANDARD
BEGIN:DAYLIGHT
TZOFFSETFROM:+0000
TZOFFSETTO:+0100
TZNAME:BST
DTSTART:20260329T010000
END:DAYLIGHT
BEGIN:STANDARD
TZOFFSETFROM:+0100
TZOFFSETTO:+0000
TZNAME:GMT
DTSTART:20261025T010000
END:STANDARD
BEGIN:DAYLIGHT
TZOFFSETFROM:+0000
TZOFFSETTO:+0100
TZNAME:BST
DTSTART:20270328T010000
END:DAYLIGHT
BEGIN:STANDARD
TZOFFSETFROM:+0100
TZOFFSETTO:+0000
TZNAME:GMT
DTSTART:20271031T010000
END:STANDARD
END:VTIMEZONE
BEGIN:VEVENT
DTSTART;TZID=Europe/London:20260411T200000
DTEND;TZID=Europe/London:20260411T230000
DTSTAMP:20260420T172312
CREATED:20260330T180900Z
LAST-MODIFIED:20260330T180900Z
UID:4418-1775937600-1775948400@liveonstage.guide
SUMMARY:SEB at East End Park W. M. C.\, Leeds LS9 9LX
DESCRIPTION:East End Park is an Inner City area located about 2 miles east of Leeds City centre\, just off the A64 York Road. It is bordered Burmantofts to the North West and Harehills to the North East. The Park itself dates back to Victorian Times\, but was purchased by Leeds City Council in 1886\, after it had become a wasteland.  \n\n\nEast End Park Working Men’s Club is situated on Vinery Avenue\, and presents Live Entertainment every Saturday Night with Bingo\, and besides reasonably priced drinks\, they also have Fully Disabled Facilities. Members Children only are allowed. \nEntertainment is supplied by Ricky Graham Leisure Entertainment Agency\nSEB appears on Saturday 11th April\nbilled as an ‘Excellent Male Vocalist’
URL:https://liveonstage.guide/event/seb-at-east-end-park-w-m-c-leeds-ls9-9lx/
LOCATION:East End Park W. M. C.\, Vinery Avenue\, Leeds\, West Yorkshire\, LS9 9LX
CATEGORIES:Social Club Entertainment Night - with Bingo!
END:VEVENT
END:VCALENDAR