BEGIN:VCALENDAR
VERSION:2.0
PRODID:-//Liveonstage.Guide - ECPv6.15.17.1//NONSGML v1.0//EN
CALSCALE:GREGORIAN
METHOD:PUBLISH
X-ORIGINAL-URL:https://liveonstage.guide
X-WR-CALDESC:Events for Liveonstage.Guide
REFRESH-INTERVAL;VALUE=DURATION:PT1H
X-Robots-Tag:noindex
X-PUBLISHED-TTL:PT1H
BEGIN:VTIMEZONE
TZID:Europe/London
BEGIN:DAYLIGHT
TZOFFSETFROM:+0000
TZOFFSETTO:+0100
TZNAME:BST
DTSTART:20250330T010000
END:DAYLIGHT
BEGIN:STANDARD
TZOFFSETFROM:+0100
TZOFFSETTO:+0000
TZNAME:GMT
DTSTART:20251026T010000
END:STANDARD
BEGIN:DAYLIGHT
TZOFFSETFROM:+0000
TZOFFSETTO:+0100
TZNAME:BST
DTSTART:20260329T010000
END:DAYLIGHT
BEGIN:STANDARD
TZOFFSETFROM:+0100
TZOFFSETTO:+0000
TZNAME:GMT
DTSTART:20261025T010000
END:STANDARD
BEGIN:DAYLIGHT
TZOFFSETFROM:+0000
TZOFFSETTO:+0100
TZNAME:BST
DTSTART:20270328T010000
END:DAYLIGHT
BEGIN:STANDARD
TZOFFSETFROM:+0100
TZOFFSETTO:+0000
TZNAME:GMT
DTSTART:20271031T010000
END:STANDARD
END:VTIMEZONE
BEGIN:VEVENT
DTSTART;TZID=Europe/London:20260308T201500
DTEND;TZID=Europe/London:20260308T230000
DTSTAMP:20260422T021151
CREATED:20260306T221506Z
LAST-MODIFIED:20260306T221506Z
UID:4012-1773000900-1773010800@liveonstage.guide
SUMMARY:Stacey Leadbetter at Swarcliffe W. M. C. Leeds LS14 5HE
DESCRIPTION:Swarcliffe is a residential area in Leeds 14 about 4 miles from Leeds City Centre and bordered by Seacroft\, Whinmoor and Thorner. Swarcliffe Working Men’s Club has an extensive program of Live Entertainment with shows on both Saturday and Sunday Evenings\, as well as Houses of Bingo and Open the Box. This is a Member’s Club and although Affiliated Club Members and Bona Fide Guests are welcome\, children are not allowed. \nCoach Parties are welcome by arrangement and food can be arranged upon request. \nThe Club operates a strict Dress Code\, requiring Members and Guests to wear Smart Casual Dress. \nEntertainment is provided through the Ashley Wheelhouse Agency\nThe Artist on Sunday 8th March is Stacey Leadbetter\,\nbilled as a ‘Golden Buzzer winner on Britain’s Got Talent’\n 
URL:https://liveonstage.guide/event/stacey-leadbetter-at-swarcliffe-w-m-c-leeds-ls14-5he/
LOCATION:Swarcliffe W. M. C.\,\, Swarclifffe Avenue\, Leeds\, West Yorkshire\, LS14 5HE
CATEGORIES:Social Club Entertainment Night - with Bingo!
END:VEVENT
BEGIN:VEVENT
DTSTART;TZID=Europe/London:20260315T200000
DTEND;TZID=Europe/London:20260315T230000
DTSTAMP:20260422T021151
CREATED:20260306T222456Z
LAST-MODIFIED:20260306T222704Z
UID:4014-1773604800-1773615600@liveonstage.guide
SUMMARY:Lionel at Swarcliffe W. M. C. Leeds LS14 5HE
DESCRIPTION:Swarcliffe is a residential area in Leeds 14 about 4 miles from Leeds City Centre and bordered by Seacroft\, Whinmoor and Thorner. Swarcliffe Working Men’s Club has an extensive program of Live Entertainment with shows on both Saturday and Sunday Evenings\, as well as Houses of Bingo and Open the Box. This is a Member’s Club and although Affiliated Club Members and Bona Fide Guests are welcome\, children are not allowed. \nCoach Parties are welcome by arrangement and food can be arranged upon request. \nThe Club operates a strict Dress Code\, requiring Members and Guests to wear Smart Casual Dress. \nEntertainment is provided through the Ashley Wheelhouse Agency\nThe Artist on Sunday 15th March is Lionel\,\nbilled as a ‘Great Male Vocalist’
URL:https://liveonstage.guide/event/stacey-leadbetter-at-swarcliffe-w-m-c-leeds-ls14-5he-2/
LOCATION:Swarcliffe W. M. C.\,\, Swarclifffe Avenue\, Leeds\, West Yorkshire\, LS14 5HE
CATEGORIES:Social Club Entertainment Night - with Bingo!
END:VEVENT
BEGIN:VEVENT
DTSTART;TZID=Europe/London:20260315T200000
DTEND;TZID=Europe/London:20260315T230000
DTSTAMP:20260422T021151
CREATED:20260312T234552Z
LAST-MODIFIED:20260312T235252Z
UID:4199-1773604800-1773615600@liveonstage.guide
SUMMARY:Stacey Leadbetter at Carlton Smithies Ex-Servicemen's Club\, Barnsley S71 3TA
DESCRIPTION:Carlton Smithies Ex-Servicemen’s Club (sometimes called The Haddon Road Club) is situated in Barnsley and has Live Entertainment on both Saturday and Sunday Evenings. with Bingo being played at all sessions. \nGenerally speaking there are Live Bands every Saturday Night\, and Solo\, or occasionally Duos on a Sunday Night. \nAll bookings are conducted through the current Concert Secretary – Ian Oliver. Visitors are made very welcome. \nStacey Leadbetter appears on Sunday 15th March\nbilled as a ‘Golden Buzzer winner on Britain’s Got Talent’‘\nStacey Leadbetter at Carlton Smithies Ex-Servicemen’s Club\, Barnsley S71 3TA \nCarlton Smithies Ex Servicemen’s Club\, The Haddon Road Club\, Sunday 15th March\, Live on Stage\, Stacey Leadbetter\, What’s on in Barnsley\, Gold Buzzer\, Britain Got’s Talent\, Mother’s Day\,
URL:https://liveonstage.guide/event/stacey-leadbetter-at-carlton-smithies-ex-servicemens-club-barnsley-s71-3ta/
LOCATION:Carlton Smithies Ex Servicemen’s Club\, Haddon Road\, Barnsley\, South Yorkshire\, S71 3TA
CATEGORIES:Social Club Entertainment Night - with Bingo!
END:VEVENT
END:VCALENDAR