BEGIN:VCALENDAR
VERSION:2.0
PRODID:-//Liveonstage.Guide - ECPv6.15.17.1//NONSGML v1.0//EN
CALSCALE:GREGORIAN
METHOD:PUBLISH
X-WR-CALNAME:Liveonstage.Guide
X-ORIGINAL-URL:https://liveonstage.guide
X-WR-CALDESC:Events for Liveonstage.Guide
REFRESH-INTERVAL;VALUE=DURATION:PT1H
X-Robots-Tag:noindex
X-PUBLISHED-TTL:PT1H
BEGIN:VTIMEZONE
TZID:Europe/London
BEGIN:DAYLIGHT
TZOFFSETFROM:+0000
TZOFFSETTO:+0100
TZNAME:BST
DTSTART:20240331T010000
END:DAYLIGHT
BEGIN:STANDARD
TZOFFSETFROM:+0100
TZOFFSETTO:+0000
TZNAME:GMT
DTSTART:20241027T010000
END:STANDARD
BEGIN:DAYLIGHT
TZOFFSETFROM:+0000
TZOFFSETTO:+0100
TZNAME:BST
DTSTART:20250330T010000
END:DAYLIGHT
BEGIN:STANDARD
TZOFFSETFROM:+0100
TZOFFSETTO:+0000
TZNAME:GMT
DTSTART:20251026T010000
END:STANDARD
BEGIN:DAYLIGHT
TZOFFSETFROM:+0000
TZOFFSETTO:+0100
TZNAME:BST
DTSTART:20260329T010000
END:DAYLIGHT
BEGIN:STANDARD
TZOFFSETFROM:+0100
TZOFFSETTO:+0000
TZNAME:GMT
DTSTART:20261025T010000
END:STANDARD
END:VTIMEZONE
BEGIN:VEVENT
DTSTART;TZID=Europe/London:20251220T200000
DTEND;TZID=Europe/London:20251220T230000
DTSTAMP:20260421T003043
CREATED:20251209T173327Z
LAST-MODIFIED:20251209T173327Z
UID:3221-1766260800-1766271600@liveonstage.guide
SUMMARY:Steve Andrews at Rowland Road WMC\, Leeds LS11 6ED
DESCRIPTION:Rowland Road is located off the A653 (Dewsbury Road) in Beeston\, Leeds\, quite near to Elland Road\, the home of Leeds United. The Working Men’s Club presents Live Entertainment every Saturday Night as well as Bingo\, Quiz and Karaoke through the week\, as advertised. The Club welcomes Coach Parties by arrangement and also has the Concert Room available for midweek hire. \nEntertainment is supplied by Ashley Wheelhouse Agency. \nThe Artist on Saturday 20th December is Steve Andrews\nwho is billed as a ‘Superb Male Vocalist’\nRowland Road WMC\, Leeds\, Steve Andrews\, Saturday 20th December\, Live Entertainment\, Live Music\, Beeston\, Elland Road\, Leeds United\, Club\, Venue Hire\, Functions\, Bingo\,
URL:https://liveonstage.guide/event/steve-andrews-at-rowland-road-wmc-leeds-ls11-6ed/
LOCATION:Rowland Road Working Men’s Club\, 38 Rowland Road\, Leeds\, West Yorkshire\, LS11 6ED
CATEGORIES:Musical Cabaret,Social Club Entertainment Night - with Bingo!
END:VEVENT
END:VCALENDAR