BEGIN:VCALENDAR
VERSION:2.0
PRODID:-//Liveonstage.Guide - ECPv6.15.17.1//NONSGML v1.0//EN
CALSCALE:GREGORIAN
METHOD:PUBLISH
X-WR-CALNAME:Liveonstage.Guide
X-ORIGINAL-URL:https://liveonstage.guide
X-WR-CALDESC:Events for Liveonstage.Guide
REFRESH-INTERVAL;VALUE=DURATION:PT1H
X-Robots-Tag:noindex
X-PUBLISHED-TTL:PT1H
BEGIN:VTIMEZONE
TZID:Europe/London
BEGIN:DAYLIGHT
TZOFFSETFROM:+0000
TZOFFSETTO:+0100
TZNAME:BST
DTSTART:20250330T010000
END:DAYLIGHT
BEGIN:STANDARD
TZOFFSETFROM:+0100
TZOFFSETTO:+0000
TZNAME:GMT
DTSTART:20251026T010000
END:STANDARD
BEGIN:DAYLIGHT
TZOFFSETFROM:+0000
TZOFFSETTO:+0100
TZNAME:BST
DTSTART:20260329T010000
END:DAYLIGHT
BEGIN:STANDARD
TZOFFSETFROM:+0100
TZOFFSETTO:+0000
TZNAME:GMT
DTSTART:20261025T010000
END:STANDARD
BEGIN:DAYLIGHT
TZOFFSETFROM:+0000
TZOFFSETTO:+0100
TZNAME:BST
DTSTART:20270328T010000
END:DAYLIGHT
BEGIN:STANDARD
TZOFFSETFROM:+0100
TZOFFSETTO:+0000
TZNAME:GMT
DTSTART:20271031T010000
END:STANDARD
END:VTIMEZONE
BEGIN:VEVENT
DTSTART;TZID=Europe/London:20260412T170000
DTEND;TZID=Europe/London:20260412T230000
DTSTAMP:20260422T230743
CREATED:20260412T145038Z
LAST-MODIFIED:20260412T145334Z
UID:4658-1776013200-1776034800@liveonstage.guide
SUMMARY:Janey Parker at The New Alma\, Withernsea
DESCRIPTION:Withernsea is an East Coast resort in Holderness\, located about 20 miles to the East of Hull. \nJaney Parker appears on Sunday 12th April from 5pm\nbilled as ‘Singing all your songs through the Decades’
URL:https://liveonstage.guide/event/janey-parker-at-the-new-alma-withernsea/
LOCATION:The New Alma\, Queen Street\, Wihernsea\, East Riding of Yorkshire\, HU19 2AQ
CATEGORIES:Afternoon Show
END:VEVENT
BEGIN:VEVENT
DTSTART;TZID=Europe/London:20260412T190000
DTEND;TZID=Europe/London:20260412T230000
DTSTAMP:20260422T230743
CREATED:20260403T210442Z
LAST-MODIFIED:20260403T210658Z
UID:4518-1776020400-1776034800@liveonstage.guide
SUMMARY:Johnny L at Robbies Pub\, Hull HU9 1LN
DESCRIPTION:Robbies Pub is located on Hedon Road in Hull and offers a great variety of weekend Entertainment\, including Karaoke every Saturday and Sunday and Live Entertainment every Sunday Evening from 7pm. The venue is available for Free Private Party Venue every Friday. \nJohnny L appears on Sunday\, 12th April from 7pm\,\nbilled as a ‘Top Male Vocalist’
URL:https://liveonstage.guide/event/johnny-l-at-robbies-pub-hull-hu9-1ln/
LOCATION:Robbies Pub\, 36 Hedon Road\, Hull\, East Riding of Yorkshire\, HU9 1LN
CATEGORIES:Vocalist singing Live to backing tracks.
END:VEVENT
BEGIN:VEVENT
DTSTART;TZID=Europe/London:20260412T200000
DTEND;TZID=Europe/London:20260412T230000
DTSTAMP:20260422T230743
CREATED:20251031T090849Z
LAST-MODIFIED:20260401T033012Z
UID:2647-1776024000-1776034800@liveonstage.guide
SUMMARY:Ella Monroe at Swarcliffe W. M. C.\, Leeds LS14 5HE
DESCRIPTION:Swarcliffe is a residential area in Leeds 14 about 4 miles from Leeds City Centre and bordered by Seacroft\, Whinmoor and Thorner. \nThe Swarcliffe Working Men’s Club has an extensive programme of Live Entertainment with shows on both Saturday and Sunday Evenings\, as well as Houses of Bingo and Open the Box. This is a Member’s Club and although Affiliated Club Members and Bona Fide Guests are welcome\, children are not allowed. \nCoach Parties are welcome by arrangement and food can be arranged upon request. \nThe Club operates a strict Dress Code\, requiring Members and Guests to wear Smart Casual Dress. \nEntertainment is supplied by The Ashley Wheelhouse Agency.\nElla Monroe appears on Sunday 12th April\,\nbilled as an ‘Excellent Female Vocalist’
URL:https://liveonstage.guide/event/andy-taylor-at-swarcliffe-w-m-c-leeds-ls14-5he/
LOCATION:Swarcliffe W. M. C.\,\, Swarclifffe Avenue\, Leeds\, West Yorkshire\, LS14 5HE
CATEGORIES:Musical Cabaret,Social Club Entertainment Night - with Bingo!
END:VEVENT
BEGIN:VEVENT
DTSTART;TZID=Europe/London:20260412T200000
DTEND;TZID=Europe/London:20260412T230000
DTSTAMP:20260422T230743
CREATED:20251101T051857Z
LAST-MODIFIED:20260407T051601Z
UID:2672-1776024000-1776034800@liveonstage.guide
SUMMARY:Joseph O'Brien at Garforth W. M. C.\, Leeds LS25 1AU
DESCRIPTION:Garforth is a town within the Metropolitan Borough of Leeds in West Yorkshire. It boasts a population of about 15\,000\, is situated about 7 miles to the east of Leeds centre\, 10 miles north of Wakefield\, and 15 miles south-west of York. It is conveniently located for easy access to the M1 and M62 motorways and the A1 (Great North Road). \nGarforth Working Men’s Club was founded in 1907\, and is a Member’s Club. It is home to Garforth Tigers Junior Football Team\, and has a range of Entertainment events including Line Dancing on a Thursday\, Karaoke and Bingo on a Friday and Live Entertainment every Sunday evening. The Concert Room is available to Members for Private Functions on other days. \nJoseph O’Brien appears on Sunday 12th April\nbilled as an ‘Outstanding Male Vocal Entertainer’
URL:https://liveonstage.guide/event/brogan-collins-at-garforth-w-m-c-leeds-ls25-1au/
LOCATION:Garforth Working Men’s Club\, Barley Hill Road\, Garforth\, West Yorkshire\, LS25 1AU
CATEGORIES:Musical Cabaret,Social Club Entertainment Night - with Bingo!
END:VEVENT
BEGIN:VEVENT
DTSTART;TZID=Europe/London:20260412T200000
DTEND;TZID=Europe/London:20260412T230000
DTSTAMP:20260422T230743
CREATED:20260107T045023Z
LAST-MODIFIED:20260411T182423Z
UID:3484-1776024000-1776034800@liveonstage.guide
SUMMARY:Katie Hudson at Carlton Smithies Ex-Servicemen's Club\, Barnsley S71 3TA
DESCRIPTION:Carlton Smithies Ex-Servicemen’s Club (sometimes called The Haddon Road Club) is situated in Barnsley and has Live Entertainment on both Saturday and Sunday Evenings. with Bingo being played at all sessions. Visitors are made very welcome. \nAll bookings are conducted through the current Concert Secretary – Ian Oliver. \nKatie Hudson appears on Sunday 12th April\,\nbilled as a ‘Great Vocal Entertainer‘
URL:https://liveonstage.guide/event/byron-lee-at-carlton-smithies-ex-servicemens-club-barnsley-s71-3ta/
LOCATION:Carlton Smithies Ex Servicemen’s Club\, Haddon Road\, Barnsley\, South Yorkshire\, S71 3TA
CATEGORIES:Musical Cabaret,Social Club Entertainment Night - with Bingo!
END:VEVENT
BEGIN:VEVENT
DTSTART;TZID=Europe/London:20260412T200000
DTEND;TZID=Europe/London:20260412T230000
DTSTAMP:20260422T230743
CREATED:20260330T160721Z
LAST-MODIFIED:20260330T160721Z
UID:4409-1776024000-1776034800@liveonstage.guide
SUMMARY:Tony Lee at Moortown Social Club\, Leeds LS17 5LA
DESCRIPTION:Moortown Social Club is situated at Cranmer Gardens\, Leeds 17. which is a short distance from Sainsbury’s Supermarket on the Leeds Outer Ring Road. There is Live Entertainment every Sunday Night\, normally a Solo Singer. The Club has a large Dance Floor and two tiers of seating. The entertainment is supplied through the Ricky Graham Agency\, and the Artist normally performs 2 sets of 45 minutes. There is a good sized Dance Floor in front of the stage\, although rarely are there any dancers in the first spot and generally only a few in the 2nd. \nThe first House of Bingo (the “Flyer”) starts at 8\,30pm prompt\, followed by the Artist’s 1st spot of 45 minutes. There then follows a book of 4 houses of Bingo\, and the drawing the Raffle\, followed by a further 45 minute spot by the Artist. The audience tends to be aged 35+\, with a preference to older material (60’s / 70s / 80s) yet even then it reduces dramatically after bingo – a sign of the times! \nTony Lee appears on Sunday 12th April\nbilled as a ‘Brilliant Vocal Instrumental Vocalist’
URL:https://liveonstage.guide/event/tony-lee-at-moortown-social-club-leeds-ls17-5la/
LOCATION:Moortown Social Club\, Cranmer Gardens\,\, Leeds\, West Yorkshire\, LS17 5LA
CATEGORIES:Social Club Entertainment Night - with Bingo!
END:VEVENT
BEGIN:VEVENT
DTSTART;TZID=Europe/London:20260412T200000
DTEND;TZID=Europe/London:20260412T230000
DTSTAMP:20260422T230743
CREATED:20260402T045506Z
LAST-MODIFIED:20260402T045506Z
UID:4494-1776024000-1776034800@liveonstage.guide
SUMMARY:Jon Joe at Jubilee Social Club\, Leeds LS6 2LZ
DESCRIPTION:The Jubilee Social Club is located in Woodhouse\, an area just to the north of Leeds City Centre\, probably best known for Woodhouse Moor and being close to the University of Leeds. \nThe Club is a Community Hub\, and provides a great choice of Live Entertainment for it’s Members\, Affiliated CIU Members and Bona Fide Guests alike. Besides presenting Guest Artists every Saturday and Sunday Evenings\, there are sessions of Cash Bingo during the week\, together of course with  a wide choice of very reasonably priced drinks. A Function Room is for hire\, by arrangement with the Club. \nEntertainment is provided by The Ashley Wheelhouse Agency.\nThe Artist on Sunday 12th April is Jon Joe\nbilled as a ‘Fantastic Male Vocalist’
URL:https://liveonstage.guide/event/jon-joe-at-jubilee-social-club-leeds-ls6-2lz/
LOCATION:Jubilee Social Club\, Melville Place\, Woodhouse\,\, Leeds\, West Yorkshire\, LS6 2LZ
CATEGORIES:Social Club Entertainment Night - with Bingo!
END:VEVENT
END:VCALENDAR