BEGIN:VCALENDAR
VERSION:2.0
PRODID:-//Liveonstage.Guide - ECPv6.15.17.1//NONSGML v1.0//EN
CALSCALE:GREGORIAN
METHOD:PUBLISH
X-WR-CALNAME:Liveonstage.Guide
X-ORIGINAL-URL:https://liveonstage.guide
X-WR-CALDESC:Events for Liveonstage.Guide
REFRESH-INTERVAL;VALUE=DURATION:PT1H
X-Robots-Tag:noindex
X-PUBLISHED-TTL:PT1H
BEGIN:VTIMEZONE
TZID:Europe/London
BEGIN:DAYLIGHT
TZOFFSETFROM:+0000
TZOFFSETTO:+0100
TZNAME:BST
DTSTART:20250330T010000
END:DAYLIGHT
BEGIN:STANDARD
TZOFFSETFROM:+0100
TZOFFSETTO:+0000
TZNAME:GMT
DTSTART:20251026T010000
END:STANDARD
BEGIN:DAYLIGHT
TZOFFSETFROM:+0000
TZOFFSETTO:+0100
TZNAME:BST
DTSTART:20260329T010000
END:DAYLIGHT
BEGIN:STANDARD
TZOFFSETFROM:+0100
TZOFFSETTO:+0000
TZNAME:GMT
DTSTART:20261025T010000
END:STANDARD
BEGIN:DAYLIGHT
TZOFFSETFROM:+0000
TZOFFSETTO:+0100
TZNAME:BST
DTSTART:20270328T010000
END:DAYLIGHT
BEGIN:STANDARD
TZOFFSETFROM:+0100
TZOFFSETTO:+0000
TZNAME:GMT
DTSTART:20271031T010000
END:STANDARD
END:VTIMEZONE
BEGIN:VEVENT
DTSTART;TZID=Europe/London:20260308T150000
DTEND;TZID=Europe/London:20260308T230000
DTSTAMP:20260421T130423
CREATED:20251126T153006Z
LAST-MODIFIED:20260308T135038Z
UID:3027-1772982000-1773010800@liveonstage.guide
SUMMARY:Afternoon & Evening Shows at Main Line Social Club\, Wortley\, Leeds LS13 4LS
DESCRIPTION:Main Line Social Club is situated on Pudsey Road in Wortley\, down the road from Bramley\, and close to the Leeds Outer Ring Road. They boast a great programme of entertainment on Saturday Night\, and both Sunday Afternoon and Sunday Night. It is a Member’s Club\, and only Member’s Children are allowed entry. \nEntertainment is supplied by Ricky Graham Leisure\, and typically features Duos or Groups on Saturday Nights\, and solo Artists on Sunday Afternoon (from 3pm) and Evenings. \nThe Artists appearing on Sunday 8th March are:\n3pm: Sean Finch – Top Male Vocalist\n8pm: Carl Knight – Excellent Male Vocalist
URL:https://liveonstage.guide/event/afternoon-evening-shows-at-main-line-social-club-wortley-leeds-ls13-4ls-4/
LOCATION:Main Line Social Club\, Pudsey Road\, Wortley\, Leeds\, West Yorkshire\, LS13 4LS
CATEGORIES:Afternoon Show,Social Club Entertainment Night - with Bingo!
END:VEVENT
BEGIN:VEVENT
DTSTART;TZID=Europe/London:20260308T154500
DTEND;TZID=Europe/London:20260308T193000
DTSTAMP:20260421T130423
CREATED:20260305T040400Z
LAST-MODIFIED:20260305T041541Z
UID:3972-1772984700-1772998200@liveonstage.guide
SUMMARY:Van Ray at Biggers Bar\, Worsborough\, Barnsley S70 5LJ
DESCRIPTION:Worsborough is a village  to the South of Barnsley\, Biggers Bar often referred to locally as The Miner’s Welfare\, is situated on Park Road and as well as offering Tea Time Karaoke on Friday evening\, they present Live Music every Sunday from 3.45pm. It is part of the Worsborough Sports & Development Assocition. \nVan Ray appears at 3.45pm on Sunday Afternoon\, 8th March\nbilled as Indie Singer / Songwriter\, Performer\, Dog Lover and Purveyor of High Quality Acoustic Cover Versions!
URL:https://liveonstage.guide/event/van-ray-at-biggers-bar-worsborough-barnsley-s70-5lj/
LOCATION:Biggers Bar\, Park Road\, Worsborough\, Barnsley\, South Yorkshire\, S70 5LJ
CATEGORIES:Afternoon Show
END:VEVENT
BEGIN:VEVENT
DTSTART;TZID=Europe/London:20260315T150000
DTEND;TZID=Europe/London:20260315T180000
DTSTAMP:20260421T130423
CREATED:20260308T225208Z
LAST-MODIFIED:20260309T222152Z
UID:4108-1773586800-1773597600@liveonstage.guide
SUMMARY:Open Mic Afternoon at Alexandra Hotel\, Hull HU3 2BU
DESCRIPTION:The Alexandra Hotel is located on Hessle Road in Hull\, and is a Victorian ornate Grade 2 listed building. They offer a wide selection of Real Ale\, Ciders and Perries\, and can be found in the Good Beer Guide. See our listings for details of future Live Entertainment. \nRehearsal / Practice Space for Bands may be available. \nOpen Mic Afternoon on Sunday 15th March from 3pm until 6pm\nwith Dave Bernasconi & Ben Farr\nPlease bring your own Instruments\, although Piano available. Free Drink for Performers\nOpen Mic\, Hull\, Alexandra Hotel\, Hessle Road\, Sunday Afternoon\, Piano available\, Sunday 15th March\, Mother’s Day\, \nOpen Mic Afternoon at Alexandra Hotel\, Hull HU3 2BU
URL:https://liveonstage.guide/event/open-mic-afternoon-at-alexandra-hotel-hull-hu3-2bu/
LOCATION:Alexandra Hotel\, 69 Hessle Road\, Hull\, East Yorkshire\, HU3 2BU
CATEGORIES:Afternoon Show,Open Mic
END:VEVENT
BEGIN:VEVENT
DTSTART;TZID=Europe/London:20260329T180000
DTEND;TZID=Europe/London:20260329T220000
DTSTAMP:20260421T130423
CREATED:20260328T000206Z
LAST-MODIFIED:20260328T000206Z
UID:4308-1774807200-1774821600@liveonstage.guide
SUMMARY:Totally P!nk at Butterfly Inn\, Withernsea HU19 2HB
DESCRIPTION:Described as a Beachfront Pub with Accommodation\, The Butterfly Inn is situated in the seaside resort of Withernsea\, some 16 miles or so to the East of the City of Hull. There is a varied programme of Entertainment\, including Guest Artists on Saturday Night\, and late Sunday Afternoon (from 6pm) as well as a Karaoke  & Disco Every Friday\, Saturday and Sunday. \nTotally P!nk appears on Sunday 29th March\nbilled as a Pink Tribute Show (from 6pm)\nButterfly Inn\, Withernsea\, East Yorkshire\, Sunday Afternoon\, Tribute to Pink\, Sunday 29th March\, What’s on\, Gig Guide\,
URL:https://liveonstage.guide/event/totally-pnk-at-butterfly-inn-withernsea-hu19-2hb/
LOCATION:The Butterfly Inn\, 78 Queen Street\, Withernsea\, East Riding of Yorkshire
CATEGORIES:Afternoon Show,Tribute Show
END:VEVENT
END:VCALENDAR