BEGIN:VCALENDAR
VERSION:2.0
PRODID:-//Liveonstage.Guide - ECPv6.15.17.1//NONSGML v1.0//EN
CALSCALE:GREGORIAN
METHOD:PUBLISH
X-ORIGINAL-URL:https://liveonstage.guide
X-WR-CALDESC:Events for Liveonstage.Guide
REFRESH-INTERVAL;VALUE=DURATION:PT1H
X-Robots-Tag:noindex
X-PUBLISHED-TTL:PT1H
BEGIN:VTIMEZONE
TZID:Europe/London
BEGIN:DAYLIGHT
TZOFFSETFROM:+0000
TZOFFSETTO:+0100
TZNAME:BST
DTSTART:20250330T010000
END:DAYLIGHT
BEGIN:STANDARD
TZOFFSETFROM:+0100
TZOFFSETTO:+0000
TZNAME:GMT
DTSTART:20251026T010000
END:STANDARD
BEGIN:DAYLIGHT
TZOFFSETFROM:+0000
TZOFFSETTO:+0100
TZNAME:BST
DTSTART:20260329T010000
END:DAYLIGHT
BEGIN:STANDARD
TZOFFSETFROM:+0100
TZOFFSETTO:+0000
TZNAME:GMT
DTSTART:20261025T010000
END:STANDARD
BEGIN:DAYLIGHT
TZOFFSETFROM:+0000
TZOFFSETTO:+0100
TZNAME:BST
DTSTART:20270328T010000
END:DAYLIGHT
BEGIN:STANDARD
TZOFFSETFROM:+0100
TZOFFSETTO:+0000
TZNAME:GMT
DTSTART:20271031T010000
END:STANDARD
END:VTIMEZONE
BEGIN:VEVENT
DTSTART;TZID=Europe/London:20260405T150000
DTEND;TZID=Europe/London:20260405T170000
DTSTAMP:20260421T122128
CREATED:20260328T002149Z
LAST-MODIFIED:20260328T003303Z
UID:4311-1775401200-1775408400@liveonstage.guide
SUMMARY:Mikey G at Butterfly Inn\, Withernsea HU19 2HB
DESCRIPTION:Described as a Beachfront Pub with Accommodation\, The Butterfly Inn is situated in the seaside resort of Withernsea\, some 16 miles or so to the East of the City of Hull. There is a varied programme of Entertainment\, including Guest Artists on Saturday Night\, and late Sunday Afternoon (from 6pm) as well as a Karaoke  & Disco Every Friday\, Saturday and Sunday. \nMikey G appears on Sunday 5th April\nbilled as a Top Male Vocal Entertainer (3pm – 5pm)
URL:https://liveonstage.guide/event/mikey-g-at-butterfly-inn-withernsea-hu19-2hb/
LOCATION:The Butterfly Inn\, 78 Queen Street\, Withernsea\, East Riding of Yorkshire
CATEGORIES:Afternoon Show,Vocalist singing Live to backing tracks.
END:VEVENT
BEGIN:VEVENT
DTSTART;TZID=Europe/London:20260405T160000
DTEND;TZID=Europe/London:20260405T200000
DTSTAMP:20260421T122128
CREATED:20260330T053716Z
LAST-MODIFIED:20260330T053716Z
UID:4394-1775404800-1775419200@liveonstage.guide
SUMMARY:Gerry Soulfull at The Golden Lion\, Pudsey LS28 8BL
DESCRIPTION:Pudsey is a Market Town situated midway between the West Yorkshire Cities of Leeds to the East\, and Bradford to the West. The town is home to a vibrant cultural scene\, with a wide range of events and activities taking place throughout the year\, and has a range of Pubs\, Clubs\, Restaurants and Cafes serving a variety of Local and International Food and Drink. The population of the town is a little over 30\,000 and is closely aligned to the adjacent areas of Farsley\, Stanningley\, Calverley\, Rodley\, Swinnow\, Fulneck\, Fartown and Chapeltown. The Town is also known for sharing it’s name with Pudsey Bear\, the name of the BBC Fund-raising Mascot for their Children in Need Campaigns. \nThe Golden Lion is located in Chapeltown which is a short distance to the South of Pudsey Market Place and Bus Station. It’s a popular venue for Live Music\, with Bands appearing every Saturday Night\, and Solo Artists or occasionally Duos performing from 4pm on a Sunday Afternoon. Friday Night finds DJ Fat Boy can’t Slim spinning the Decks\,  with Karaoke on request. \nGerry Soulfull appears on Sunday 5th April\nbilled as a ‘Popular Male Vocalist’
URL:https://liveonstage.guide/event/gerry-soulfull-at-the-golden-lion-pudsey-ls28-8bl/
LOCATION:The Golden Lion\, 24 Chapeltown\, Pudsey\, West Yorkshire\, LS28 8BL
CATEGORIES:Afternoon Show
END:VEVENT
END:VCALENDAR