BEGIN:VCALENDAR
VERSION:2.0
PRODID:-//Liveonstage.Guide - ECPv6.15.17.1//NONSGML v1.0//EN
CALSCALE:GREGORIAN
METHOD:PUBLISH
X-ORIGINAL-URL:https://liveonstage.guide
X-WR-CALDESC:Events for Liveonstage.Guide
REFRESH-INTERVAL;VALUE=DURATION:PT1H
X-Robots-Tag:noindex
X-PUBLISHED-TTL:PT1H
BEGIN:VTIMEZONE
TZID:Europe/London
BEGIN:DAYLIGHT
TZOFFSETFROM:+0000
TZOFFSETTO:+0100
TZNAME:BST
DTSTART:20250330T010000
END:DAYLIGHT
BEGIN:STANDARD
TZOFFSETFROM:+0100
TZOFFSETTO:+0000
TZNAME:GMT
DTSTART:20251026T010000
END:STANDARD
BEGIN:DAYLIGHT
TZOFFSETFROM:+0000
TZOFFSETTO:+0100
TZNAME:BST
DTSTART:20260329T010000
END:DAYLIGHT
BEGIN:STANDARD
TZOFFSETFROM:+0100
TZOFFSETTO:+0000
TZNAME:GMT
DTSTART:20261025T010000
END:STANDARD
BEGIN:DAYLIGHT
TZOFFSETFROM:+0000
TZOFFSETTO:+0100
TZNAME:BST
DTSTART:20270328T010000
END:DAYLIGHT
BEGIN:STANDARD
TZOFFSETFROM:+0100
TZOFFSETTO:+0000
TZNAME:GMT
DTSTART:20271031T010000
END:STANDARD
END:VTIMEZONE
BEGIN:VEVENT
DTSTART;TZID=Europe/London:20260320T200000
DTEND;TZID=Europe/London:20260320T230000
DTSTAMP:20260422T192607
CREATED:20260315T135500Z
LAST-MODIFIED:20260315T135500Z
UID:4232-1774036800-1774047600@liveonstage.guide
SUMMARY:Rachel Mills at Northfield Bar & Restaurant\, Withernsea HU19 2BT
DESCRIPTION:Northfield Bar and Restaurant is located on Waxholme Road in the East Coastal town of Withernsea. Food is served as advertised and Live Entertainment is staged every Friday and Sunday Evening. Domino Night each Thursday Evening\, other than Quiz Night which appears to be on the last Thursday of the Month. \nRachel Mills appears on 20th March\nbilled as an ‘Excellent Female Vocal Entertainer’
URL:https://liveonstage.guide/event/rachel-mills-at-northfield-bar-restaurant-withernsea-hu19-2bt/
LOCATION:Northfield Bar & Restaurant\, Waxholme Road\, Withernsea\, HU19 2BT
CATEGORIES:Social Club Entertainment Night - with Bingo!
END:VEVENT
END:VCALENDAR