BEGIN:VCALENDAR
VERSION:2.0
PRODID:-//Liveonstage.Guide - ECPv6.15.17.1//NONSGML v1.0//EN
CALSCALE:GREGORIAN
METHOD:PUBLISH
X-ORIGINAL-URL:https://liveonstage.guide
X-WR-CALDESC:Events for Liveonstage.Guide
REFRESH-INTERVAL;VALUE=DURATION:PT1H
X-Robots-Tag:noindex
X-PUBLISHED-TTL:PT1H
BEGIN:VTIMEZONE
TZID:Europe/London
BEGIN:DAYLIGHT
TZOFFSETFROM:+0000
TZOFFSETTO:+0100
TZNAME:BST
DTSTART:20250330T010000
END:DAYLIGHT
BEGIN:STANDARD
TZOFFSETFROM:+0100
TZOFFSETTO:+0000
TZNAME:GMT
DTSTART:20251026T010000
END:STANDARD
BEGIN:DAYLIGHT
TZOFFSETFROM:+0000
TZOFFSETTO:+0100
TZNAME:BST
DTSTART:20260329T010000
END:DAYLIGHT
BEGIN:STANDARD
TZOFFSETFROM:+0100
TZOFFSETTO:+0000
TZNAME:GMT
DTSTART:20261025T010000
END:STANDARD
BEGIN:DAYLIGHT
TZOFFSETFROM:+0000
TZOFFSETTO:+0100
TZNAME:BST
DTSTART:20270328T010000
END:DAYLIGHT
BEGIN:STANDARD
TZOFFSETFROM:+0100
TZOFFSETTO:+0000
TZNAME:GMT
DTSTART:20271031T010000
END:STANDARD
END:VTIMEZONE
BEGIN:VEVENT
DTSTART;TZID=Europe/London:20260321T193000
DTEND;TZID=Europe/London:20260321T223000
DTSTAMP:20260422T032230
CREATED:20260312T211703Z
LAST-MODIFIED:20260312T212351Z
UID:4182-1774121400-1774132200@liveonstage.guide
SUMMARY:The Illegal Eagles at Bradford Live\, BD1 2EP
DESCRIPTION:Bradford Live is a near 4\,000 capacity Entertainment Venue in the centre of the West Yorkshire city of Bradford. Formerly known as the Art Deco style Odeon Cinema\, it was one of the countries biggest Cinemas when built in 1930. However it was completely redeveloped at a reported cost of £50 million and reopened as Bradford Live in 2025. It now plays host to an exiting mix of Live Music\, Theatre\, Comedy\, Family Shows and Cultural Events throughout the year. \nThe Illegal Eagles appear on Saturday 21st March\nan Evening of Nostalgia and Musical Magic from Eagles Tribute Show\nCelebrating 30 years on the road with their Hotel California Tour.\nThe Illegal Eagles at Bradford Live\, BD1 2EP \nThe Illegal Eagles\, Bradford Live\, Saturday 21st March\, Hotel California Tour\, Live on Stage\, What’s on in Bradford\, Gig Guide\,
URL:https://liveonstage.guide/event/the-illegal-eagles-at-bradford-live-bd1-2ep/
LOCATION:Bradford Live\, 1 Thornton Road\, Bradford\, West Yorkshire\, BD1 2EP
CATEGORIES:Live Band on Stage,Tribute Show
END:VEVENT
END:VCALENDAR