BEGIN:VCALENDAR
VERSION:2.0
PRODID:-//Liveonstage.Guide - ECPv6.15.17.1//NONSGML v1.0//EN
CALSCALE:GREGORIAN
METHOD:PUBLISH
X-WR-CALNAME:Liveonstage.Guide
X-ORIGINAL-URL:https://liveonstage.guide
X-WR-CALDESC:Events for Liveonstage.Guide
REFRESH-INTERVAL;VALUE=DURATION:PT1H
X-Robots-Tag:noindex
X-PUBLISHED-TTL:PT1H
BEGIN:VTIMEZONE
TZID:Europe/London
BEGIN:DAYLIGHT
TZOFFSETFROM:+0000
TZOFFSETTO:+0100
TZNAME:BST
DTSTART:20250330T010000
END:DAYLIGHT
BEGIN:STANDARD
TZOFFSETFROM:+0100
TZOFFSETTO:+0000
TZNAME:GMT
DTSTART:20251026T010000
END:STANDARD
BEGIN:DAYLIGHT
TZOFFSETFROM:+0000
TZOFFSETTO:+0100
TZNAME:BST
DTSTART:20260329T010000
END:DAYLIGHT
BEGIN:STANDARD
TZOFFSETFROM:+0100
TZOFFSETTO:+0000
TZNAME:GMT
DTSTART:20261025T010000
END:STANDARD
BEGIN:DAYLIGHT
TZOFFSETFROM:+0000
TZOFFSETTO:+0100
TZNAME:BST
DTSTART:20270328T010000
END:DAYLIGHT
BEGIN:STANDARD
TZOFFSETFROM:+0100
TZOFFSETTO:+0000
TZNAME:GMT
DTSTART:20271031T010000
END:STANDARD
END:VTIMEZONE
BEGIN:VEVENT
DTSTART;TZID=Europe/London:20260321T193000
DTEND;TZID=Europe/London:20260321T223000
DTSTAMP:20260424T233730
CREATED:20260317T223116Z
LAST-MODIFIED:20260317T223116Z
UID:4271-1774121400-1774132200@liveonstage.guide
SUMMARY:Abba Sensation at Otley Courthouse LS21 3AN
DESCRIPTION:Otley Courthouse is a Arts and Resource Centre founded and run by and for the people of Otley in West Yorkshire. It’s home is the 19th Century Magistrates Court\, Police Station & Superintendent’s House which were transformed over an 8 year period before it opened its doors in its current form in 2004. It is a Community Hub where people can experience Live Events\, learn new skills\, connect with the local culture\, or maybe join as a Volunteer or Friend of the Courthouse\, meeting other people and improving their social connections. A lot of the heritage of the building is still visible: including the holes where prison bars used to be in the doorways\, the Visitor Gallery in the former Courtroom\, and the Heritage prison cell and corridor\, which still looks as it did during Victorian Times. \nIn addition to the main auditorium (the Courtroom)\, there are ten tenanted studios/rooms\, a Meeting Room and a Maker Space which function on a Membership basis and is also the home of The Wharfedale Men’s Shed. \nThe Courthouse hosts a variety of events throughout the year\, including Film screenings\, Live Music\, Theatre\, Comedy\, Art Exhibitions and Creative Workshops. There are also a variety of local creatives who run weekly classes and workshops from the centre. The Café is open 6 days a week (10am until 2pm)\, serving Teas\, Coffee and Snacks. A large Pay & Display Car Park is just a few yards away on Courthouse Street. \nAbba Sensation appear on Saturday 21st March\nConsidered by some to be the Best Abba Tribute Act.
URL:https://liveonstage.guide/event/abba-sensation-at-otley-courthouse-ls21-3an/
LOCATION:Otley Courthouse\, Courthouse Lane\, Otley\, West Yorkshire\, LS21
CATEGORIES:Musical Cabaret,Tribute Show
END:VEVENT
END:VCALENDAR