BEGIN:VCALENDAR
VERSION:2.0
PRODID:-//Liveonstage.Guide - ECPv6.15.17.1//NONSGML v1.0//EN
CALSCALE:GREGORIAN
METHOD:PUBLISH
X-ORIGINAL-URL:https://liveonstage.guide
X-WR-CALDESC:Events for Liveonstage.Guide
REFRESH-INTERVAL;VALUE=DURATION:PT1H
X-Robots-Tag:noindex
X-PUBLISHED-TTL:PT1H
BEGIN:VTIMEZONE
TZID:Europe/London
BEGIN:DAYLIGHT
TZOFFSETFROM:+0000
TZOFFSETTO:+0100
TZNAME:BST
DTSTART:20250330T010000
END:DAYLIGHT
BEGIN:STANDARD
TZOFFSETFROM:+0100
TZOFFSETTO:+0000
TZNAME:GMT
DTSTART:20251026T010000
END:STANDARD
BEGIN:DAYLIGHT
TZOFFSETFROM:+0000
TZOFFSETTO:+0100
TZNAME:BST
DTSTART:20260329T010000
END:DAYLIGHT
BEGIN:STANDARD
TZOFFSETFROM:+0100
TZOFFSETTO:+0000
TZNAME:GMT
DTSTART:20261025T010000
END:STANDARD
BEGIN:DAYLIGHT
TZOFFSETFROM:+0000
TZOFFSETTO:+0100
TZNAME:BST
DTSTART:20270328T010000
END:DAYLIGHT
BEGIN:STANDARD
TZOFFSETFROM:+0100
TZOFFSETTO:+0000
TZNAME:GMT
DTSTART:20271031T010000
END:STANDARD
END:VTIMEZONE
BEGIN:VEVENT
DTSTART;TZID=Europe/London:20260418T200000
DTEND;TZID=Europe/London:20260418T230000
DTSTAMP:20260421T114430
CREATED:20260411T180430Z
LAST-MODIFIED:20260411T180430Z
UID:4642-1776542400-1776553200@liveonstage.guide
SUMMARY:Jones & Junior at Carlton Smithies Ex-Servicemen's Club\, Barnsley S71 3TA
DESCRIPTION:Carlton Smithies Ex-Servicemen’s Club (sometimes called The Haddon Road Club) is situated in Barnsley and has Live Entertainment on both Saturday and Sunday Evenings. with Bingo being played at all sessions. Visitors are made very welcome. \nAll bookings are conducted through the current Concert Secretary – Ian Oliver. \nJones & Junior appear on Saturday 18th April\,\nbilled as a ‘Brilliant Duo‘
URL:https://liveonstage.guide/event/jones-junior-at-carlton-smithies-ex-servicemens-club-barnsley-s71-3ta/
LOCATION:Carlton Smithies Ex Servicemen’s Club\, Haddon Road\, Barnsley\, South Yorkshire\, S71 3TA
CATEGORIES:Social Club Entertainment Night - with Bingo!
END:VEVENT
BEGIN:VEVENT
DTSTART;TZID=Europe/London:20260418T210000
DTEND;TZID=Europe/London:20260418T233000
DTSTAMP:20260421T114430
CREATED:20260117T080525Z
LAST-MODIFIED:20260412T185648Z
UID:3632-1776546000-1776555000@liveonstage.guide
SUMMARY:Armada at Hoyland Belmont W. M. C.\, Barnsley S74 9AH
DESCRIPTION:Popular Working Men’s Club in Hoyland\, near Barnsley offering Live Entertainment weekly on Saturday Nights\, and Sunday Afternoons. The Club serve a wide selection of reasonably priced Beers and Lagers. Visitors and New Members welcome. \nEntertainment provided through the agency of Ocean Leisure of Barnsley\nArmada appear on Saturday 18th April\nfrom 9.15pm – billed as an ‘ALL LIVE 5 piece Band’\nArmada at Hoyland Belmont W. M. C.\, Barnsley S74 9AH \nArmada\, Hoyland Belmont Club\, Saturday 18th April\, Barnsley\, South Yorkshire\, What’s on\, Gig Guide\, LiveOnStage.Guide\, Live Band\,
URL:https://liveonstage.guide/event/suzie-and-the-suit-at-hoyland-belmont-w-m-c-barnsley-s74-9ah/
LOCATION:Hoyland Belmont W. M. C.\, Off West Street\, Hoyland\, Barnsley\, South Yorkshire\, S74 9AH
CATEGORIES:Live Band on Stage,Social Club Entertainment Night - with Bingo!
END:VEVENT
END:VCALENDAR